BEGIN:VCALENDAR
VERSION:2.0
PRODID:-//Universität Innsbruck//LFU:online//DE
METHOD:PUBLISH
BEGIN:VEVENT
UID:18W_603902_3237246@uibk.ac.at
ORGANIZER;CN="LFU:online Universität Innsbruck":MAILTO:Uni-Innsbruck-noreply@uibk.ac.at
SUMMARY:Forschungsseminar (LV 603902-0 18W)
DESCRIPTION:Lehrveranstaltung 603902 18W, Gruppe 0\nTitel: Forschungsseminar\nOrt: BR Liebeneggstraße \n\nhttps://lfuonline.uibk.ac.at/public/lfuonline_lv.details?sem_id_in=18W&lvnr_id_in=603902\n
CLASS:PUBLIC
DTSTART:20181023T150000Z
DTEND:20181023T163000Z
DTSTAMP:20260423T045532Z
LOCATION:BR Liebeneggstraße 
END:VEVENT
BEGIN:VEVENT
UID:18W_603902_3271881@uibk.ac.at
ORGANIZER;CN="LFU:online Universität Innsbruck":MAILTO:Uni-Innsbruck-noreply@uibk.ac.at
SUMMARY:Forschungsseminar (LV 603902-0 18W)
DESCRIPTION:Lehrveranstaltung 603902 18W, Gruppe 0\nTitel: Forschungsseminar\nOrt: DZ Erz.wiss.\n\nhttps://lfuonline.uibk.ac.at/public/lfuonline_lv.details?sem_id_in=18W&lvnr_id_in=603902\n
CLASS:PUBLIC
DTSTART:20181030T160000Z
DTEND:20181030T173000Z
DTSTAMP:20260423T045532Z
LOCATION:DZ Erz.wiss.
COMMENT:(Yildiz)
END:VEVENT
BEGIN:VEVENT
UID:18W_603902_3271846@uibk.ac.at
ORGANIZER;CN="LFU:online Universität Innsbruck":MAILTO:Uni-Innsbruck-noreply@uibk.ac.at
SUMMARY:Forschungsseminar (LV 603902-0 18W)
DESCRIPTION:Lehrveranstaltung 603902 18W, Gruppe 0\nTitel: Forschungsseminar\nOrt: BR Liebeneggstraße \n\nhttps://lfuonline.uibk.ac.at/public/lfuonline_lv.details?sem_id_in=18W&lvnr_id_in=603902\n
CLASS:PUBLIC
DTSTART:20181127T160000Z
DTEND:20181127T173000Z
DTSTAMP:20260423T045532Z
LOCATION:BR Liebeneggstraße 
COMMENT:(Pfahl)
END:VEVENT
BEGIN:VEVENT
UID:18W_603902_3271847@uibk.ac.at
ORGANIZER;CN="LFU:online Universität Innsbruck":MAILTO:Uni-Innsbruck-noreply@uibk.ac.at
SUMMARY:Forschungsseminar (LV 603902-0 18W)
DESCRIPTION:Lehrveranstaltung 603902 18W, Gruppe 0\nTitel: Forschungsseminar\nOrt: BR Liebeneggstraße \n\nhttps://lfuonline.uibk.ac.at/public/lfuonline_lv.details?sem_id_in=18W&lvnr_id_in=603902\n
CLASS:PUBLIC
DTSTART:20181211T160000Z
DTEND:20181211T173000Z
DTSTAMP:20260423T045532Z
LOCATION:BR Liebeneggstraße 
COMMENT:(Ralser)
END:VEVENT
BEGIN:VEVENT
UID:18W_603902_3271878@uibk.ac.at
ORGANIZER;CN="LFU:online Universität Innsbruck":MAILTO:Uni-Innsbruck-noreply@uibk.ac.at
SUMMARY:Forschungsseminar (LV 603902-0 18W)
DESCRIPTION:Lehrveranstaltung 603902 18W, Gruppe 0\nTitel: Forschungsseminar\nOrt: BR Liebeneggstraße \n\nhttps://lfuonline.uibk.ac.at/public/lfuonline_lv.details?sem_id_in=18W&lvnr_id_in=603902\n
CLASS:PUBLIC
DTSTART:20190108T160000Z
DTEND:20190108T173000Z
DTSTAMP:20260423T045532Z
LOCATION:BR Liebeneggstraße 
COMMENT:(Berger)
END:VEVENT
BEGIN:VEVENT
UID:18W_603902_3271879@uibk.ac.at
ORGANIZER;CN="LFU:online Universität Innsbruck":MAILTO:Uni-Innsbruck-noreply@uibk.ac.at
SUMMARY:Forschungsseminar (LV 603902-0 18W)
DESCRIPTION:Lehrveranstaltung 603902 18W, Gruppe 0\nTitel: Forschungsseminar\nOrt: BR Liebeneggstraße \n\nhttps://lfuonline.uibk.ac.at/public/lfuonline_lv.details?sem_id_in=18W&lvnr_id_in=603902\n
CLASS:PUBLIC
DTSTART:20190115T160000Z
DTEND:20190115T210000Z
DTSTAMP:20260423T045532Z
LOCATION:BR Liebeneggstraße 
COMMENT:(Berger, Pfahl, Ralser, Yildiz)
END:VEVENT
BEGIN:VEVENT
UID:18W_603902_3271880@uibk.ac.at
ORGANIZER;CN="LFU:online Universität Innsbruck":MAILTO:Uni-Innsbruck-noreply@uibk.ac.at
SUMMARY:Forschungsseminar (LV 603902-0 18W)
DESCRIPTION:Lehrveranstaltung 603902 18W, Gruppe 0\nTitel: Forschungsseminar\nOrt: BR Liebeneggstraße \n\nhttps://lfuonline.uibk.ac.at/public/lfuonline_lv.details?sem_id_in=18W&lvnr_id_in=603902\n
CLASS:PUBLIC
DTSTART:20190305T140000Z
DTEND:20190305T190000Z
DTSTAMP:20260423T045532Z
LOCATION:BR Liebeneggstraße 
COMMENT:(Berger, Pfahl, Ralser, Yildiz)
END:VEVENT
END:VCALENDAR