BEGIN:VCALENDAR
VERSION:2.0
PRODID:-//Universität Innsbruck//LFU:online//DE
METHOD:PUBLISH
BEGIN:VEVENT
UID:20W_608101_3624049@uibk.ac.at
ORGANIZER;CN="LFU:online Universität Innsbruck":MAILTO:Uni-Innsbruck-noreply@uibk.ac.at
SUMMARY:VO Überblick  germanistische Sprachwissenschaft (LV 608101-0 20W)
DESCRIPTION:Lehrveranstaltung 608101 20W, Gruppe 0\nTitel: VO Überblick  germanistische Sprachwissenschaft\nOrt: Hörsaal 5\n\nhttps://lfuonline.uibk.ac.at/public/lfuonline_lv.details?sem_id_in=20W&lvnr_id_in=608101\n
CLASS:PUBLIC
DTSTART:20201008T114500Z
DTEND:20201008T131500Z
DTSTAMP:20260420T113528Z
LOCATION:Hörsaal 5
COMMENT:Präsenztermin
END:VEVENT
BEGIN:VEVENT
UID:20W_608101_3624050@uibk.ac.at
ORGANIZER;CN="LFU:online Universität Innsbruck":MAILTO:Uni-Innsbruck-noreply@uibk.ac.at
SUMMARY:VO Überblick  germanistische Sprachwissenschaft (LV 608101-0 20W)
DESCRIPTION:Lehrveranstaltung 608101 20W, Gruppe 0\nTitel: VO Überblick  germanistische Sprachwissenschaft\nOrt: Hörsaal 5\n\nhttps://lfuonline.uibk.ac.at/public/lfuonline_lv.details?sem_id_in=20W&lvnr_id_in=608101\n
CLASS:PUBLIC
DTSTART:20201015T114500Z
DTEND:20201015T131500Z
DTSTAMP:20260420T113528Z
LOCATION:Hörsaal 5
COMMENT:Präsenztermin
END:VEVENT
BEGIN:VEVENT
UID:20W_608101_3624051@uibk.ac.at
ORGANIZER;CN="LFU:online Universität Innsbruck":MAILTO:Uni-Innsbruck-noreply@uibk.ac.at
SUMMARY:VO Überblick  germanistische Sprachwissenschaft (LV 608101-0 20W)
DESCRIPTION:Lehrveranstaltung 608101 20W, Gruppe 0\nTitel: VO Überblick  germanistische Sprachwissenschaft\nOrt: Hörsaal 5\n\nhttps://lfuonline.uibk.ac.at/public/lfuonline_lv.details?sem_id_in=20W&lvnr_id_in=608101\n
CLASS:PUBLIC
DTSTART:20201022T114500Z
DTEND:20201022T131500Z
DTSTAMP:20260420T113528Z
LOCATION:Hörsaal 5
COMMENT:Präsenztermin
END:VEVENT
BEGIN:VEVENT
UID:20W_608101_3624052@uibk.ac.at
ORGANIZER;CN="LFU:online Universität Innsbruck":MAILTO:Uni-Innsbruck-noreply@uibk.ac.at
SUMMARY:VO Überblick  germanistische Sprachwissenschaft (LV 608101-0 20W)
DESCRIPTION:Lehrveranstaltung 608101 20W, Gruppe 0\nTitel: VO Überblick  germanistische Sprachwissenschaft\nOrt: Hörsaal 5\n\nhttps://lfuonline.uibk.ac.at/public/lfuonline_lv.details?sem_id_in=20W&lvnr_id_in=608101\n
CLASS:PUBLIC
DTSTART:20201029T124500Z
DTEND:20201029T141500Z
DTSTAMP:20260420T113528Z
LOCATION:Hörsaal 5
COMMENT:Präsenztermin
END:VEVENT
BEGIN:VEVENT
UID:20W_608101_3624053@uibk.ac.at
ORGANIZER;CN="LFU:online Universität Innsbruck":MAILTO:Uni-Innsbruck-noreply@uibk.ac.at
SUMMARY:VO Überblick  germanistische Sprachwissenschaft (LV 608101-0 20W)
DESCRIPTION:Lehrveranstaltung 608101 20W, Gruppe 0\nTitel: VO Überblick  germanistische Sprachwissenschaft\nOrt: Hörsaal 5\n\nhttps://lfuonline.uibk.ac.at/public/lfuonline_lv.details?sem_id_in=20W&lvnr_id_in=608101\n
CLASS:PUBLIC
DTSTART:20201105T124500Z
DTEND:20201105T141500Z
DTSTAMP:20260420T113528Z
LOCATION:Hörsaal 5
COMMENT:Präsenztermin
END:VEVENT
BEGIN:VEVENT
UID:20W_608101_3624054@uibk.ac.at
ORGANIZER;CN="LFU:online Universität Innsbruck":MAILTO:Uni-Innsbruck-noreply@uibk.ac.at
SUMMARY:VO Überblick  germanistische Sprachwissenschaft (LV 608101-0 20W)
DESCRIPTION:Lehrveranstaltung 608101 20W, Gruppe 0\nTitel: VO Überblick  germanistische Sprachwissenschaft\nOrt: eLecture - online\n\nhttps://lfuonline.uibk.ac.at/public/lfuonline_lv.details?sem_id_in=20W&lvnr_id_in=608101\n
CLASS:PUBLIC
DTSTART:20201112T124500Z
DTEND:20201112T141500Z
DTSTAMP:20260420T113528Z
LOCATION:eLecture - online
END:VEVENT
BEGIN:VEVENT
UID:20W_608101_3624055@uibk.ac.at
ORGANIZER;CN="LFU:online Universität Innsbruck":MAILTO:Uni-Innsbruck-noreply@uibk.ac.at
SUMMARY:VO Überblick  germanistische Sprachwissenschaft (LV 608101-0 20W)
DESCRIPTION:Lehrveranstaltung 608101 20W, Gruppe 0\nTitel: VO Überblick  germanistische Sprachwissenschaft\nOrt: eLecture - online\n\nhttps://lfuonline.uibk.ac.at/public/lfuonline_lv.details?sem_id_in=20W&lvnr_id_in=608101\n
CLASS:PUBLIC
DTSTART:20201119T124500Z
DTEND:20201119T141500Z
DTSTAMP:20260420T113528Z
LOCATION:eLecture - online
END:VEVENT
BEGIN:VEVENT
UID:20W_608101_3624056@uibk.ac.at
ORGANIZER;CN="LFU:online Universität Innsbruck":MAILTO:Uni-Innsbruck-noreply@uibk.ac.at
SUMMARY:VO Überblick  germanistische Sprachwissenschaft (LV 608101-0 20W)
DESCRIPTION:Lehrveranstaltung 608101 20W, Gruppe 0\nTitel: VO Überblick  germanistische Sprachwissenschaft\nOrt: eLecture - online\n\nhttps://lfuonline.uibk.ac.at/public/lfuonline_lv.details?sem_id_in=20W&lvnr_id_in=608101\n
CLASS:PUBLIC
DTSTART:20201126T124500Z
DTEND:20201126T141500Z
DTSTAMP:20260420T113528Z
LOCATION:eLecture - online
END:VEVENT
BEGIN:VEVENT
UID:20W_608101_3624057@uibk.ac.at
ORGANIZER;CN="LFU:online Universität Innsbruck":MAILTO:Uni-Innsbruck-noreply@uibk.ac.at
SUMMARY:VO Überblick  germanistische Sprachwissenschaft (LV 608101-0 20W)
DESCRIPTION:Lehrveranstaltung 608101 20W, Gruppe 0\nTitel: VO Überblick  germanistische Sprachwissenschaft\nOrt: eLecture - online\n\nhttps://lfuonline.uibk.ac.at/public/lfuonline_lv.details?sem_id_in=20W&lvnr_id_in=608101\n
CLASS:PUBLIC
DTSTART:20201203T124500Z
DTEND:20201203T141500Z
DTSTAMP:20260420T113528Z
LOCATION:eLecture - online
END:VEVENT
BEGIN:VEVENT
UID:20W_608101_3624058@uibk.ac.at
ORGANIZER;CN="LFU:online Universität Innsbruck":MAILTO:Uni-Innsbruck-noreply@uibk.ac.at
SUMMARY:VO Überblick  germanistische Sprachwissenschaft (LV 608101-0 20W)
DESCRIPTION:Lehrveranstaltung 608101 20W, Gruppe 0\nTitel: VO Überblick  germanistische Sprachwissenschaft\nOrt: eLecture - online\n\nhttps://lfuonline.uibk.ac.at/public/lfuonline_lv.details?sem_id_in=20W&lvnr_id_in=608101\n
CLASS:PUBLIC
DTSTART:20201210T124500Z
DTEND:20201210T141500Z
DTSTAMP:20260420T113528Z
LOCATION:eLecture - online
END:VEVENT
BEGIN:VEVENT
UID:20W_608101_3624059@uibk.ac.at
ORGANIZER;CN="LFU:online Universität Innsbruck":MAILTO:Uni-Innsbruck-noreply@uibk.ac.at
SUMMARY:VO Überblick  germanistische Sprachwissenschaft (LV 608101-0 20W)
DESCRIPTION:Lehrveranstaltung 608101 20W, Gruppe 0\nTitel: VO Überblick  germanistische Sprachwissenschaft\nOrt: eLecture - online\n\nhttps://lfuonline.uibk.ac.at/public/lfuonline_lv.details?sem_id_in=20W&lvnr_id_in=608101\n
CLASS:PUBLIC
DTSTART:20201217T124500Z
DTEND:20201217T141500Z
DTSTAMP:20260420T113528Z
LOCATION:eLecture - online
END:VEVENT
BEGIN:VEVENT
UID:20W_608101_3624060@uibk.ac.at
ORGANIZER;CN="LFU:online Universität Innsbruck":MAILTO:Uni-Innsbruck-noreply@uibk.ac.at
SUMMARY:VO Überblick  germanistische Sprachwissenschaft (LV 608101-0 20W)
DESCRIPTION:Lehrveranstaltung 608101 20W, Gruppe 0\nTitel: VO Überblick  germanistische Sprachwissenschaft\nOrt: eLecture - online\n\nhttps://lfuonline.uibk.ac.at/public/lfuonline_lv.details?sem_id_in=20W&lvnr_id_in=608101\n
CLASS:PUBLIC
DTSTART:20210107T124500Z
DTEND:20210107T141500Z
DTSTAMP:20260420T113528Z
LOCATION:eLecture - online
END:VEVENT
BEGIN:VEVENT
UID:20W_608101_3624061@uibk.ac.at
ORGANIZER;CN="LFU:online Universität Innsbruck":MAILTO:Uni-Innsbruck-noreply@uibk.ac.at
SUMMARY:VO Überblick  germanistische Sprachwissenschaft (LV 608101-0 20W)
DESCRIPTION:Lehrveranstaltung 608101 20W, Gruppe 0\nTitel: VO Überblick  germanistische Sprachwissenschaft\nOrt: eLecture - online\n\nhttps://lfuonline.uibk.ac.at/public/lfuonline_lv.details?sem_id_in=20W&lvnr_id_in=608101\n
CLASS:PUBLIC
DTSTART:20210114T124500Z
DTEND:20210114T141500Z
DTSTAMP:20260420T113528Z
LOCATION:eLecture - online
END:VEVENT
BEGIN:VEVENT
UID:20W_608101_3624062@uibk.ac.at
ORGANIZER;CN="LFU:online Universität Innsbruck":MAILTO:Uni-Innsbruck-noreply@uibk.ac.at
SUMMARY:VO Überblick  germanistische Sprachwissenschaft (LV 608101-0 20W)
DESCRIPTION:Lehrveranstaltung 608101 20W, Gruppe 0\nTitel: VO Überblick  germanistische Sprachwissenschaft\nOrt: eLecture - online\n\nhttps://lfuonline.uibk.ac.at/public/lfuonline_lv.details?sem_id_in=20W&lvnr_id_in=608101\n
CLASS:PUBLIC
DTSTART:20210121T124500Z
DTEND:20210121T141500Z
DTSTAMP:20260420T113528Z
LOCATION:eLecture - online
END:VEVENT
BEGIN:VEVENT
UID:20W_608101_3624063@uibk.ac.at
ORGANIZER;CN="LFU:online Universität Innsbruck":MAILTO:Uni-Innsbruck-noreply@uibk.ac.at
SUMMARY:VO Überblick  germanistische Sprachwissenschaft (LV 608101-0 20W)
DESCRIPTION:Lehrveranstaltung 608101 20W, Gruppe 0\nTitel: VO Überblick  germanistische Sprachwissenschaft\nOrt: eLecture - online\n\nhttps://lfuonline.uibk.ac.at/public/lfuonline_lv.details?sem_id_in=20W&lvnr_id_in=608101\n
CLASS:PUBLIC
DTSTART:20210128T124500Z
DTEND:20210128T141500Z
DTSTAMP:20260420T113528Z
LOCATION:eLecture - online
COMMENT:1. Prüfungstermin
END:VEVENT
BEGIN:VEVENT
UID:20W_608101_3795769@uibk.ac.at
ORGANIZER;CN="LFU:online Universität Innsbruck":MAILTO:Uni-Innsbruck-noreply@uibk.ac.at
SUMMARY:VO Überblick  germanistische Sprachwissenschaft (LV 608101-0 20W)
DESCRIPTION:Lehrveranstaltung 608101 20W, Gruppe 0\nTitel: VO Überblick  germanistische Sprachwissenschaft\nOrt: eLecture - online\n\nhttps://lfuonline.uibk.ac.at/public/lfuonline_lv.details?sem_id_in=20W&lvnr_id_in=608101\n
CLASS:PUBLIC
DTSTART:20210217T110000Z
DTEND:20210217T123000Z
DTSTAMP:20260420T113528Z
LOCATION:eLecture - online
COMMENT:2. Prüfungstermin 
END:VEVENT
BEGIN:VEVENT
UID:20W_608101_3810759@uibk.ac.at
ORGANIZER;CN="LFU:online Universität Innsbruck":MAILTO:Uni-Innsbruck-noreply@uibk.ac.at
SUMMARY:VO Überblick  germanistische Sprachwissenschaft (LV 608101-0 20W)
DESCRIPTION:Lehrveranstaltung 608101 20W, Gruppe 0\nTitel: VO Überblick  germanistische Sprachwissenschaft\nOrt: online (Germanistik)\n\nhttps://lfuonline.uibk.ac.at/public/lfuonline_lv.details?sem_id_in=20W&lvnr_id_in=608101\n
CLASS:PUBLIC
DTSTART:20210310T110000Z
DTEND:20210310T123000Z
DTSTAMP:20260420T113528Z
LOCATION:online (Germanistik)
COMMENT:3. Prüfungstermin 
END:VEVENT
BEGIN:VEVENT
UID:20W_608101_3812828@uibk.ac.at
ORGANIZER;CN="LFU:online Universität Innsbruck":MAILTO:Uni-Innsbruck-noreply@uibk.ac.at
SUMMARY:VO Überblick  germanistische Sprachwissenschaft (LV 608101-0 20W)
DESCRIPTION:Lehrveranstaltung 608101 20W, Gruppe 0\nTitel: VO Überblick  germanistische Sprachwissenschaft\nOrt: online (Germanistik)\n\nhttps://lfuonline.uibk.ac.at/public/lfuonline_lv.details?sem_id_in=20W&lvnr_id_in=608101\n
CLASS:PUBLIC
DTSTART:20210331T100000Z
DTEND:20210331T113000Z
DTSTAMP:20260420T113528Z
LOCATION:online (Germanistik)
COMMENT:4. Prüfungstermin 
END:VEVENT
END:VCALENDAR