BEGIN:VCALENDAR
VERSION:2.0
PRODID:-//Universität Innsbruck//LFU:online//DE
METHOD:PUBLISH
BEGIN:VEVENT
UID:19W_608215_3382990@uibk.ac.at
ORGANIZER;CN="LFU:online Universität Innsbruck":MAILTO:Uni-Innsbruck-noreply@uibk.ac.at
SUMMARY:PS Neuere deutsche Literatur I: (Gr. A): (k)eine Stunde Null: österreichische  Literatur nach 1945 (LV 608215-0 19W)
DESCRIPTION:Lehrveranstaltung 608215 19W, Gruppe 0\nTitel: PS Neuere deutsche Literatur I: (Gr. A): (k)eine Stunde Null: österreichische  Literatur nach 1945\nOrt: 40832 SR\n\nhttps://lfuonline.uibk.ac.at/public/lfuonline_lv.details?sem_id_in=19W&lvnr_id_in=608215\n
CLASS:PUBLIC
DTSTART:20191002T100000Z
DTEND:20191002T113000Z
DTSTAMP:20260421T004516Z
LOCATION:40832 SR
END:VEVENT
BEGIN:VEVENT
UID:19W_608215_3382991@uibk.ac.at
ORGANIZER;CN="LFU:online Universität Innsbruck":MAILTO:Uni-Innsbruck-noreply@uibk.ac.at
SUMMARY:PS Neuere deutsche Literatur I: (Gr. A): (k)eine Stunde Null: österreichische  Literatur nach 1945 (LV 608215-0 19W)
DESCRIPTION:Lehrveranstaltung 608215 19W, Gruppe 0\nTitel: PS Neuere deutsche Literatur I: (Gr. A): (k)eine Stunde Null: österreichische  Literatur nach 1945\nOrt: 40832 SR\n\nhttps://lfuonline.uibk.ac.at/public/lfuonline_lv.details?sem_id_in=19W&lvnr_id_in=608215\n
CLASS:PUBLIC
DTSTART:20191009T100000Z
DTEND:20191009T113000Z
DTSTAMP:20260421T004516Z
LOCATION:40832 SR
END:VEVENT
BEGIN:VEVENT
UID:19W_608215_3382992@uibk.ac.at
ORGANIZER;CN="LFU:online Universität Innsbruck":MAILTO:Uni-Innsbruck-noreply@uibk.ac.at
SUMMARY:PS Neuere deutsche Literatur I: (Gr. A): (k)eine Stunde Null: österreichische  Literatur nach 1945 (LV 608215-0 19W)
DESCRIPTION:Lehrveranstaltung 608215 19W, Gruppe 0\nTitel: PS Neuere deutsche Literatur I: (Gr. A): (k)eine Stunde Null: österreichische  Literatur nach 1945\nOrt: 40832 SR\n\nhttps://lfuonline.uibk.ac.at/public/lfuonline_lv.details?sem_id_in=19W&lvnr_id_in=608215\n
CLASS:PUBLIC
DTSTART:20191016T100000Z
DTEND:20191016T113000Z
DTSTAMP:20260421T004516Z
LOCATION:40832 SR
END:VEVENT
BEGIN:VEVENT
UID:19W_608215_3382993@uibk.ac.at
ORGANIZER;CN="LFU:online Universität Innsbruck":MAILTO:Uni-Innsbruck-noreply@uibk.ac.at
SUMMARY:PS Neuere deutsche Literatur I: (Gr. A): (k)eine Stunde Null: österreichische  Literatur nach 1945 (LV 608215-0 19W)
DESCRIPTION:Lehrveranstaltung 608215 19W, Gruppe 0\nTitel: PS Neuere deutsche Literatur I: (Gr. A): (k)eine Stunde Null: österreichische  Literatur nach 1945\nOrt: 40832 SR\n\nhttps://lfuonline.uibk.ac.at/public/lfuonline_lv.details?sem_id_in=19W&lvnr_id_in=608215\n
CLASS:PUBLIC
DTSTART:20191023T100000Z
DTEND:20191023T113000Z
DTSTAMP:20260421T004516Z
LOCATION:40832 SR
END:VEVENT
BEGIN:VEVENT
UID:19W_608215_3382994@uibk.ac.at
ORGANIZER;CN="LFU:online Universität Innsbruck":MAILTO:Uni-Innsbruck-noreply@uibk.ac.at
SUMMARY:PS Neuere deutsche Literatur I: (Gr. A): (k)eine Stunde Null: österreichische  Literatur nach 1945 (LV 608215-0 19W)
DESCRIPTION:Lehrveranstaltung 608215 19W, Gruppe 0\nTitel: PS Neuere deutsche Literatur I: (Gr. A): (k)eine Stunde Null: österreichische  Literatur nach 1945\nOrt: 40832 SR\n\nhttps://lfuonline.uibk.ac.at/public/lfuonline_lv.details?sem_id_in=19W&lvnr_id_in=608215\n
CLASS:PUBLIC
DTSTART:20191030T110000Z
DTEND:20191030T123000Z
DTSTAMP:20260421T004516Z
LOCATION:40832 SR
END:VEVENT
BEGIN:VEVENT
UID:19W_608215_3382995@uibk.ac.at
ORGANIZER;CN="LFU:online Universität Innsbruck":MAILTO:Uni-Innsbruck-noreply@uibk.ac.at
SUMMARY:PS Neuere deutsche Literatur I: (Gr. A): (k)eine Stunde Null: österreichische  Literatur nach 1945 (LV 608215-0 19W)
DESCRIPTION:Lehrveranstaltung 608215 19W, Gruppe 0\nTitel: PS Neuere deutsche Literatur I: (Gr. A): (k)eine Stunde Null: österreichische  Literatur nach 1945\nOrt: 40832 SR\n\nhttps://lfuonline.uibk.ac.at/public/lfuonline_lv.details?sem_id_in=19W&lvnr_id_in=608215\n
CLASS:PUBLIC
DTSTART:20191106T110000Z
DTEND:20191106T123000Z
DTSTAMP:20260421T004516Z
LOCATION:40832 SR
END:VEVENT
BEGIN:VEVENT
UID:19W_608215_3382996@uibk.ac.at
ORGANIZER;CN="LFU:online Universität Innsbruck":MAILTO:Uni-Innsbruck-noreply@uibk.ac.at
SUMMARY:PS Neuere deutsche Literatur I: (Gr. A): (k)eine Stunde Null: österreichische  Literatur nach 1945 (LV 608215-0 19W)
DESCRIPTION:Lehrveranstaltung 608215 19W, Gruppe 0\nTitel: PS Neuere deutsche Literatur I: (Gr. A): (k)eine Stunde Null: österreichische  Literatur nach 1945\nOrt: 40832 SR\n\nhttps://lfuonline.uibk.ac.at/public/lfuonline_lv.details?sem_id_in=19W&lvnr_id_in=608215\n
CLASS:PUBLIC
DTSTART:20191113T110000Z
DTEND:20191113T123000Z
DTSTAMP:20260421T004516Z
LOCATION:40832 SR
END:VEVENT
BEGIN:VEVENT
UID:19W_608215_3382997@uibk.ac.at
ORGANIZER;CN="LFU:online Universität Innsbruck":MAILTO:Uni-Innsbruck-noreply@uibk.ac.at
SUMMARY:PS Neuere deutsche Literatur I: (Gr. A): (k)eine Stunde Null: österreichische  Literatur nach 1945 (LV 608215-0 19W)
DESCRIPTION:Lehrveranstaltung 608215 19W, Gruppe 0\nTitel: PS Neuere deutsche Literatur I: (Gr. A): (k)eine Stunde Null: österreichische  Literatur nach 1945\nOrt: 40832 SR\n\nhttps://lfuonline.uibk.ac.at/public/lfuonline_lv.details?sem_id_in=19W&lvnr_id_in=608215\n
CLASS:PUBLIC
DTSTART:20191120T110000Z
DTEND:20191120T123000Z
DTSTAMP:20260421T004516Z
LOCATION:40832 SR
END:VEVENT
BEGIN:VEVENT
UID:19W_608215_3382998@uibk.ac.at
ORGANIZER;CN="LFU:online Universität Innsbruck":MAILTO:Uni-Innsbruck-noreply@uibk.ac.at
SUMMARY:PS Neuere deutsche Literatur I: (Gr. A): (k)eine Stunde Null: österreichische  Literatur nach 1945 (LV 608215-0 19W)
DESCRIPTION:Lehrveranstaltung 608215 19W, Gruppe 0\nTitel: PS Neuere deutsche Literatur I: (Gr. A): (k)eine Stunde Null: österreichische  Literatur nach 1945\nOrt: 40832 SR\n\nhttps://lfuonline.uibk.ac.at/public/lfuonline_lv.details?sem_id_in=19W&lvnr_id_in=608215\n
CLASS:PUBLIC
DTSTART:20191127T110000Z
DTEND:20191127T123000Z
DTSTAMP:20260421T004516Z
LOCATION:40832 SR
END:VEVENT
BEGIN:VEVENT
UID:19W_608215_3382999@uibk.ac.at
ORGANIZER;CN="LFU:online Universität Innsbruck":MAILTO:Uni-Innsbruck-noreply@uibk.ac.at
SUMMARY:PS Neuere deutsche Literatur I: (Gr. A): (k)eine Stunde Null: österreichische  Literatur nach 1945 (LV 608215-0 19W)
DESCRIPTION:Lehrveranstaltung 608215 19W, Gruppe 0\nTitel: PS Neuere deutsche Literatur I: (Gr. A): (k)eine Stunde Null: österreichische  Literatur nach 1945\nOrt: 40832 SR\n\nhttps://lfuonline.uibk.ac.at/public/lfuonline_lv.details?sem_id_in=19W&lvnr_id_in=608215\n
CLASS:PUBLIC
DTSTART:20191204T110000Z
DTEND:20191204T123000Z
DTSTAMP:20260421T004516Z
LOCATION:40832 SR
END:VEVENT
BEGIN:VEVENT
UID:19W_608215_3383000@uibk.ac.at
ORGANIZER;CN="LFU:online Universität Innsbruck":MAILTO:Uni-Innsbruck-noreply@uibk.ac.at
SUMMARY:PS Neuere deutsche Literatur I: (Gr. A): (k)eine Stunde Null: österreichische  Literatur nach 1945 (LV 608215-0 19W)
DESCRIPTION:Lehrveranstaltung 608215 19W, Gruppe 0\nTitel: PS Neuere deutsche Literatur I: (Gr. A): (k)eine Stunde Null: österreichische  Literatur nach 1945\nOrt: 40832 SR\n\nhttps://lfuonline.uibk.ac.at/public/lfuonline_lv.details?sem_id_in=19W&lvnr_id_in=608215\n
CLASS:PUBLIC
DTSTART:20191211T110000Z
DTEND:20191211T123000Z
DTSTAMP:20260421T004516Z
LOCATION:40832 SR
END:VEVENT
BEGIN:VEVENT
UID:19W_608215_3383001@uibk.ac.at
ORGANIZER;CN="LFU:online Universität Innsbruck":MAILTO:Uni-Innsbruck-noreply@uibk.ac.at
SUMMARY:PS Neuere deutsche Literatur I: (Gr. A): (k)eine Stunde Null: österreichische  Literatur nach 1945 (LV 608215-0 19W)
DESCRIPTION:Lehrveranstaltung 608215 19W, Gruppe 0\nTitel: PS Neuere deutsche Literatur I: (Gr. A): (k)eine Stunde Null: österreichische  Literatur nach 1945\nOrt: 40832 SR\n\nhttps://lfuonline.uibk.ac.at/public/lfuonline_lv.details?sem_id_in=19W&lvnr_id_in=608215\n
CLASS:PUBLIC
DTSTART:20200108T110000Z
DTEND:20200108T123000Z
DTSTAMP:20260421T004516Z
LOCATION:40832 SR
END:VEVENT
BEGIN:VEVENT
UID:19W_608215_3383002@uibk.ac.at
ORGANIZER;CN="LFU:online Universität Innsbruck":MAILTO:Uni-Innsbruck-noreply@uibk.ac.at
SUMMARY:PS Neuere deutsche Literatur I: (Gr. A): (k)eine Stunde Null: österreichische  Literatur nach 1945 (LV 608215-0 19W)
DESCRIPTION:Lehrveranstaltung 608215 19W, Gruppe 0\nTitel: PS Neuere deutsche Literatur I: (Gr. A): (k)eine Stunde Null: österreichische  Literatur nach 1945\nOrt: 40832 SR\n\nhttps://lfuonline.uibk.ac.at/public/lfuonline_lv.details?sem_id_in=19W&lvnr_id_in=608215\n
CLASS:PUBLIC
DTSTART:20200115T110000Z
DTEND:20200115T123000Z
DTSTAMP:20260421T004516Z
LOCATION:40832 SR
END:VEVENT
BEGIN:VEVENT
UID:19W_608215_3383003@uibk.ac.at
ORGANIZER;CN="LFU:online Universität Innsbruck":MAILTO:Uni-Innsbruck-noreply@uibk.ac.at
SUMMARY:PS Neuere deutsche Literatur I: (Gr. A): (k)eine Stunde Null: österreichische  Literatur nach 1945 (LV 608215-0 19W)
DESCRIPTION:Lehrveranstaltung 608215 19W, Gruppe 0\nTitel: PS Neuere deutsche Literatur I: (Gr. A): (k)eine Stunde Null: österreichische  Literatur nach 1945\nOrt: 40832 SR\n\nhttps://lfuonline.uibk.ac.at/public/lfuonline_lv.details?sem_id_in=19W&lvnr_id_in=608215\n
CLASS:PUBLIC
DTSTART:20200122T110000Z
DTEND:20200122T123000Z
DTSTAMP:20260421T004516Z
LOCATION:40832 SR
END:VEVENT
BEGIN:VEVENT
UID:19W_608215_3383004@uibk.ac.at
ORGANIZER;CN="LFU:online Universität Innsbruck":MAILTO:Uni-Innsbruck-noreply@uibk.ac.at
SUMMARY:PS Neuere deutsche Literatur I: (Gr. A): (k)eine Stunde Null: österreichische  Literatur nach 1945 (LV 608215-0 19W)
DESCRIPTION:Lehrveranstaltung 608215 19W, Gruppe 0\nTitel: PS Neuere deutsche Literatur I: (Gr. A): (k)eine Stunde Null: österreichische  Literatur nach 1945\nOrt: 40832 SR\n\nhttps://lfuonline.uibk.ac.at/public/lfuonline_lv.details?sem_id_in=19W&lvnr_id_in=608215\n
CLASS:PUBLIC
DTSTART:20200129T110000Z
DTEND:20200129T123000Z
DTSTAMP:20260421T004516Z
LOCATION:40832 SR
END:VEVENT
END:VCALENDAR