BEGIN:VCALENDAR
VERSION:2.0
PRODID:-//Universität Innsbruck//LFU:online//DE
METHOD:PUBLISH
BEGIN:VEVENT
UID:22W_608226_4104223@uibk.ac.at
ORGANIZER;CN="LFU:online Universität Innsbruck":MAILTO:Uni-Innsbruck-noreply@uibk.ac.at
SUMMARY:VU Einführung in die Digital Humanities (LV 608226-0 22W)
DESCRIPTION:Lehrveranstaltung 608226 22W, Gruppe 0\nTitel: VU Einführung in die Digital Humanities\nOrt: 40832 SR\n\nhttps://lfuonline.uibk.ac.at/public/lfuonline_lv.details?sem_id_in=22W&lvnr_id_in=608226\n
CLASS:PUBLIC
DTSTART:20221004T170000Z
DTEND:20221004T183000Z
DTSTAMP:20260420T054041Z
LOCATION:40832 SR
END:VEVENT
BEGIN:VEVENT
UID:22W_608226_4104224@uibk.ac.at
ORGANIZER;CN="LFU:online Universität Innsbruck":MAILTO:Uni-Innsbruck-noreply@uibk.ac.at
SUMMARY:VU Einführung in die Digital Humanities (LV 608226-0 22W)
DESCRIPTION:Lehrveranstaltung 608226 22W, Gruppe 0\nTitel: VU Einführung in die Digital Humanities\nOrt: 40832 SR\n\nhttps://lfuonline.uibk.ac.at/public/lfuonline_lv.details?sem_id_in=22W&lvnr_id_in=608226\n
CLASS:PUBLIC
DTSTART:20221011T170000Z
DTEND:20221011T183000Z
DTSTAMP:20260420T054041Z
LOCATION:40832 SR
END:VEVENT
BEGIN:VEVENT
UID:22W_608226_4104225@uibk.ac.at
ORGANIZER;CN="LFU:online Universität Innsbruck":MAILTO:Uni-Innsbruck-noreply@uibk.ac.at
SUMMARY:VU Einführung in die Digital Humanities (LV 608226-0 22W)
DESCRIPTION:Lehrveranstaltung 608226 22W, Gruppe 0\nTitel: VU Einführung in die Digital Humanities\nOrt: 40832 SR\n\nhttps://lfuonline.uibk.ac.at/public/lfuonline_lv.details?sem_id_in=22W&lvnr_id_in=608226\n
CLASS:PUBLIC
DTSTART:20221018T170000Z
DTEND:20221018T183000Z
DTSTAMP:20260420T054041Z
LOCATION:40832 SR
END:VEVENT
BEGIN:VEVENT
UID:22W_608226_4104226@uibk.ac.at
ORGANIZER;CN="LFU:online Universität Innsbruck":MAILTO:Uni-Innsbruck-noreply@uibk.ac.at
SUMMARY:VU Einführung in die Digital Humanities (LV 608226-0 22W)
DESCRIPTION:Lehrveranstaltung 608226 22W, Gruppe 0\nTitel: VU Einführung in die Digital Humanities\nOrt: 40832 SR\n\nhttps://lfuonline.uibk.ac.at/public/lfuonline_lv.details?sem_id_in=22W&lvnr_id_in=608226\n
CLASS:PUBLIC
DTSTART:20221025T170000Z
DTEND:20221025T183000Z
DTSTAMP:20260420T054041Z
LOCATION:40832 SR
END:VEVENT
BEGIN:VEVENT
UID:22W_608226_4104227@uibk.ac.at
ORGANIZER;CN="LFU:online Universität Innsbruck":MAILTO:Uni-Innsbruck-noreply@uibk.ac.at
SUMMARY:VU Einführung in die Digital Humanities (LV 608226-0 22W)
DESCRIPTION:Lehrveranstaltung 608226 22W, Gruppe 0\nTitel: VU Einführung in die Digital Humanities\nOrt: 40832 SR\n\nhttps://lfuonline.uibk.ac.at/public/lfuonline_lv.details?sem_id_in=22W&lvnr_id_in=608226\n
CLASS:PUBLIC
DTSTART:20221108T180000Z
DTEND:20221108T193000Z
DTSTAMP:20260420T054041Z
LOCATION:40832 SR
END:VEVENT
BEGIN:VEVENT
UID:22W_608226_4104228@uibk.ac.at
ORGANIZER;CN="LFU:online Universität Innsbruck":MAILTO:Uni-Innsbruck-noreply@uibk.ac.at
SUMMARY:VU Einführung in die Digital Humanities (LV 608226-0 22W)
DESCRIPTION:Lehrveranstaltung 608226 22W, Gruppe 0\nTitel: VU Einführung in die Digital Humanities\nOrt: 40832 SR\n\nhttps://lfuonline.uibk.ac.at/public/lfuonline_lv.details?sem_id_in=22W&lvnr_id_in=608226\n
CLASS:PUBLIC
DTSTART:20221115T180000Z
DTEND:20221115T193000Z
DTSTAMP:20260420T054041Z
LOCATION:40832 SR
END:VEVENT
BEGIN:VEVENT
UID:22W_608226_4104229@uibk.ac.at
ORGANIZER;CN="LFU:online Universität Innsbruck":MAILTO:Uni-Innsbruck-noreply@uibk.ac.at
SUMMARY:VU Einführung in die Digital Humanities (LV 608226-0 22W)
DESCRIPTION:Lehrveranstaltung 608226 22W, Gruppe 0\nTitel: VU Einführung in die Digital Humanities\nOrt: 40832 SR\n\nhttps://lfuonline.uibk.ac.at/public/lfuonline_lv.details?sem_id_in=22W&lvnr_id_in=608226\n
CLASS:PUBLIC
DTSTART:20221122T180000Z
DTEND:20221122T193000Z
DTSTAMP:20260420T054041Z
LOCATION:40832 SR
END:VEVENT
BEGIN:VEVENT
UID:22W_608226_4104230@uibk.ac.at
ORGANIZER;CN="LFU:online Universität Innsbruck":MAILTO:Uni-Innsbruck-noreply@uibk.ac.at
SUMMARY:VU Einführung in die Digital Humanities (LV 608226-0 22W)
DESCRIPTION:Lehrveranstaltung 608226 22W, Gruppe 0\nTitel: VU Einführung in die Digital Humanities\nOrt: 40832 SR\n\nhttps://lfuonline.uibk.ac.at/public/lfuonline_lv.details?sem_id_in=22W&lvnr_id_in=608226\n
CLASS:PUBLIC
DTSTART:20221129T180000Z
DTEND:20221129T193000Z
DTSTAMP:20260420T054041Z
LOCATION:40832 SR
END:VEVENT
BEGIN:VEVENT
UID:22W_608226_4104231@uibk.ac.at
ORGANIZER;CN="LFU:online Universität Innsbruck":MAILTO:Uni-Innsbruck-noreply@uibk.ac.at
SUMMARY:VU Einführung in die Digital Humanities (LV 608226-0 22W)
DESCRIPTION:Lehrveranstaltung 608226 22W, Gruppe 0\nTitel: VU Einführung in die Digital Humanities\nOrt: 40832 SR\n\nhttps://lfuonline.uibk.ac.at/public/lfuonline_lv.details?sem_id_in=22W&lvnr_id_in=608226\n
CLASS:PUBLIC
DTSTART:20221206T180000Z
DTEND:20221206T193000Z
DTSTAMP:20260420T054041Z
LOCATION:40832 SR
END:VEVENT
BEGIN:VEVENT
UID:22W_608226_4104232@uibk.ac.at
ORGANIZER;CN="LFU:online Universität Innsbruck":MAILTO:Uni-Innsbruck-noreply@uibk.ac.at
SUMMARY:VU Einführung in die Digital Humanities (LV 608226-0 22W)
DESCRIPTION:Lehrveranstaltung 608226 22W, Gruppe 0\nTitel: VU Einführung in die Digital Humanities\nOrt: 40832 SR\n\nhttps://lfuonline.uibk.ac.at/public/lfuonline_lv.details?sem_id_in=22W&lvnr_id_in=608226\n
CLASS:PUBLIC
DTSTART:20221213T180000Z
DTEND:20221213T193000Z
DTSTAMP:20260420T054041Z
LOCATION:40832 SR
END:VEVENT
BEGIN:VEVENT
UID:22W_608226_4104233@uibk.ac.at
ORGANIZER;CN="LFU:online Universität Innsbruck":MAILTO:Uni-Innsbruck-noreply@uibk.ac.at
SUMMARY:VU Einführung in die Digital Humanities (LV 608226-0 22W)
DESCRIPTION:Lehrveranstaltung 608226 22W, Gruppe 0\nTitel: VU Einführung in die Digital Humanities\nOrt: 40832 SR\n\nhttps://lfuonline.uibk.ac.at/public/lfuonline_lv.details?sem_id_in=22W&lvnr_id_in=608226\n
CLASS:PUBLIC
DTSTART:20230110T180000Z
DTEND:20230110T193000Z
DTSTAMP:20260420T054041Z
LOCATION:40832 SR
END:VEVENT
BEGIN:VEVENT
UID:22W_608226_4104234@uibk.ac.at
ORGANIZER;CN="LFU:online Universität Innsbruck":MAILTO:Uni-Innsbruck-noreply@uibk.ac.at
SUMMARY:VU Einführung in die Digital Humanities (LV 608226-0 22W)
DESCRIPTION:Lehrveranstaltung 608226 22W, Gruppe 0\nTitel: VU Einführung in die Digital Humanities\nOrt: 40832 SR\n\nhttps://lfuonline.uibk.ac.at/public/lfuonline_lv.details?sem_id_in=22W&lvnr_id_in=608226\n
CLASS:PUBLIC
DTSTART:20230117T180000Z
DTEND:20230117T193000Z
DTSTAMP:20260420T054041Z
LOCATION:40832 SR
END:VEVENT
BEGIN:VEVENT
UID:22W_608226_4104235@uibk.ac.at
ORGANIZER;CN="LFU:online Universität Innsbruck":MAILTO:Uni-Innsbruck-noreply@uibk.ac.at
SUMMARY:VU Einführung in die Digital Humanities (LV 608226-0 22W)
DESCRIPTION:Lehrveranstaltung 608226 22W, Gruppe 0\nTitel: VU Einführung in die Digital Humanities\nOrt: 40832 SR\n\nhttps://lfuonline.uibk.ac.at/public/lfuonline_lv.details?sem_id_in=22W&lvnr_id_in=608226\n
CLASS:PUBLIC
DTSTART:20230124T180000Z
DTEND:20230124T193000Z
DTSTAMP:20260420T054041Z
LOCATION:40832 SR
END:VEVENT
BEGIN:VEVENT
UID:22W_608226_4104236@uibk.ac.at
ORGANIZER;CN="LFU:online Universität Innsbruck":MAILTO:Uni-Innsbruck-noreply@uibk.ac.at
SUMMARY:VU Einführung in die Digital Humanities (LV 608226-0 22W)
DESCRIPTION:Lehrveranstaltung 608226 22W, Gruppe 0\nTitel: VU Einführung in die Digital Humanities\nOrt: 40832 SR\n\nhttps://lfuonline.uibk.ac.at/public/lfuonline_lv.details?sem_id_in=22W&lvnr_id_in=608226\n
CLASS:PUBLIC
DTSTART:20230131T180000Z
DTEND:20230131T193000Z
DTSTAMP:20260420T054041Z
LOCATION:40832 SR
END:VEVENT
END:VCALENDAR