BEGIN:VCALENDAR
VERSION:2.0
PRODID:-//Universität Innsbruck//LFU:online//DE
METHOD:PUBLISH
BEGIN:VEVENT
UID:21S_608289_3811260@uibk.ac.at
ORGANIZER;CN="LFU:online Universität Innsbruck":MAILTO:Uni-Innsbruck-noreply@uibk.ac.at
SUMMARY:EX Institutionen des literarischen Lebens: Rauriser Literaturtage (LV 608289-0 21S)
DESCRIPTION:Lehrveranstaltung 608289 21S, Gruppe 0\nTitel: EX Institutionen des literarischen Lebens: Rauriser Literaturtage\nOrt: online (Germanistik)\n\nhttps://lfuonline.uibk.ac.at/public/lfuonline_lv.details?sem_id_in=21S&lvnr_id_in=608289\n
CLASS:PUBLIC
DTSTART:20210310T124500Z
DTEND:20210310T141500Z
DTSTAMP:20260422T191801Z
LOCATION:online (Germanistik)
END:VEVENT
BEGIN:VEVENT
UID:21S_608289_3811261@uibk.ac.at
ORGANIZER;CN="LFU:online Universität Innsbruck":MAILTO:Uni-Innsbruck-noreply@uibk.ac.at
SUMMARY:EX Institutionen des literarischen Lebens: Rauriser Literaturtage (LV 608289-0 21S)
DESCRIPTION:Lehrveranstaltung 608289 21S, Gruppe 0\nTitel: EX Institutionen des literarischen Lebens: Rauriser Literaturtage\nOrt: online (Germanistik)\n\nhttps://lfuonline.uibk.ac.at/public/lfuonline_lv.details?sem_id_in=21S&lvnr_id_in=608289\n
CLASS:PUBLIC
DTSTART:20210317T124500Z
DTEND:20210317T141500Z
DTSTAMP:20260422T191801Z
LOCATION:online (Germanistik)
END:VEVENT
BEGIN:VEVENT
UID:21S_608289_3811262@uibk.ac.at
ORGANIZER;CN="LFU:online Universität Innsbruck":MAILTO:Uni-Innsbruck-noreply@uibk.ac.at
SUMMARY:EX Institutionen des literarischen Lebens: Rauriser Literaturtage (LV 608289-0 21S)
DESCRIPTION:Lehrveranstaltung 608289 21S, Gruppe 0\nTitel: EX Institutionen des literarischen Lebens: Rauriser Literaturtage\nOrt: online (Germanistik)\n\nhttps://lfuonline.uibk.ac.at/public/lfuonline_lv.details?sem_id_in=21S&lvnr_id_in=608289\n
CLASS:PUBLIC
DTSTART:20210324T124500Z
DTEND:20210324T141500Z
DTSTAMP:20260422T191801Z
LOCATION:online (Germanistik)
END:VEVENT
END:VCALENDAR