BEGIN:VCALENDAR
VERSION:2.0
PRODID:-//Universität Innsbruck//LFU:online//DE
METHOD:PUBLISH
BEGIN:VEVENT
UID:19S_608408_3283006@uibk.ac.at
ORGANIZER;CN="LFU:online Universität Innsbruck":MAILTO:Uni-Innsbruck-noreply@uibk.ac.at
SUMMARY:Medienpraxis I (Gr. A) (LV 608408-0 19S)
DESCRIPTION:Lehrveranstaltung 608408 19S, Gruppe 0\nTitel: Medienpraxis I (Gr. A)\nOrt: Benutzerraum 4\n\nhttps://lfuonline.uibk.ac.at/public/lfuonline_lv.details?sem_id_in=19S&lvnr_id_in=608408\n
CLASS:PUBLIC
DTSTART:20190307T073000Z
DTEND:20190307T103000Z
DTSTAMP:20260423T031259Z
LOCATION:Benutzerraum 4
COMMENT:Gabriele Starck
END:VEVENT
BEGIN:VEVENT
UID:19S_608408_3283008@uibk.ac.at
ORGANIZER;CN="LFU:online Universität Innsbruck":MAILTO:Uni-Innsbruck-noreply@uibk.ac.at
SUMMARY:Medienpraxis I (Gr. A) (LV 608408-0 19S)
DESCRIPTION:Lehrveranstaltung 608408 19S, Gruppe 0\nTitel: Medienpraxis I (Gr. A)\nOrt: Benutzerraum 4\n\nhttps://lfuonline.uibk.ac.at/public/lfuonline_lv.details?sem_id_in=19S&lvnr_id_in=608408\n
CLASS:PUBLIC
DTSTART:20190314T073000Z
DTEND:20190314T103000Z
DTSTAMP:20260423T031259Z
LOCATION:Benutzerraum 4
COMMENT:Gabriele Starck
END:VEVENT
BEGIN:VEVENT
UID:19S_608408_3283009@uibk.ac.at
ORGANIZER;CN="LFU:online Universität Innsbruck":MAILTO:Uni-Innsbruck-noreply@uibk.ac.at
SUMMARY:Medienpraxis I (Gr. A) (LV 608408-0 19S)
DESCRIPTION:Lehrveranstaltung 608408 19S, Gruppe 0\nTitel: Medienpraxis I (Gr. A)\nOrt: Benutzerraum 4\n\nhttps://lfuonline.uibk.ac.at/public/lfuonline_lv.details?sem_id_in=19S&lvnr_id_in=608408\n
CLASS:PUBLIC
DTSTART:20190321T073000Z
DTEND:20190321T103000Z
DTSTAMP:20260423T031259Z
LOCATION:Benutzerraum 4
COMMENT:Gabriele Starck
END:VEVENT
BEGIN:VEVENT
UID:19S_608408_3283012@uibk.ac.at
ORGANIZER;CN="LFU:online Universität Innsbruck":MAILTO:Uni-Innsbruck-noreply@uibk.ac.at
SUMMARY:Medienpraxis I (Gr. A) (LV 608408-0 19S)
DESCRIPTION:Lehrveranstaltung 608408 19S, Gruppe 0\nTitel: Medienpraxis I (Gr. A)\nOrt: Benutzerraum 4\n\nhttps://lfuonline.uibk.ac.at/public/lfuonline_lv.details?sem_id_in=19S&lvnr_id_in=608408\n
CLASS:PUBLIC
DTSTART:20190411T063000Z
DTEND:20190411T093000Z
DTSTAMP:20260423T031259Z
LOCATION:Benutzerraum 4
COMMENT:Gabriele Starck
END:VEVENT
BEGIN:VEVENT
UID:19S_608408_3283015@uibk.ac.at
ORGANIZER;CN="LFU:online Universität Innsbruck":MAILTO:Uni-Innsbruck-noreply@uibk.ac.at
SUMMARY:Medienpraxis I (Gr. A) (LV 608408-0 19S)
DESCRIPTION:Lehrveranstaltung 608408 19S, Gruppe 0\nTitel: Medienpraxis I (Gr. A)\nOrt: Benutzerraum 4\n\nhttps://lfuonline.uibk.ac.at/public/lfuonline_lv.details?sem_id_in=19S&lvnr_id_in=608408\n
CLASS:PUBLIC
DTSTART:20190516T063000Z
DTEND:20190516T093000Z
DTSTAMP:20260423T031259Z
LOCATION:Benutzerraum 4
COMMENT:Gabriele Starck
END:VEVENT
BEGIN:VEVENT
UID:19S_608408_3283016@uibk.ac.at
ORGANIZER;CN="LFU:online Universität Innsbruck":MAILTO:Uni-Innsbruck-noreply@uibk.ac.at
SUMMARY:Medienpraxis I (Gr. A) (LV 608408-0 19S)
DESCRIPTION:Lehrveranstaltung 608408 19S, Gruppe 0\nTitel: Medienpraxis I (Gr. A)\nOrt: Benutzerraum 4\n\nhttps://lfuonline.uibk.ac.at/public/lfuonline_lv.details?sem_id_in=19S&lvnr_id_in=608408\n
CLASS:PUBLIC
DTSTART:20190523T063000Z
DTEND:20190523T093000Z
DTSTAMP:20260423T031259Z
LOCATION:Benutzerraum 4
COMMENT:Gabriele Starck
END:VEVENT
BEGIN:VEVENT
UID:19S_608408_3283017@uibk.ac.at
ORGANIZER;CN="LFU:online Universität Innsbruck":MAILTO:Uni-Innsbruck-noreply@uibk.ac.at
SUMMARY:Medienpraxis I (Gr. A) (LV 608408-0 19S)
DESCRIPTION:Lehrveranstaltung 608408 19S, Gruppe 0\nTitel: Medienpraxis I (Gr. A)\nOrt: Benutzerraum 4\n\nhttps://lfuonline.uibk.ac.at/public/lfuonline_lv.details?sem_id_in=19S&lvnr_id_in=608408\n
CLASS:PUBLIC
DTSTART:20190606T063000Z
DTEND:20190606T093000Z
DTSTAMP:20260423T031259Z
LOCATION:Benutzerraum 4
COMMENT:Gabriele Starck
END:VEVENT
BEGIN:VEVENT
UID:19S_608408_3283019@uibk.ac.at
ORGANIZER;CN="LFU:online Universität Innsbruck":MAILTO:Uni-Innsbruck-noreply@uibk.ac.at
SUMMARY:Medienpraxis I (Gr. A) (LV 608408-0 19S)
DESCRIPTION:Lehrveranstaltung 608408 19S, Gruppe 0\nTitel: Medienpraxis I (Gr. A)\nOrt: Benutzerraum 4\n\nhttps://lfuonline.uibk.ac.at/public/lfuonline_lv.details?sem_id_in=19S&lvnr_id_in=608408\n
CLASS:PUBLIC
DTSTART:20190613T063000Z
DTEND:20190613T093000Z
DTSTAMP:20260423T031259Z
LOCATION:Benutzerraum 4
COMMENT:Gabriele Starck
END:VEVENT
END:VCALENDAR