BEGIN:VCALENDAR
VERSION:2.0
PRODID:-//Universität Innsbruck//LFU:online//DE
METHOD:PUBLISH
BEGIN:VEVENT
UID:23S_608600_4253358@uibk.ac.at
ORGANIZER;CN="LFU:online Universität Innsbruck":MAILTO:Uni-Innsbruck-noreply@uibk.ac.at
SUMMARY:VU Methodik und Didaktik Deutsch als Zweitsprache (Gr. A) (LV 608600-0 23S)
DESCRIPTION:Lehrveranstaltung 608600 23S, Gruppe 0\nTitel: VU Methodik und Didaktik Deutsch als Zweitsprache (Gr. A)\nOrt: 50105/2 SR\n\nhttps://lfuonline.uibk.ac.at/public/lfuonline_lv.details?sem_id_in=23S&lvnr_id_in=608600\n
CLASS:PUBLIC
DTSTART:20230309T073000Z
DTEND:20230309T090000Z
DTSTAMP:20260421T075517Z
LOCATION:50105/2 SR
END:VEVENT
BEGIN:VEVENT
UID:23S_608600_4253359@uibk.ac.at
ORGANIZER;CN="LFU:online Universität Innsbruck":MAILTO:Uni-Innsbruck-noreply@uibk.ac.at
SUMMARY:VU Methodik und Didaktik Deutsch als Zweitsprache (Gr. A) (LV 608600-0 23S)
DESCRIPTION:Lehrveranstaltung 608600 23S, Gruppe 0\nTitel: VU Methodik und Didaktik Deutsch als Zweitsprache (Gr. A)\nOrt: 50105/2 SR\n\nhttps://lfuonline.uibk.ac.at/public/lfuonline_lv.details?sem_id_in=23S&lvnr_id_in=608600\n
CLASS:PUBLIC
DTSTART:20230316T073000Z
DTEND:20230316T090000Z
DTSTAMP:20260421T075517Z
LOCATION:50105/2 SR
END:VEVENT
BEGIN:VEVENT
UID:23S_608600_4253360@uibk.ac.at
ORGANIZER;CN="LFU:online Universität Innsbruck":MAILTO:Uni-Innsbruck-noreply@uibk.ac.at
SUMMARY:VU Methodik und Didaktik Deutsch als Zweitsprache (Gr. A) (LV 608600-0 23S)
DESCRIPTION:Lehrveranstaltung 608600 23S, Gruppe 0\nTitel: VU Methodik und Didaktik Deutsch als Zweitsprache (Gr. A)\nOrt: 50105/2 SR\n\nhttps://lfuonline.uibk.ac.at/public/lfuonline_lv.details?sem_id_in=23S&lvnr_id_in=608600\n
CLASS:PUBLIC
DTSTART:20230323T073000Z
DTEND:20230323T090000Z
DTSTAMP:20260421T075517Z
LOCATION:50105/2 SR
END:VEVENT
BEGIN:VEVENT
UID:23S_608600_4253361@uibk.ac.at
ORGANIZER;CN="LFU:online Universität Innsbruck":MAILTO:Uni-Innsbruck-noreply@uibk.ac.at
SUMMARY:VU Methodik und Didaktik Deutsch als Zweitsprache (Gr. A) (LV 608600-0 23S)
DESCRIPTION:Lehrveranstaltung 608600 23S, Gruppe 0\nTitel: VU Methodik und Didaktik Deutsch als Zweitsprache (Gr. A)\nOrt: 50105/2 SR\n\nhttps://lfuonline.uibk.ac.at/public/lfuonline_lv.details?sem_id_in=23S&lvnr_id_in=608600\n
CLASS:PUBLIC
DTSTART:20230330T063000Z
DTEND:20230330T080000Z
DTSTAMP:20260421T075517Z
LOCATION:50105/2 SR
END:VEVENT
BEGIN:VEVENT
UID:23S_608600_4253362@uibk.ac.at
ORGANIZER;CN="LFU:online Universität Innsbruck":MAILTO:Uni-Innsbruck-noreply@uibk.ac.at
SUMMARY:VU Methodik und Didaktik Deutsch als Zweitsprache (Gr. A) (LV 608600-0 23S)
DESCRIPTION:Lehrveranstaltung 608600 23S, Gruppe 0\nTitel: VU Methodik und Didaktik Deutsch als Zweitsprache (Gr. A)\nOrt: 50105/2 SR\n\nhttps://lfuonline.uibk.ac.at/public/lfuonline_lv.details?sem_id_in=23S&lvnr_id_in=608600\n
CLASS:PUBLIC
DTSTART:20230420T063000Z
DTEND:20230420T080000Z
DTSTAMP:20260421T075517Z
LOCATION:50105/2 SR
END:VEVENT
BEGIN:VEVENT
UID:23S_608600_4253363@uibk.ac.at
ORGANIZER;CN="LFU:online Universität Innsbruck":MAILTO:Uni-Innsbruck-noreply@uibk.ac.at
SUMMARY:VU Methodik und Didaktik Deutsch als Zweitsprache (Gr. A) (LV 608600-0 23S)
DESCRIPTION:Lehrveranstaltung 608600 23S, Gruppe 0\nTitel: VU Methodik und Didaktik Deutsch als Zweitsprache (Gr. A)\nOrt: 50105/2 SR\n\nhttps://lfuonline.uibk.ac.at/public/lfuonline_lv.details?sem_id_in=23S&lvnr_id_in=608600\n
CLASS:PUBLIC
DTSTART:20230427T063000Z
DTEND:20230427T080000Z
DTSTAMP:20260421T075517Z
LOCATION:50105/2 SR
END:VEVENT
BEGIN:VEVENT
UID:23S_608600_4253364@uibk.ac.at
ORGANIZER;CN="LFU:online Universität Innsbruck":MAILTO:Uni-Innsbruck-noreply@uibk.ac.at
SUMMARY:VU Methodik und Didaktik Deutsch als Zweitsprache (Gr. A) (LV 608600-0 23S)
DESCRIPTION:Lehrveranstaltung 608600 23S, Gruppe 0\nTitel: VU Methodik und Didaktik Deutsch als Zweitsprache (Gr. A)\nOrt: 50105/2 SR\n\nhttps://lfuonline.uibk.ac.at/public/lfuonline_lv.details?sem_id_in=23S&lvnr_id_in=608600\n
CLASS:PUBLIC
DTSTART:20230504T063000Z
DTEND:20230504T080000Z
DTSTAMP:20260421T075517Z
LOCATION:50105/2 SR
END:VEVENT
BEGIN:VEVENT
UID:23S_608600_4253365@uibk.ac.at
ORGANIZER;CN="LFU:online Universität Innsbruck":MAILTO:Uni-Innsbruck-noreply@uibk.ac.at
SUMMARY:VU Methodik und Didaktik Deutsch als Zweitsprache (Gr. A) (LV 608600-0 23S)
DESCRIPTION:Lehrveranstaltung 608600 23S, Gruppe 0\nTitel: VU Methodik und Didaktik Deutsch als Zweitsprache (Gr. A)\nOrt: 50105/2 SR\n\nhttps://lfuonline.uibk.ac.at/public/lfuonline_lv.details?sem_id_in=23S&lvnr_id_in=608600\n
CLASS:PUBLIC
DTSTART:20230511T063000Z
DTEND:20230511T080000Z
DTSTAMP:20260421T075517Z
LOCATION:50105/2 SR
END:VEVENT
BEGIN:VEVENT
UID:23S_608600_4253366@uibk.ac.at
ORGANIZER;CN="LFU:online Universität Innsbruck":MAILTO:Uni-Innsbruck-noreply@uibk.ac.at
SUMMARY:VU Methodik und Didaktik Deutsch als Zweitsprache (Gr. A) (LV 608600-0 23S)
DESCRIPTION:Lehrveranstaltung 608600 23S, Gruppe 0\nTitel: VU Methodik und Didaktik Deutsch als Zweitsprache (Gr. A)\nOrt: 50105/2 SR\n\nhttps://lfuonline.uibk.ac.at/public/lfuonline_lv.details?sem_id_in=23S&lvnr_id_in=608600\n
CLASS:PUBLIC
DTSTART:20230525T063000Z
DTEND:20230525T080000Z
DTSTAMP:20260421T075517Z
LOCATION:50105/2 SR
END:VEVENT
BEGIN:VEVENT
UID:23S_608600_4253367@uibk.ac.at
ORGANIZER;CN="LFU:online Universität Innsbruck":MAILTO:Uni-Innsbruck-noreply@uibk.ac.at
SUMMARY:VU Methodik und Didaktik Deutsch als Zweitsprache (Gr. A) (LV 608600-0 23S)
DESCRIPTION:Lehrveranstaltung 608600 23S, Gruppe 0\nTitel: VU Methodik und Didaktik Deutsch als Zweitsprache (Gr. A)\nOrt: 50105/2 SR\n\nhttps://lfuonline.uibk.ac.at/public/lfuonline_lv.details?sem_id_in=23S&lvnr_id_in=608600\n
CLASS:PUBLIC
DTSTART:20230601T063000Z
DTEND:20230601T080000Z
DTSTAMP:20260421T075517Z
LOCATION:50105/2 SR
END:VEVENT
BEGIN:VEVENT
UID:23S_608600_4253368@uibk.ac.at
ORGANIZER;CN="LFU:online Universität Innsbruck":MAILTO:Uni-Innsbruck-noreply@uibk.ac.at
SUMMARY:VU Methodik und Didaktik Deutsch als Zweitsprache (Gr. A) (LV 608600-0 23S)
DESCRIPTION:Lehrveranstaltung 608600 23S, Gruppe 0\nTitel: VU Methodik und Didaktik Deutsch als Zweitsprache (Gr. A)\nOrt: 50105/2 SR\n\nhttps://lfuonline.uibk.ac.at/public/lfuonline_lv.details?sem_id_in=23S&lvnr_id_in=608600\n
CLASS:PUBLIC
DTSTART:20230615T063000Z
DTEND:20230615T080000Z
DTSTAMP:20260421T075517Z
LOCATION:50105/2 SR
END:VEVENT
BEGIN:VEVENT
UID:23S_608600_4253369@uibk.ac.at
ORGANIZER;CN="LFU:online Universität Innsbruck":MAILTO:Uni-Innsbruck-noreply@uibk.ac.at
SUMMARY:VU Methodik und Didaktik Deutsch als Zweitsprache (Gr. A) (LV 608600-0 23S)
DESCRIPTION:Lehrveranstaltung 608600 23S, Gruppe 0\nTitel: VU Methodik und Didaktik Deutsch als Zweitsprache (Gr. A)\nOrt: 50105/2 SR\n\nhttps://lfuonline.uibk.ac.at/public/lfuonline_lv.details?sem_id_in=23S&lvnr_id_in=608600\n
CLASS:PUBLIC
DTSTART:20230622T063000Z
DTEND:20230622T080000Z
DTSTAMP:20260421T075517Z
LOCATION:50105/2 SR
END:VEVENT
BEGIN:VEVENT
UID:23S_608600_4253370@uibk.ac.at
ORGANIZER;CN="LFU:online Universität Innsbruck":MAILTO:Uni-Innsbruck-noreply@uibk.ac.at
SUMMARY:VU Methodik und Didaktik Deutsch als Zweitsprache (Gr. A) (LV 608600-0 23S)
DESCRIPTION:Lehrveranstaltung 608600 23S, Gruppe 0\nTitel: VU Methodik und Didaktik Deutsch als Zweitsprache (Gr. A)\nOrt: 50105/2 SR\n\nhttps://lfuonline.uibk.ac.at/public/lfuonline_lv.details?sem_id_in=23S&lvnr_id_in=608600\n
CLASS:PUBLIC
DTSTART:20230629T063000Z
DTEND:20230629T080000Z
DTSTAMP:20260421T075517Z
LOCATION:50105/2 SR
END:VEVENT
END:VCALENDAR