BEGIN:VCALENDAR
VERSION:2.0
PRODID:-//Universität Innsbruck//LFU:online//DE
METHOD:PUBLISH
BEGIN:VEVENT
UID:12W_608665_1886658@uibk.ac.at
ORGANIZER;CN="LFU:online Universität Innsbruck":MAILTO:Uni-Innsbruck-noreply@uibk.ac.at
SUMMARY:Sprachdidaktik (Gruppe A) (LV 608665-0 12W)
DESCRIPTION:Lehrveranstaltung 608665 12W, Gruppe 0\nTitel: Sprachdidaktik (Gruppe A)\nOrt: 40901 SR\n\nhttps://lfuonline.uibk.ac.at/public/lfuonline_lv.details?sem_id_in=12W&lvnr_id_in=608665\n
CLASS:PUBLIC
DTSTART:20121004T151500Z
DTEND:20121004T164500Z
DTSTAMP:20260420T051612Z
LOCATION:40901 SR
END:VEVENT
BEGIN:VEVENT
UID:12W_608665_1886659@uibk.ac.at
ORGANIZER;CN="LFU:online Universität Innsbruck":MAILTO:Uni-Innsbruck-noreply@uibk.ac.at
SUMMARY:Sprachdidaktik (Gruppe A) (LV 608665-0 12W)
DESCRIPTION:Lehrveranstaltung 608665 12W, Gruppe 0\nTitel: Sprachdidaktik (Gruppe A)\nOrt: 40901 SR\n\nhttps://lfuonline.uibk.ac.at/public/lfuonline_lv.details?sem_id_in=12W&lvnr_id_in=608665\n
CLASS:PUBLIC
DTSTART:20121011T151500Z
DTEND:20121011T164500Z
DTSTAMP:20260420T051612Z
LOCATION:40901 SR
END:VEVENT
BEGIN:VEVENT
UID:12W_608665_1886660@uibk.ac.at
ORGANIZER;CN="LFU:online Universität Innsbruck":MAILTO:Uni-Innsbruck-noreply@uibk.ac.at
SUMMARY:Sprachdidaktik (Gruppe A) (LV 608665-0 12W)
DESCRIPTION:Lehrveranstaltung 608665 12W, Gruppe 0\nTitel: Sprachdidaktik (Gruppe A)\nOrt: 40901 SR\n\nhttps://lfuonline.uibk.ac.at/public/lfuonline_lv.details?sem_id_in=12W&lvnr_id_in=608665\n
CLASS:PUBLIC
DTSTART:20121018T151500Z
DTEND:20121018T164500Z
DTSTAMP:20260420T051612Z
LOCATION:40901 SR
END:VEVENT
BEGIN:VEVENT
UID:12W_608665_1886661@uibk.ac.at
ORGANIZER;CN="LFU:online Universität Innsbruck":MAILTO:Uni-Innsbruck-noreply@uibk.ac.at
SUMMARY:Sprachdidaktik (Gruppe A) (LV 608665-0 12W)
DESCRIPTION:Lehrveranstaltung 608665 12W, Gruppe 0\nTitel: Sprachdidaktik (Gruppe A)\nOrt: 40901 SR\n\nhttps://lfuonline.uibk.ac.at/public/lfuonline_lv.details?sem_id_in=12W&lvnr_id_in=608665\n
CLASS:PUBLIC
DTSTART:20121025T151500Z
DTEND:20121025T164500Z
DTSTAMP:20260420T051612Z
LOCATION:40901 SR
END:VEVENT
BEGIN:VEVENT
UID:12W_608665_1886662@uibk.ac.at
ORGANIZER;CN="LFU:online Universität Innsbruck":MAILTO:Uni-Innsbruck-noreply@uibk.ac.at
SUMMARY:Sprachdidaktik (Gruppe A) (LV 608665-0 12W)
DESCRIPTION:Lehrveranstaltung 608665 12W, Gruppe 0\nTitel: Sprachdidaktik (Gruppe A)\nOrt: 40901 SR\n\nhttps://lfuonline.uibk.ac.at/public/lfuonline_lv.details?sem_id_in=12W&lvnr_id_in=608665\n
CLASS:PUBLIC
DTSTART:20121108T161500Z
DTEND:20121108T174500Z
DTSTAMP:20260420T051612Z
LOCATION:40901 SR
END:VEVENT
BEGIN:VEVENT
UID:12W_608665_1886663@uibk.ac.at
ORGANIZER;CN="LFU:online Universität Innsbruck":MAILTO:Uni-Innsbruck-noreply@uibk.ac.at
SUMMARY:Sprachdidaktik (Gruppe A) (LV 608665-0 12W)
DESCRIPTION:Lehrveranstaltung 608665 12W, Gruppe 0\nTitel: Sprachdidaktik (Gruppe A)\nOrt: 40901 SR\n\nhttps://lfuonline.uibk.ac.at/public/lfuonline_lv.details?sem_id_in=12W&lvnr_id_in=608665\n
CLASS:PUBLIC
DTSTART:20121115T161500Z
DTEND:20121115T174500Z
DTSTAMP:20260420T051612Z
LOCATION:40901 SR
END:VEVENT
BEGIN:VEVENT
UID:12W_608665_1886664@uibk.ac.at
ORGANIZER;CN="LFU:online Universität Innsbruck":MAILTO:Uni-Innsbruck-noreply@uibk.ac.at
SUMMARY:Sprachdidaktik (Gruppe A) (LV 608665-0 12W)
DESCRIPTION:Lehrveranstaltung 608665 12W, Gruppe 0\nTitel: Sprachdidaktik (Gruppe A)\nOrt: 40901 SR\n\nhttps://lfuonline.uibk.ac.at/public/lfuonline_lv.details?sem_id_in=12W&lvnr_id_in=608665\n
CLASS:PUBLIC
DTSTART:20121122T161500Z
DTEND:20121122T174500Z
DTSTAMP:20260420T051612Z
LOCATION:40901 SR
END:VEVENT
BEGIN:VEVENT
UID:12W_608665_1886665@uibk.ac.at
ORGANIZER;CN="LFU:online Universität Innsbruck":MAILTO:Uni-Innsbruck-noreply@uibk.ac.at
SUMMARY:Sprachdidaktik (Gruppe A) (LV 608665-0 12W)
DESCRIPTION:Lehrveranstaltung 608665 12W, Gruppe 0\nTitel: Sprachdidaktik (Gruppe A)\nOrt: 40901 SR\n\nhttps://lfuonline.uibk.ac.at/public/lfuonline_lv.details?sem_id_in=12W&lvnr_id_in=608665\n
CLASS:PUBLIC
DTSTART:20121129T161500Z
DTEND:20121129T174500Z
DTSTAMP:20260420T051612Z
LOCATION:40901 SR
END:VEVENT
BEGIN:VEVENT
UID:12W_608665_1886666@uibk.ac.at
ORGANIZER;CN="LFU:online Universität Innsbruck":MAILTO:Uni-Innsbruck-noreply@uibk.ac.at
SUMMARY:Sprachdidaktik (Gruppe A) (LV 608665-0 12W)
DESCRIPTION:Lehrveranstaltung 608665 12W, Gruppe 0\nTitel: Sprachdidaktik (Gruppe A)\nOrt: 40901 SR\n\nhttps://lfuonline.uibk.ac.at/public/lfuonline_lv.details?sem_id_in=12W&lvnr_id_in=608665\n
CLASS:PUBLIC
DTSTART:20121206T161500Z
DTEND:20121206T174500Z
DTSTAMP:20260420T051612Z
LOCATION:40901 SR
END:VEVENT
BEGIN:VEVENT
UID:12W_608665_1886667@uibk.ac.at
ORGANIZER;CN="LFU:online Universität Innsbruck":MAILTO:Uni-Innsbruck-noreply@uibk.ac.at
SUMMARY:Sprachdidaktik (Gruppe A) (LV 608665-0 12W)
DESCRIPTION:Lehrveranstaltung 608665 12W, Gruppe 0\nTitel: Sprachdidaktik (Gruppe A)\nOrt: 40901 SR\n\nhttps://lfuonline.uibk.ac.at/public/lfuonline_lv.details?sem_id_in=12W&lvnr_id_in=608665\n
CLASS:PUBLIC
DTSTART:20121213T161500Z
DTEND:20121213T174500Z
DTSTAMP:20260420T051612Z
LOCATION:40901 SR
END:VEVENT
BEGIN:VEVENT
UID:12W_608665_1886668@uibk.ac.at
ORGANIZER;CN="LFU:online Universität Innsbruck":MAILTO:Uni-Innsbruck-noreply@uibk.ac.at
SUMMARY:Sprachdidaktik (Gruppe A) (LV 608665-0 12W)
DESCRIPTION:Lehrveranstaltung 608665 12W, Gruppe 0\nTitel: Sprachdidaktik (Gruppe A)\nOrt: 40901 SR\n\nhttps://lfuonline.uibk.ac.at/public/lfuonline_lv.details?sem_id_in=12W&lvnr_id_in=608665\n
CLASS:PUBLIC
DTSTART:20130110T161500Z
DTEND:20130110T174500Z
DTSTAMP:20260420T051612Z
LOCATION:40901 SR
END:VEVENT
BEGIN:VEVENT
UID:12W_608665_1886669@uibk.ac.at
ORGANIZER;CN="LFU:online Universität Innsbruck":MAILTO:Uni-Innsbruck-noreply@uibk.ac.at
SUMMARY:Sprachdidaktik (Gruppe A) (LV 608665-0 12W)
DESCRIPTION:Lehrveranstaltung 608665 12W, Gruppe 0\nTitel: Sprachdidaktik (Gruppe A)\nOrt: 40901 SR\n\nhttps://lfuonline.uibk.ac.at/public/lfuonline_lv.details?sem_id_in=12W&lvnr_id_in=608665\n
CLASS:PUBLIC
DTSTART:20130117T161500Z
DTEND:20130117T174500Z
DTSTAMP:20260420T051612Z
LOCATION:40901 SR
END:VEVENT
BEGIN:VEVENT
UID:12W_608665_1886670@uibk.ac.at
ORGANIZER;CN="LFU:online Universität Innsbruck":MAILTO:Uni-Innsbruck-noreply@uibk.ac.at
SUMMARY:Sprachdidaktik (Gruppe A) (LV 608665-0 12W)
DESCRIPTION:Lehrveranstaltung 608665 12W, Gruppe 0\nTitel: Sprachdidaktik (Gruppe A)\nOrt: 40901 SR\n\nhttps://lfuonline.uibk.ac.at/public/lfuonline_lv.details?sem_id_in=12W&lvnr_id_in=608665\n
CLASS:PUBLIC
DTSTART:20130124T161500Z
DTEND:20130124T174500Z
DTSTAMP:20260420T051612Z
LOCATION:40901 SR
END:VEVENT
BEGIN:VEVENT
UID:12W_608665_1886671@uibk.ac.at
ORGANIZER;CN="LFU:online Universität Innsbruck":MAILTO:Uni-Innsbruck-noreply@uibk.ac.at
SUMMARY:Sprachdidaktik (Gruppe A) (LV 608665-0 12W)
DESCRIPTION:Lehrveranstaltung 608665 12W, Gruppe 0\nTitel: Sprachdidaktik (Gruppe A)\nOrt: 40901 SR\n\nhttps://lfuonline.uibk.ac.at/public/lfuonline_lv.details?sem_id_in=12W&lvnr_id_in=608665\n
CLASS:PUBLIC
DTSTART:20130131T161500Z
DTEND:20130131T174500Z
DTSTAMP:20260420T051612Z
LOCATION:40901 SR
END:VEVENT
END:VCALENDAR