BEGIN:VCALENDAR
VERSION:2.0
PRODID:-//Universität Innsbruck//LFU:online//DE
METHOD:PUBLISH
BEGIN:VEVENT
UID:12W_608666_1886708@uibk.ac.at
ORGANIZER;CN="LFU:online Universität Innsbruck":MAILTO:Uni-Innsbruck-noreply@uibk.ac.at
SUMMARY:Sprachdidaktik (Gruppe B) (LV 608666-0 12W)
DESCRIPTION:Lehrveranstaltung 608666 12W, Gruppe 0\nTitel: Sprachdidaktik (Gruppe B)\nOrt: 40832 SR\n\nhttps://lfuonline.uibk.ac.at/public/lfuonline_lv.details?sem_id_in=12W&lvnr_id_in=608666\n
CLASS:PUBLIC
DTSTART:20121004T170000Z
DTEND:20121004T183000Z
DTSTAMP:20260420T051612Z
LOCATION:40832 SR
END:VEVENT
BEGIN:VEVENT
UID:12W_608666_1886709@uibk.ac.at
ORGANIZER;CN="LFU:online Universität Innsbruck":MAILTO:Uni-Innsbruck-noreply@uibk.ac.at
SUMMARY:Sprachdidaktik (Gruppe B) (LV 608666-0 12W)
DESCRIPTION:Lehrveranstaltung 608666 12W, Gruppe 0\nTitel: Sprachdidaktik (Gruppe B)\nOrt: 40832 SR\n\nhttps://lfuonline.uibk.ac.at/public/lfuonline_lv.details?sem_id_in=12W&lvnr_id_in=608666\n
CLASS:PUBLIC
DTSTART:20121011T170000Z
DTEND:20121011T183000Z
DTSTAMP:20260420T051612Z
LOCATION:40832 SR
END:VEVENT
BEGIN:VEVENT
UID:12W_608666_1886710@uibk.ac.at
ORGANIZER;CN="LFU:online Universität Innsbruck":MAILTO:Uni-Innsbruck-noreply@uibk.ac.at
SUMMARY:Sprachdidaktik (Gruppe B) (LV 608666-0 12W)
DESCRIPTION:Lehrveranstaltung 608666 12W, Gruppe 0\nTitel: Sprachdidaktik (Gruppe B)\nOrt: 40832 SR\n\nhttps://lfuonline.uibk.ac.at/public/lfuonline_lv.details?sem_id_in=12W&lvnr_id_in=608666\n
CLASS:PUBLIC
DTSTART:20121018T170000Z
DTEND:20121018T183000Z
DTSTAMP:20260420T051612Z
LOCATION:40832 SR
END:VEVENT
BEGIN:VEVENT
UID:12W_608666_1886711@uibk.ac.at
ORGANIZER;CN="LFU:online Universität Innsbruck":MAILTO:Uni-Innsbruck-noreply@uibk.ac.at
SUMMARY:Sprachdidaktik (Gruppe B) (LV 608666-0 12W)
DESCRIPTION:Lehrveranstaltung 608666 12W, Gruppe 0\nTitel: Sprachdidaktik (Gruppe B)\nOrt: 40832 SR\n\nhttps://lfuonline.uibk.ac.at/public/lfuonline_lv.details?sem_id_in=12W&lvnr_id_in=608666\n
CLASS:PUBLIC
DTSTART:20121025T170000Z
DTEND:20121025T183000Z
DTSTAMP:20260420T051612Z
LOCATION:40832 SR
END:VEVENT
BEGIN:VEVENT
UID:12W_608666_1886712@uibk.ac.at
ORGANIZER;CN="LFU:online Universität Innsbruck":MAILTO:Uni-Innsbruck-noreply@uibk.ac.at
SUMMARY:Sprachdidaktik (Gruppe B) (LV 608666-0 12W)
DESCRIPTION:Lehrveranstaltung 608666 12W, Gruppe 0\nTitel: Sprachdidaktik (Gruppe B)\nOrt: 40832 SR\n\nhttps://lfuonline.uibk.ac.at/public/lfuonline_lv.details?sem_id_in=12W&lvnr_id_in=608666\n
CLASS:PUBLIC
DTSTART:20121108T180000Z
DTEND:20121108T193000Z
DTSTAMP:20260420T051612Z
LOCATION:40832 SR
END:VEVENT
BEGIN:VEVENT
UID:12W_608666_1886713@uibk.ac.at
ORGANIZER;CN="LFU:online Universität Innsbruck":MAILTO:Uni-Innsbruck-noreply@uibk.ac.at
SUMMARY:Sprachdidaktik (Gruppe B) (LV 608666-0 12W)
DESCRIPTION:Lehrveranstaltung 608666 12W, Gruppe 0\nTitel: Sprachdidaktik (Gruppe B)\nOrt: 40832 SR\n\nhttps://lfuonline.uibk.ac.at/public/lfuonline_lv.details?sem_id_in=12W&lvnr_id_in=608666\n
CLASS:PUBLIC
DTSTART:20121115T180000Z
DTEND:20121115T193000Z
DTSTAMP:20260420T051612Z
LOCATION:40832 SR
END:VEVENT
BEGIN:VEVENT
UID:12W_608666_1886714@uibk.ac.at
ORGANIZER;CN="LFU:online Universität Innsbruck":MAILTO:Uni-Innsbruck-noreply@uibk.ac.at
SUMMARY:Sprachdidaktik (Gruppe B) (LV 608666-0 12W)
DESCRIPTION:Lehrveranstaltung 608666 12W, Gruppe 0\nTitel: Sprachdidaktik (Gruppe B)\nOrt: 40832 SR\n\nhttps://lfuonline.uibk.ac.at/public/lfuonline_lv.details?sem_id_in=12W&lvnr_id_in=608666\n
CLASS:PUBLIC
DTSTART:20121122T180000Z
DTEND:20121122T193000Z
DTSTAMP:20260420T051612Z
LOCATION:40832 SR
END:VEVENT
BEGIN:VEVENT
UID:12W_608666_1886715@uibk.ac.at
ORGANIZER;CN="LFU:online Universität Innsbruck":MAILTO:Uni-Innsbruck-noreply@uibk.ac.at
SUMMARY:Sprachdidaktik (Gruppe B) (LV 608666-0 12W)
DESCRIPTION:Lehrveranstaltung 608666 12W, Gruppe 0\nTitel: Sprachdidaktik (Gruppe B)\nOrt: 40832 SR\n\nhttps://lfuonline.uibk.ac.at/public/lfuonline_lv.details?sem_id_in=12W&lvnr_id_in=608666\n
CLASS:PUBLIC
DTSTART:20121129T180000Z
DTEND:20121129T193000Z
DTSTAMP:20260420T051612Z
LOCATION:40832 SR
END:VEVENT
BEGIN:VEVENT
UID:12W_608666_1886716@uibk.ac.at
ORGANIZER;CN="LFU:online Universität Innsbruck":MAILTO:Uni-Innsbruck-noreply@uibk.ac.at
SUMMARY:Sprachdidaktik (Gruppe B) (LV 608666-0 12W)
DESCRIPTION:Lehrveranstaltung 608666 12W, Gruppe 0\nTitel: Sprachdidaktik (Gruppe B)\nOrt: 40832 SR\n\nhttps://lfuonline.uibk.ac.at/public/lfuonline_lv.details?sem_id_in=12W&lvnr_id_in=608666\n
CLASS:PUBLIC
DTSTART:20121206T180000Z
DTEND:20121206T193000Z
DTSTAMP:20260420T051612Z
LOCATION:40832 SR
END:VEVENT
BEGIN:VEVENT
UID:12W_608666_1886717@uibk.ac.at
ORGANIZER;CN="LFU:online Universität Innsbruck":MAILTO:Uni-Innsbruck-noreply@uibk.ac.at
SUMMARY:Sprachdidaktik (Gruppe B) (LV 608666-0 12W)
DESCRIPTION:Lehrveranstaltung 608666 12W, Gruppe 0\nTitel: Sprachdidaktik (Gruppe B)\nOrt: 40832 SR\n\nhttps://lfuonline.uibk.ac.at/public/lfuonline_lv.details?sem_id_in=12W&lvnr_id_in=608666\n
CLASS:PUBLIC
DTSTART:20121213T180000Z
DTEND:20121213T193000Z
DTSTAMP:20260420T051612Z
LOCATION:40832 SR
END:VEVENT
BEGIN:VEVENT
UID:12W_608666_1886718@uibk.ac.at
ORGANIZER;CN="LFU:online Universität Innsbruck":MAILTO:Uni-Innsbruck-noreply@uibk.ac.at
SUMMARY:Sprachdidaktik (Gruppe B) (LV 608666-0 12W)
DESCRIPTION:Lehrveranstaltung 608666 12W, Gruppe 0\nTitel: Sprachdidaktik (Gruppe B)\nOrt: 40832 SR\n\nhttps://lfuonline.uibk.ac.at/public/lfuonline_lv.details?sem_id_in=12W&lvnr_id_in=608666\n
CLASS:PUBLIC
DTSTART:20130110T180000Z
DTEND:20130110T193000Z
DTSTAMP:20260420T051612Z
LOCATION:40832 SR
END:VEVENT
BEGIN:VEVENT
UID:12W_608666_1886719@uibk.ac.at
ORGANIZER;CN="LFU:online Universität Innsbruck":MAILTO:Uni-Innsbruck-noreply@uibk.ac.at
SUMMARY:Sprachdidaktik (Gruppe B) (LV 608666-0 12W)
DESCRIPTION:Lehrveranstaltung 608666 12W, Gruppe 0\nTitel: Sprachdidaktik (Gruppe B)\nOrt: 40832 SR\n\nhttps://lfuonline.uibk.ac.at/public/lfuonline_lv.details?sem_id_in=12W&lvnr_id_in=608666\n
CLASS:PUBLIC
DTSTART:20130117T180000Z
DTEND:20130117T193000Z
DTSTAMP:20260420T051612Z
LOCATION:40832 SR
END:VEVENT
BEGIN:VEVENT
UID:12W_608666_1886720@uibk.ac.at
ORGANIZER;CN="LFU:online Universität Innsbruck":MAILTO:Uni-Innsbruck-noreply@uibk.ac.at
SUMMARY:Sprachdidaktik (Gruppe B) (LV 608666-0 12W)
DESCRIPTION:Lehrveranstaltung 608666 12W, Gruppe 0\nTitel: Sprachdidaktik (Gruppe B)\nOrt: 40832 SR\n\nhttps://lfuonline.uibk.ac.at/public/lfuonline_lv.details?sem_id_in=12W&lvnr_id_in=608666\n
CLASS:PUBLIC
DTSTART:20130124T180000Z
DTEND:20130124T193000Z
DTSTAMP:20260420T051612Z
LOCATION:40832 SR
END:VEVENT
BEGIN:VEVENT
UID:12W_608666_1886721@uibk.ac.at
ORGANIZER;CN="LFU:online Universität Innsbruck":MAILTO:Uni-Innsbruck-noreply@uibk.ac.at
SUMMARY:Sprachdidaktik (Gruppe B) (LV 608666-0 12W)
DESCRIPTION:Lehrveranstaltung 608666 12W, Gruppe 0\nTitel: Sprachdidaktik (Gruppe B)\nOrt: 40832 SR\n\nhttps://lfuonline.uibk.ac.at/public/lfuonline_lv.details?sem_id_in=12W&lvnr_id_in=608666\n
CLASS:PUBLIC
DTSTART:20130131T180000Z
DTEND:20130131T193000Z
DTSTAMP:20260420T051612Z
LOCATION:40832 SR
END:VEVENT
END:VCALENDAR