BEGIN:VCALENDAR
VERSION:2.0
PRODID:-//Universität Innsbruck//LFU:online//DE
METHOD:PUBLISH
BEGIN:VEVENT
UID:18S_608701_3075021@uibk.ac.at
ORGANIZER;CN="LFU:online Universität Innsbruck":MAILTO:Uni-Innsbruck-noreply@uibk.ac.at
SUMMARY:Interkulturelle Kommunikation (LV 608701-0 18S)
DESCRIPTION:Lehrveranstaltung 608701 18S, Gruppe 0\nTitel: Interkulturelle Kommunikation\nOrt: 40901 SR\n\nhttps://lfuonline.uibk.ac.at/public/lfuonline_lv.details?sem_id_in=18S&lvnr_id_in=608701\n
CLASS:PUBLIC
DTSTART:20180306T110000Z
DTEND:20180306T123000Z
DTSTAMP:20260425T210447Z
LOCATION:40901 SR
END:VEVENT
BEGIN:VEVENT
UID:18S_608701_3075022@uibk.ac.at
ORGANIZER;CN="LFU:online Universität Innsbruck":MAILTO:Uni-Innsbruck-noreply@uibk.ac.at
SUMMARY:Interkulturelle Kommunikation (LV 608701-0 18S)
DESCRIPTION:Lehrveranstaltung 608701 18S, Gruppe 0\nTitel: Interkulturelle Kommunikation\nOrt: 40901 SR\n\nhttps://lfuonline.uibk.ac.at/public/lfuonline_lv.details?sem_id_in=18S&lvnr_id_in=608701\n
CLASS:PUBLIC
DTSTART:20180313T110000Z
DTEND:20180313T123000Z
DTSTAMP:20260425T210447Z
LOCATION:40901 SR
END:VEVENT
BEGIN:VEVENT
UID:18S_608701_3075023@uibk.ac.at
ORGANIZER;CN="LFU:online Universität Innsbruck":MAILTO:Uni-Innsbruck-noreply@uibk.ac.at
SUMMARY:Interkulturelle Kommunikation (LV 608701-0 18S)
DESCRIPTION:Lehrveranstaltung 608701 18S, Gruppe 0\nTitel: Interkulturelle Kommunikation\nOrt: 40901 SR\n\nhttps://lfuonline.uibk.ac.at/public/lfuonline_lv.details?sem_id_in=18S&lvnr_id_in=608701\n
CLASS:PUBLIC
DTSTART:20180320T110000Z
DTEND:20180320T123000Z
DTSTAMP:20260425T210447Z
LOCATION:40901 SR
END:VEVENT
BEGIN:VEVENT
UID:18S_608701_3075024@uibk.ac.at
ORGANIZER;CN="LFU:online Universität Innsbruck":MAILTO:Uni-Innsbruck-noreply@uibk.ac.at
SUMMARY:Interkulturelle Kommunikation (LV 608701-0 18S)
DESCRIPTION:Lehrveranstaltung 608701 18S, Gruppe 0\nTitel: Interkulturelle Kommunikation\nOrt: 40901 SR\n\nhttps://lfuonline.uibk.ac.at/public/lfuonline_lv.details?sem_id_in=18S&lvnr_id_in=608701\n
CLASS:PUBLIC
DTSTART:20180410T100000Z
DTEND:20180410T113000Z
DTSTAMP:20260425T210447Z
LOCATION:40901 SR
END:VEVENT
BEGIN:VEVENT
UID:18S_608701_3075025@uibk.ac.at
ORGANIZER;CN="LFU:online Universität Innsbruck":MAILTO:Uni-Innsbruck-noreply@uibk.ac.at
SUMMARY:Interkulturelle Kommunikation (LV 608701-0 18S)
DESCRIPTION:Lehrveranstaltung 608701 18S, Gruppe 0\nTitel: Interkulturelle Kommunikation\nOrt: 40901 SR\n\nhttps://lfuonline.uibk.ac.at/public/lfuonline_lv.details?sem_id_in=18S&lvnr_id_in=608701\n
CLASS:PUBLIC
DTSTART:20180417T100000Z
DTEND:20180417T113000Z
DTSTAMP:20260425T210447Z
LOCATION:40901 SR
END:VEVENT
BEGIN:VEVENT
UID:18S_608701_3075026@uibk.ac.at
ORGANIZER;CN="LFU:online Universität Innsbruck":MAILTO:Uni-Innsbruck-noreply@uibk.ac.at
SUMMARY:Interkulturelle Kommunikation (LV 608701-0 18S)
DESCRIPTION:Lehrveranstaltung 608701 18S, Gruppe 0\nTitel: Interkulturelle Kommunikation\nOrt: 40901 SR\n\nhttps://lfuonline.uibk.ac.at/public/lfuonline_lv.details?sem_id_in=18S&lvnr_id_in=608701\n
CLASS:PUBLIC
DTSTART:20180424T100000Z
DTEND:20180424T113000Z
DTSTAMP:20260425T210447Z
LOCATION:40901 SR
END:VEVENT
BEGIN:VEVENT
UID:18S_608701_3075027@uibk.ac.at
ORGANIZER;CN="LFU:online Universität Innsbruck":MAILTO:Uni-Innsbruck-noreply@uibk.ac.at
SUMMARY:Interkulturelle Kommunikation (LV 608701-0 18S)
DESCRIPTION:Lehrveranstaltung 608701 18S, Gruppe 0\nTitel: Interkulturelle Kommunikation\nOrt: 40901 SR\n\nhttps://lfuonline.uibk.ac.at/public/lfuonline_lv.details?sem_id_in=18S&lvnr_id_in=608701\n
CLASS:PUBLIC
DTSTART:20180508T100000Z
DTEND:20180508T113000Z
DTSTAMP:20260425T210447Z
LOCATION:40901 SR
END:VEVENT
BEGIN:VEVENT
UID:18S_608701_3075028@uibk.ac.at
ORGANIZER;CN="LFU:online Universität Innsbruck":MAILTO:Uni-Innsbruck-noreply@uibk.ac.at
SUMMARY:Interkulturelle Kommunikation (LV 608701-0 18S)
DESCRIPTION:Lehrveranstaltung 608701 18S, Gruppe 0\nTitel: Interkulturelle Kommunikation\nOrt: 40901 SR\n\nhttps://lfuonline.uibk.ac.at/public/lfuonline_lv.details?sem_id_in=18S&lvnr_id_in=608701\n
CLASS:PUBLIC
DTSTART:20180515T100000Z
DTEND:20180515T113000Z
DTSTAMP:20260425T210447Z
LOCATION:40901 SR
END:VEVENT
BEGIN:VEVENT
UID:18S_608701_3075029@uibk.ac.at
ORGANIZER;CN="LFU:online Universität Innsbruck":MAILTO:Uni-Innsbruck-noreply@uibk.ac.at
SUMMARY:Interkulturelle Kommunikation (LV 608701-0 18S)
DESCRIPTION:Lehrveranstaltung 608701 18S, Gruppe 0\nTitel: Interkulturelle Kommunikation\nOrt: 40901 SR\n\nhttps://lfuonline.uibk.ac.at/public/lfuonline_lv.details?sem_id_in=18S&lvnr_id_in=608701\n
CLASS:PUBLIC
DTSTART:20180522T100000Z
DTEND:20180522T113000Z
DTSTAMP:20260425T210447Z
LOCATION:40901 SR
END:VEVENT
BEGIN:VEVENT
UID:18S_608701_3075030@uibk.ac.at
ORGANIZER;CN="LFU:online Universität Innsbruck":MAILTO:Uni-Innsbruck-noreply@uibk.ac.at
SUMMARY:Interkulturelle Kommunikation (LV 608701-0 18S)
DESCRIPTION:Lehrveranstaltung 608701 18S, Gruppe 0\nTitel: Interkulturelle Kommunikation\nOrt: 40901 SR\n\nhttps://lfuonline.uibk.ac.at/public/lfuonline_lv.details?sem_id_in=18S&lvnr_id_in=608701\n
CLASS:PUBLIC
DTSTART:20180529T100000Z
DTEND:20180529T113000Z
DTSTAMP:20260425T210447Z
LOCATION:40901 SR
END:VEVENT
BEGIN:VEVENT
UID:18S_608701_3075031@uibk.ac.at
ORGANIZER;CN="LFU:online Universität Innsbruck":MAILTO:Uni-Innsbruck-noreply@uibk.ac.at
SUMMARY:Interkulturelle Kommunikation (LV 608701-0 18S)
DESCRIPTION:Lehrveranstaltung 608701 18S, Gruppe 0\nTitel: Interkulturelle Kommunikation\nOrt: 40901 SR\n\nhttps://lfuonline.uibk.ac.at/public/lfuonline_lv.details?sem_id_in=18S&lvnr_id_in=608701\n
CLASS:PUBLIC
DTSTART:20180605T100000Z
DTEND:20180605T113000Z
DTSTAMP:20260425T210447Z
LOCATION:40901 SR
END:VEVENT
BEGIN:VEVENT
UID:18S_608701_3075032@uibk.ac.at
ORGANIZER;CN="LFU:online Universität Innsbruck":MAILTO:Uni-Innsbruck-noreply@uibk.ac.at
SUMMARY:Interkulturelle Kommunikation (LV 608701-0 18S)
DESCRIPTION:Lehrveranstaltung 608701 18S, Gruppe 0\nTitel: Interkulturelle Kommunikation\nOrt: 40901 SR\n\nhttps://lfuonline.uibk.ac.at/public/lfuonline_lv.details?sem_id_in=18S&lvnr_id_in=608701\n
CLASS:PUBLIC
DTSTART:20180612T100000Z
DTEND:20180612T113000Z
DTSTAMP:20260425T210447Z
LOCATION:40901 SR
END:VEVENT
BEGIN:VEVENT
UID:18S_608701_3075033@uibk.ac.at
ORGANIZER;CN="LFU:online Universität Innsbruck":MAILTO:Uni-Innsbruck-noreply@uibk.ac.at
SUMMARY:Interkulturelle Kommunikation (LV 608701-0 18S)
DESCRIPTION:Lehrveranstaltung 608701 18S, Gruppe 0\nTitel: Interkulturelle Kommunikation\nOrt: 40901 SR\n\nhttps://lfuonline.uibk.ac.at/public/lfuonline_lv.details?sem_id_in=18S&lvnr_id_in=608701\n
CLASS:PUBLIC
DTSTART:20180619T100000Z
DTEND:20180619T113000Z
DTSTAMP:20260425T210447Z
LOCATION:40901 SR
END:VEVENT
BEGIN:VEVENT
UID:18S_608701_3075034@uibk.ac.at
ORGANIZER;CN="LFU:online Universität Innsbruck":MAILTO:Uni-Innsbruck-noreply@uibk.ac.at
SUMMARY:Interkulturelle Kommunikation (LV 608701-0 18S)
DESCRIPTION:Lehrveranstaltung 608701 18S, Gruppe 0\nTitel: Interkulturelle Kommunikation\nOrt: 40901 SR\n\nhttps://lfuonline.uibk.ac.at/public/lfuonline_lv.details?sem_id_in=18S&lvnr_id_in=608701\n
CLASS:PUBLIC
DTSTART:20180626T100000Z
DTEND:20180626T113000Z
DTSTAMP:20260425T210447Z
LOCATION:40901 SR
END:VEVENT
END:VCALENDAR