BEGIN:VCALENDAR
VERSION:2.0
PRODID:-//Universität Innsbruck//LFU:online//DE
METHOD:PUBLISH
BEGIN:VEVENT
UID:24S_609010_4511962@uibk.ac.at
ORGANIZER;CN="LFU:online Universität Innsbruck":MAILTO:Uni-Innsbruck-noreply@uibk.ac.at
SUMMARY:UE Listening/Speaking II A (LV 609010-0 24S)
DESCRIPTION:Lehrveranstaltung 609010 24S, Gruppe 0\nTitel: UE Listening/Speaking II A\nOrt: 4U102b\n\nhttps://lfuonline.uibk.ac.at/public/lfuonline_lv.details?sem_id_in=24S&lvnr_id_in=609010\n
CLASS:PUBLIC
DTSTART:20240307T143000Z
DTEND:20240307T160000Z
DTSTAMP:20260422T111053Z
LOCATION:4U102b
END:VEVENT
BEGIN:VEVENT
UID:24S_609010_4511963@uibk.ac.at
ORGANIZER;CN="LFU:online Universität Innsbruck":MAILTO:Uni-Innsbruck-noreply@uibk.ac.at
SUMMARY:UE Listening/Speaking II A (LV 609010-0 24S)
DESCRIPTION:Lehrveranstaltung 609010 24S, Gruppe 0\nTitel: UE Listening/Speaking II A\nOrt: 4U102b\n\nhttps://lfuonline.uibk.ac.at/public/lfuonline_lv.details?sem_id_in=24S&lvnr_id_in=609010\n
CLASS:PUBLIC
DTSTART:20240314T143000Z
DTEND:20240314T160000Z
DTSTAMP:20260422T111053Z
LOCATION:4U102b
END:VEVENT
BEGIN:VEVENT
UID:24S_609010_4511964@uibk.ac.at
ORGANIZER;CN="LFU:online Universität Innsbruck":MAILTO:Uni-Innsbruck-noreply@uibk.ac.at
SUMMARY:ABGESAGT: UE Listening/Speaking II A (LV 609010-0 24S)
DESCRIPTION:Lehrveranstaltung 609010 24S, Gruppe 0\nTitel: UE Listening/Speaking II A\nOrt: 4U102b\n\nhttps://lfuonline.uibk.ac.at/public/lfuonline_lv.details?sem_id_in=24S&lvnr_id_in=609010\n
CLASS:PUBLIC
DTSTART:20240321T143000Z
DTEND:20240321T160000Z
DTSTAMP:20260422T111053Z
LOCATION:4U102b
END:VEVENT
BEGIN:VEVENT
UID:24S_609010_4511965@uibk.ac.at
ORGANIZER;CN="LFU:online Universität Innsbruck":MAILTO:Uni-Innsbruck-noreply@uibk.ac.at
SUMMARY:UE Listening/Speaking II A (LV 609010-0 24S)
DESCRIPTION:Lehrveranstaltung 609010 24S, Gruppe 0\nTitel: UE Listening/Speaking II A\nOrt: 4U102b\n\nhttps://lfuonline.uibk.ac.at/public/lfuonline_lv.details?sem_id_in=24S&lvnr_id_in=609010\n
CLASS:PUBLIC
DTSTART:20240411T133000Z
DTEND:20240411T150000Z
DTSTAMP:20260422T111053Z
LOCATION:4U102b
END:VEVENT
BEGIN:VEVENT
UID:24S_609010_4511966@uibk.ac.at
ORGANIZER;CN="LFU:online Universität Innsbruck":MAILTO:Uni-Innsbruck-noreply@uibk.ac.at
SUMMARY:UE Listening/Speaking II A (LV 609010-0 24S)
DESCRIPTION:Lehrveranstaltung 609010 24S, Gruppe 0\nTitel: UE Listening/Speaking II A\nOrt: 4U102b\n\nhttps://lfuonline.uibk.ac.at/public/lfuonline_lv.details?sem_id_in=24S&lvnr_id_in=609010\n
CLASS:PUBLIC
DTSTART:20240418T133000Z
DTEND:20240418T150000Z
DTSTAMP:20260422T111053Z
LOCATION:4U102b
END:VEVENT
BEGIN:VEVENT
UID:24S_609010_4511967@uibk.ac.at
ORGANIZER;CN="LFU:online Universität Innsbruck":MAILTO:Uni-Innsbruck-noreply@uibk.ac.at
SUMMARY:UE Listening/Speaking II A (LV 609010-0 24S)
DESCRIPTION:Lehrveranstaltung 609010 24S, Gruppe 0\nTitel: UE Listening/Speaking II A\nOrt: 4U102b\n\nhttps://lfuonline.uibk.ac.at/public/lfuonline_lv.details?sem_id_in=24S&lvnr_id_in=609010\n
CLASS:PUBLIC
DTSTART:20240425T133000Z
DTEND:20240425T150000Z
DTSTAMP:20260422T111053Z
LOCATION:4U102b
END:VEVENT
BEGIN:VEVENT
UID:24S_609010_4511968@uibk.ac.at
ORGANIZER;CN="LFU:online Universität Innsbruck":MAILTO:Uni-Innsbruck-noreply@uibk.ac.at
SUMMARY:UE Listening/Speaking II A (LV 609010-0 24S)
DESCRIPTION:Lehrveranstaltung 609010 24S, Gruppe 0\nTitel: UE Listening/Speaking II A\nOrt: 4U102b\n\nhttps://lfuonline.uibk.ac.at/public/lfuonline_lv.details?sem_id_in=24S&lvnr_id_in=609010\n
CLASS:PUBLIC
DTSTART:20240502T133000Z
DTEND:20240502T150000Z
DTSTAMP:20260422T111053Z
LOCATION:4U102b
END:VEVENT
BEGIN:VEVENT
UID:24S_609010_4511969@uibk.ac.at
ORGANIZER;CN="LFU:online Universität Innsbruck":MAILTO:Uni-Innsbruck-noreply@uibk.ac.at
SUMMARY:UE Listening/Speaking II A (LV 609010-0 24S)
DESCRIPTION:Lehrveranstaltung 609010 24S, Gruppe 0\nTitel: UE Listening/Speaking II A\nOrt: 4U102b\n\nhttps://lfuonline.uibk.ac.at/public/lfuonline_lv.details?sem_id_in=24S&lvnr_id_in=609010\n
CLASS:PUBLIC
DTSTART:20240516T133000Z
DTEND:20240516T150000Z
DTSTAMP:20260422T111053Z
LOCATION:4U102b
END:VEVENT
BEGIN:VEVENT
UID:24S_609010_4511970@uibk.ac.at
ORGANIZER;CN="LFU:online Universität Innsbruck":MAILTO:Uni-Innsbruck-noreply@uibk.ac.at
SUMMARY:UE Listening/Speaking II A (LV 609010-0 24S)
DESCRIPTION:Lehrveranstaltung 609010 24S, Gruppe 0\nTitel: UE Listening/Speaking II A\nOrt: 4U102b\n\nhttps://lfuonline.uibk.ac.at/public/lfuonline_lv.details?sem_id_in=24S&lvnr_id_in=609010\n
CLASS:PUBLIC
DTSTART:20240523T133000Z
DTEND:20240523T150000Z
DTSTAMP:20260422T111053Z
LOCATION:4U102b
END:VEVENT
BEGIN:VEVENT
UID:24S_609010_4511971@uibk.ac.at
ORGANIZER;CN="LFU:online Universität Innsbruck":MAILTO:Uni-Innsbruck-noreply@uibk.ac.at
SUMMARY:UE Listening/Speaking II A (LV 609010-0 24S)
DESCRIPTION:Lehrveranstaltung 609010 24S, Gruppe 0\nTitel: UE Listening/Speaking II A\nOrt: 4U102b\n\nhttps://lfuonline.uibk.ac.at/public/lfuonline_lv.details?sem_id_in=24S&lvnr_id_in=609010\n
CLASS:PUBLIC
DTSTART:20240606T133000Z
DTEND:20240606T150000Z
DTSTAMP:20260422T111053Z
LOCATION:4U102b
END:VEVENT
BEGIN:VEVENT
UID:24S_609010_4511972@uibk.ac.at
ORGANIZER;CN="LFU:online Universität Innsbruck":MAILTO:Uni-Innsbruck-noreply@uibk.ac.at
SUMMARY:UE Listening/Speaking II A (LV 609010-0 24S)
DESCRIPTION:Lehrveranstaltung 609010 24S, Gruppe 0\nTitel: UE Listening/Speaking II A\nOrt: 4U102b\n\nhttps://lfuonline.uibk.ac.at/public/lfuonline_lv.details?sem_id_in=24S&lvnr_id_in=609010\n
CLASS:PUBLIC
DTSTART:20240613T133000Z
DTEND:20240613T150000Z
DTSTAMP:20260422T111053Z
LOCATION:4U102b
END:VEVENT
BEGIN:VEVENT
UID:24S_609010_4511973@uibk.ac.at
ORGANIZER;CN="LFU:online Universität Innsbruck":MAILTO:Uni-Innsbruck-noreply@uibk.ac.at
SUMMARY:UE Listening/Speaking II A (LV 609010-0 24S)
DESCRIPTION:Lehrveranstaltung 609010 24S, Gruppe 0\nTitel: UE Listening/Speaking II A\nOrt: 4U102b\n\nhttps://lfuonline.uibk.ac.at/public/lfuonline_lv.details?sem_id_in=24S&lvnr_id_in=609010\n
CLASS:PUBLIC
DTSTART:20240620T133000Z
DTEND:20240620T150000Z
DTSTAMP:20260422T111053Z
LOCATION:4U102b
END:VEVENT
END:VCALENDAR