BEGIN:VCALENDAR
VERSION:2.0
PRODID:-//Universität Innsbruck//LFU:online//DE
METHOD:PUBLISH
BEGIN:VEVENT
UID:24S_609011_4511137@uibk.ac.at
ORGANIZER;CN="LFU:online Universität Innsbruck":MAILTO:Uni-Innsbruck-noreply@uibk.ac.at
SUMMARY:UE Listening/Speaking II B (LV 609011-0 24S)
DESCRIPTION:Lehrveranstaltung 609011 24S, Gruppe 0\nTitel: UE Listening/Speaking II B\nOrt: 40735 SR\n\nhttps://lfuonline.uibk.ac.at/public/lfuonline_lv.details?sem_id_in=24S&lvnr_id_in=609011\n
CLASS:PUBLIC
DTSTART:20240305T143000Z
DTEND:20240305T160000Z
DTSTAMP:20260422T111132Z
LOCATION:40735 SR
END:VEVENT
BEGIN:VEVENT
UID:24S_609011_4511138@uibk.ac.at
ORGANIZER;CN="LFU:online Universität Innsbruck":MAILTO:Uni-Innsbruck-noreply@uibk.ac.at
SUMMARY:UE Listening/Speaking II B (LV 609011-0 24S)
DESCRIPTION:Lehrveranstaltung 609011 24S, Gruppe 0\nTitel: UE Listening/Speaking II B\nOrt: 40735 SR\n\nhttps://lfuonline.uibk.ac.at/public/lfuonline_lv.details?sem_id_in=24S&lvnr_id_in=609011\n
CLASS:PUBLIC
DTSTART:20240312T143000Z
DTEND:20240312T160000Z
DTSTAMP:20260422T111132Z
LOCATION:40735 SR
END:VEVENT
BEGIN:VEVENT
UID:24S_609011_4511139@uibk.ac.at
ORGANIZER;CN="LFU:online Universität Innsbruck":MAILTO:Uni-Innsbruck-noreply@uibk.ac.at
SUMMARY:UE Listening/Speaking II B (LV 609011-0 24S)
DESCRIPTION:Lehrveranstaltung 609011 24S, Gruppe 0\nTitel: UE Listening/Speaking II B\nOrt: 40735 SR\n\nhttps://lfuonline.uibk.ac.at/public/lfuonline_lv.details?sem_id_in=24S&lvnr_id_in=609011\n
CLASS:PUBLIC
DTSTART:20240319T143000Z
DTEND:20240319T160000Z
DTSTAMP:20260422T111132Z
LOCATION:40735 SR
END:VEVENT
BEGIN:VEVENT
UID:24S_609011_4511140@uibk.ac.at
ORGANIZER;CN="LFU:online Universität Innsbruck":MAILTO:Uni-Innsbruck-noreply@uibk.ac.at
SUMMARY:UE Listening/Speaking II B (LV 609011-0 24S)
DESCRIPTION:Lehrveranstaltung 609011 24S, Gruppe 0\nTitel: UE Listening/Speaking II B\nOrt: 40735 SR\n\nhttps://lfuonline.uibk.ac.at/public/lfuonline_lv.details?sem_id_in=24S&lvnr_id_in=609011\n
CLASS:PUBLIC
DTSTART:20240409T133000Z
DTEND:20240409T150000Z
DTSTAMP:20260422T111132Z
LOCATION:40735 SR
END:VEVENT
BEGIN:VEVENT
UID:24S_609011_4511141@uibk.ac.at
ORGANIZER;CN="LFU:online Universität Innsbruck":MAILTO:Uni-Innsbruck-noreply@uibk.ac.at
SUMMARY:UE Listening/Speaking II B (LV 609011-0 24S)
DESCRIPTION:Lehrveranstaltung 609011 24S, Gruppe 0\nTitel: UE Listening/Speaking II B\nOrt: 40735 SR\n\nhttps://lfuonline.uibk.ac.at/public/lfuonline_lv.details?sem_id_in=24S&lvnr_id_in=609011\n
CLASS:PUBLIC
DTSTART:20240416T133000Z
DTEND:20240416T150000Z
DTSTAMP:20260422T111132Z
LOCATION:40735 SR
END:VEVENT
BEGIN:VEVENT
UID:24S_609011_4511142@uibk.ac.at
ORGANIZER;CN="LFU:online Universität Innsbruck":MAILTO:Uni-Innsbruck-noreply@uibk.ac.at
SUMMARY:UE Listening/Speaking II B (LV 609011-0 24S)
DESCRIPTION:Lehrveranstaltung 609011 24S, Gruppe 0\nTitel: UE Listening/Speaking II B\nOrt: 40735 SR\n\nhttps://lfuonline.uibk.ac.at/public/lfuonline_lv.details?sem_id_in=24S&lvnr_id_in=609011\n
CLASS:PUBLIC
DTSTART:20240423T133000Z
DTEND:20240423T150000Z
DTSTAMP:20260422T111132Z
LOCATION:40735 SR
END:VEVENT
BEGIN:VEVENT
UID:24S_609011_4511143@uibk.ac.at
ORGANIZER;CN="LFU:online Universität Innsbruck":MAILTO:Uni-Innsbruck-noreply@uibk.ac.at
SUMMARY:UE Listening/Speaking II B (LV 609011-0 24S)
DESCRIPTION:Lehrveranstaltung 609011 24S, Gruppe 0\nTitel: UE Listening/Speaking II B\nOrt: 40735 SR\n\nhttps://lfuonline.uibk.ac.at/public/lfuonline_lv.details?sem_id_in=24S&lvnr_id_in=609011\n
CLASS:PUBLIC
DTSTART:20240430T133000Z
DTEND:20240430T150000Z
DTSTAMP:20260422T111132Z
LOCATION:40735 SR
END:VEVENT
BEGIN:VEVENT
UID:24S_609011_4511144@uibk.ac.at
ORGANIZER;CN="LFU:online Universität Innsbruck":MAILTO:Uni-Innsbruck-noreply@uibk.ac.at
SUMMARY:UE Listening/Speaking II B (LV 609011-0 24S)
DESCRIPTION:Lehrveranstaltung 609011 24S, Gruppe 0\nTitel: UE Listening/Speaking II B\nOrt: 40735 SR\n\nhttps://lfuonline.uibk.ac.at/public/lfuonline_lv.details?sem_id_in=24S&lvnr_id_in=609011\n
CLASS:PUBLIC
DTSTART:20240507T133000Z
DTEND:20240507T150000Z
DTSTAMP:20260422T111132Z
LOCATION:40735 SR
END:VEVENT
BEGIN:VEVENT
UID:24S_609011_4511145@uibk.ac.at
ORGANIZER;CN="LFU:online Universität Innsbruck":MAILTO:Uni-Innsbruck-noreply@uibk.ac.at
SUMMARY:UE Listening/Speaking II B (LV 609011-0 24S)
DESCRIPTION:Lehrveranstaltung 609011 24S, Gruppe 0\nTitel: UE Listening/Speaking II B\nOrt: 40735 SR\n\nhttps://lfuonline.uibk.ac.at/public/lfuonline_lv.details?sem_id_in=24S&lvnr_id_in=609011\n
CLASS:PUBLIC
DTSTART:20240514T133000Z
DTEND:20240514T150000Z
DTSTAMP:20260422T111132Z
LOCATION:40735 SR
END:VEVENT
BEGIN:VEVENT
UID:24S_609011_4511146@uibk.ac.at
ORGANIZER;CN="LFU:online Universität Innsbruck":MAILTO:Uni-Innsbruck-noreply@uibk.ac.at
SUMMARY:UE Listening/Speaking II B (LV 609011-0 24S)
DESCRIPTION:Lehrveranstaltung 609011 24S, Gruppe 0\nTitel: UE Listening/Speaking II B\nOrt: 40735 SR\n\nhttps://lfuonline.uibk.ac.at/public/lfuonline_lv.details?sem_id_in=24S&lvnr_id_in=609011\n
CLASS:PUBLIC
DTSTART:20240521T133000Z
DTEND:20240521T150000Z
DTSTAMP:20260422T111132Z
LOCATION:40735 SR
END:VEVENT
BEGIN:VEVENT
UID:24S_609011_4511147@uibk.ac.at
ORGANIZER;CN="LFU:online Universität Innsbruck":MAILTO:Uni-Innsbruck-noreply@uibk.ac.at
SUMMARY:UE Listening/Speaking II B (LV 609011-0 24S)
DESCRIPTION:Lehrveranstaltung 609011 24S, Gruppe 0\nTitel: UE Listening/Speaking II B\nOrt: 40735 SR\n\nhttps://lfuonline.uibk.ac.at/public/lfuonline_lv.details?sem_id_in=24S&lvnr_id_in=609011\n
CLASS:PUBLIC
DTSTART:20240528T133000Z
DTEND:20240528T150000Z
DTSTAMP:20260422T111132Z
LOCATION:40735 SR
END:VEVENT
BEGIN:VEVENT
UID:24S_609011_4511148@uibk.ac.at
ORGANIZER;CN="LFU:online Universität Innsbruck":MAILTO:Uni-Innsbruck-noreply@uibk.ac.at
SUMMARY:UE Listening/Speaking II B (LV 609011-0 24S)
DESCRIPTION:Lehrveranstaltung 609011 24S, Gruppe 0\nTitel: UE Listening/Speaking II B\nOrt: 40735 SR\n\nhttps://lfuonline.uibk.ac.at/public/lfuonline_lv.details?sem_id_in=24S&lvnr_id_in=609011\n
CLASS:PUBLIC
DTSTART:20240604T133000Z
DTEND:20240604T150000Z
DTSTAMP:20260422T111132Z
LOCATION:40735 SR
END:VEVENT
BEGIN:VEVENT
UID:24S_609011_4511149@uibk.ac.at
ORGANIZER;CN="LFU:online Universität Innsbruck":MAILTO:Uni-Innsbruck-noreply@uibk.ac.at
SUMMARY:UE Listening/Speaking II B (LV 609011-0 24S)
DESCRIPTION:Lehrveranstaltung 609011 24S, Gruppe 0\nTitel: UE Listening/Speaking II B\nOrt: 40735 SR\n\nhttps://lfuonline.uibk.ac.at/public/lfuonline_lv.details?sem_id_in=24S&lvnr_id_in=609011\n
CLASS:PUBLIC
DTSTART:20240611T133000Z
DTEND:20240611T150000Z
DTSTAMP:20260422T111132Z
LOCATION:40735 SR
END:VEVENT
BEGIN:VEVENT
UID:24S_609011_4511150@uibk.ac.at
ORGANIZER;CN="LFU:online Universität Innsbruck":MAILTO:Uni-Innsbruck-noreply@uibk.ac.at
SUMMARY:UE Listening/Speaking II B (LV 609011-0 24S)
DESCRIPTION:Lehrveranstaltung 609011 24S, Gruppe 0\nTitel: UE Listening/Speaking II B\nOrt: 40735 SR\n\nhttps://lfuonline.uibk.ac.at/public/lfuonline_lv.details?sem_id_in=24S&lvnr_id_in=609011\n
CLASS:PUBLIC
DTSTART:20240618T133000Z
DTEND:20240618T150000Z
DTSTAMP:20260422T111132Z
LOCATION:40735 SR
END:VEVENT
BEGIN:VEVENT
UID:24S_609011_4511151@uibk.ac.at
ORGANIZER;CN="LFU:online Universität Innsbruck":MAILTO:Uni-Innsbruck-noreply@uibk.ac.at
SUMMARY:UE Listening/Speaking II B (LV 609011-0 24S)
DESCRIPTION:Lehrveranstaltung 609011 24S, Gruppe 0\nTitel: UE Listening/Speaking II B\nOrt: 40735 SR\n\nhttps://lfuonline.uibk.ac.at/public/lfuonline_lv.details?sem_id_in=24S&lvnr_id_in=609011\n
CLASS:PUBLIC
DTSTART:20240625T133000Z
DTEND:20240625T150000Z
DTSTAMP:20260422T111132Z
LOCATION:40735 SR
END:VEVENT
END:VCALENDAR