BEGIN:VCALENDAR
VERSION:2.0
PRODID:-//Universität Innsbruck//LFU:online//DE
METHOD:PUBLISH
BEGIN:VEVENT
UID:24S_609013_4511461@uibk.ac.at
ORGANIZER;CN="LFU:online Universität Innsbruck":MAILTO:Uni-Innsbruck-noreply@uibk.ac.at
SUMMARY:UE Reading/Writing II A (LV 609013-0 24S)
DESCRIPTION:Lehrveranstaltung 609013 24S, Gruppe 0\nTitel: UE Reading/Writing II A\nOrt: 40735 SR\n\nhttps://lfuonline.uibk.ac.at/public/lfuonline_lv.details?sem_id_in=24S&lvnr_id_in=609013\n
CLASS:PUBLIC
DTSTART:20240306T091500Z
DTEND:20240306T104500Z
DTSTAMP:20260422T111052Z
LOCATION:40735 SR
END:VEVENT
BEGIN:VEVENT
UID:24S_609013_4511462@uibk.ac.at
ORGANIZER;CN="LFU:online Universität Innsbruck":MAILTO:Uni-Innsbruck-noreply@uibk.ac.at
SUMMARY:UE Reading/Writing II A (LV 609013-0 24S)
DESCRIPTION:Lehrveranstaltung 609013 24S, Gruppe 0\nTitel: UE Reading/Writing II A\nOrt: 40735 SR\n\nhttps://lfuonline.uibk.ac.at/public/lfuonline_lv.details?sem_id_in=24S&lvnr_id_in=609013\n
CLASS:PUBLIC
DTSTART:20240313T091500Z
DTEND:20240313T104500Z
DTSTAMP:20260422T111052Z
LOCATION:40735 SR
END:VEVENT
BEGIN:VEVENT
UID:24S_609013_4511463@uibk.ac.at
ORGANIZER;CN="LFU:online Universität Innsbruck":MAILTO:Uni-Innsbruck-noreply@uibk.ac.at
SUMMARY:UE Reading/Writing II A (LV 609013-0 24S)
DESCRIPTION:Lehrveranstaltung 609013 24S, Gruppe 0\nTitel: UE Reading/Writing II A\nOrt: 40735 SR\n\nhttps://lfuonline.uibk.ac.at/public/lfuonline_lv.details?sem_id_in=24S&lvnr_id_in=609013\n
CLASS:PUBLIC
DTSTART:20240320T091500Z
DTEND:20240320T104500Z
DTSTAMP:20260422T111052Z
LOCATION:40735 SR
END:VEVENT
BEGIN:VEVENT
UID:24S_609013_4511464@uibk.ac.at
ORGANIZER;CN="LFU:online Universität Innsbruck":MAILTO:Uni-Innsbruck-noreply@uibk.ac.at
SUMMARY:UE Reading/Writing II A (LV 609013-0 24S)
DESCRIPTION:Lehrveranstaltung 609013 24S, Gruppe 0\nTitel: UE Reading/Writing II A\nOrt: 40735 SR\n\nhttps://lfuonline.uibk.ac.at/public/lfuonline_lv.details?sem_id_in=24S&lvnr_id_in=609013\n
CLASS:PUBLIC
DTSTART:20240410T081500Z
DTEND:20240410T094500Z
DTSTAMP:20260422T111052Z
LOCATION:40735 SR
END:VEVENT
BEGIN:VEVENT
UID:24S_609013_4511465@uibk.ac.at
ORGANIZER;CN="LFU:online Universität Innsbruck":MAILTO:Uni-Innsbruck-noreply@uibk.ac.at
SUMMARY:UE Reading/Writing II A (LV 609013-0 24S)
DESCRIPTION:Lehrveranstaltung 609013 24S, Gruppe 0\nTitel: UE Reading/Writing II A\nOrt: 40735 SR\n\nhttps://lfuonline.uibk.ac.at/public/lfuonline_lv.details?sem_id_in=24S&lvnr_id_in=609013\n
CLASS:PUBLIC
DTSTART:20240417T081500Z
DTEND:20240417T094500Z
DTSTAMP:20260422T111052Z
LOCATION:40735 SR
END:VEVENT
BEGIN:VEVENT
UID:24S_609013_4511466@uibk.ac.at
ORGANIZER;CN="LFU:online Universität Innsbruck":MAILTO:Uni-Innsbruck-noreply@uibk.ac.at
SUMMARY:UE Reading/Writing II A (LV 609013-0 24S)
DESCRIPTION:Lehrveranstaltung 609013 24S, Gruppe 0\nTitel: UE Reading/Writing II A\nOrt: 40735 SR\n\nhttps://lfuonline.uibk.ac.at/public/lfuonline_lv.details?sem_id_in=24S&lvnr_id_in=609013\n
CLASS:PUBLIC
DTSTART:20240424T081500Z
DTEND:20240424T094500Z
DTSTAMP:20260422T111052Z
LOCATION:40735 SR
END:VEVENT
BEGIN:VEVENT
UID:24S_609013_4511467@uibk.ac.at
ORGANIZER;CN="LFU:online Universität Innsbruck":MAILTO:Uni-Innsbruck-noreply@uibk.ac.at
SUMMARY:UE Reading/Writing II A (LV 609013-0 24S)
DESCRIPTION:Lehrveranstaltung 609013 24S, Gruppe 0\nTitel: UE Reading/Writing II A\nOrt: 40735 SR\n\nhttps://lfuonline.uibk.ac.at/public/lfuonline_lv.details?sem_id_in=24S&lvnr_id_in=609013\n
CLASS:PUBLIC
DTSTART:20240508T081500Z
DTEND:20240508T094500Z
DTSTAMP:20260422T111052Z
LOCATION:40735 SR
END:VEVENT
BEGIN:VEVENT
UID:24S_609013_4511468@uibk.ac.at
ORGANIZER;CN="LFU:online Universität Innsbruck":MAILTO:Uni-Innsbruck-noreply@uibk.ac.at
SUMMARY:UE Reading/Writing II A (LV 609013-0 24S)
DESCRIPTION:Lehrveranstaltung 609013 24S, Gruppe 0\nTitel: UE Reading/Writing II A\nOrt: 40735 SR\n\nhttps://lfuonline.uibk.ac.at/public/lfuonline_lv.details?sem_id_in=24S&lvnr_id_in=609013\n
CLASS:PUBLIC
DTSTART:20240515T081500Z
DTEND:20240515T094500Z
DTSTAMP:20260422T111052Z
LOCATION:40735 SR
END:VEVENT
BEGIN:VEVENT
UID:24S_609013_4511469@uibk.ac.at
ORGANIZER;CN="LFU:online Universität Innsbruck":MAILTO:Uni-Innsbruck-noreply@uibk.ac.at
SUMMARY:UE Reading/Writing II A (LV 609013-0 24S)
DESCRIPTION:Lehrveranstaltung 609013 24S, Gruppe 0\nTitel: UE Reading/Writing II A\nOrt: 40735 SR\n\nhttps://lfuonline.uibk.ac.at/public/lfuonline_lv.details?sem_id_in=24S&lvnr_id_in=609013\n
CLASS:PUBLIC
DTSTART:20240522T081500Z
DTEND:20240522T094500Z
DTSTAMP:20260422T111052Z
LOCATION:40735 SR
END:VEVENT
BEGIN:VEVENT
UID:24S_609013_4511470@uibk.ac.at
ORGANIZER;CN="LFU:online Universität Innsbruck":MAILTO:Uni-Innsbruck-noreply@uibk.ac.at
SUMMARY:UE Reading/Writing II A (LV 609013-0 24S)
DESCRIPTION:Lehrveranstaltung 609013 24S, Gruppe 0\nTitel: UE Reading/Writing II A\nOrt: 40735 SR\n\nhttps://lfuonline.uibk.ac.at/public/lfuonline_lv.details?sem_id_in=24S&lvnr_id_in=609013\n
CLASS:PUBLIC
DTSTART:20240529T081500Z
DTEND:20240529T094500Z
DTSTAMP:20260422T111052Z
LOCATION:40735 SR
END:VEVENT
BEGIN:VEVENT
UID:24S_609013_4511471@uibk.ac.at
ORGANIZER;CN="LFU:online Universität Innsbruck":MAILTO:Uni-Innsbruck-noreply@uibk.ac.at
SUMMARY:UE Reading/Writing II A (LV 609013-0 24S)
DESCRIPTION:Lehrveranstaltung 609013 24S, Gruppe 0\nTitel: UE Reading/Writing II A\nOrt: 40735 SR\n\nhttps://lfuonline.uibk.ac.at/public/lfuonline_lv.details?sem_id_in=24S&lvnr_id_in=609013\n
CLASS:PUBLIC
DTSTART:20240605T081500Z
DTEND:20240605T094500Z
DTSTAMP:20260422T111052Z
LOCATION:40735 SR
END:VEVENT
BEGIN:VEVENT
UID:24S_609013_4511472@uibk.ac.at
ORGANIZER;CN="LFU:online Universität Innsbruck":MAILTO:Uni-Innsbruck-noreply@uibk.ac.at
SUMMARY:UE Reading/Writing II A (LV 609013-0 24S)
DESCRIPTION:Lehrveranstaltung 609013 24S, Gruppe 0\nTitel: UE Reading/Writing II A\nOrt: 40735 SR\n\nhttps://lfuonline.uibk.ac.at/public/lfuonline_lv.details?sem_id_in=24S&lvnr_id_in=609013\n
CLASS:PUBLIC
DTSTART:20240612T081500Z
DTEND:20240612T094500Z
DTSTAMP:20260422T111052Z
LOCATION:40735 SR
END:VEVENT
BEGIN:VEVENT
UID:24S_609013_4511473@uibk.ac.at
ORGANIZER;CN="LFU:online Universität Innsbruck":MAILTO:Uni-Innsbruck-noreply@uibk.ac.at
SUMMARY:UE Reading/Writing II A (LV 609013-0 24S)
DESCRIPTION:Lehrveranstaltung 609013 24S, Gruppe 0\nTitel: UE Reading/Writing II A\nOrt: 40735 SR\n\nhttps://lfuonline.uibk.ac.at/public/lfuonline_lv.details?sem_id_in=24S&lvnr_id_in=609013\n
CLASS:PUBLIC
DTSTART:20240619T081500Z
DTEND:20240619T094500Z
DTSTAMP:20260422T111052Z
LOCATION:40735 SR
END:VEVENT
BEGIN:VEVENT
UID:24S_609013_4511474@uibk.ac.at
ORGANIZER;CN="LFU:online Universität Innsbruck":MAILTO:Uni-Innsbruck-noreply@uibk.ac.at
SUMMARY:UE Reading/Writing II A (LV 609013-0 24S)
DESCRIPTION:Lehrveranstaltung 609013 24S, Gruppe 0\nTitel: UE Reading/Writing II A\nOrt: 40735 SR\n\nhttps://lfuonline.uibk.ac.at/public/lfuonline_lv.details?sem_id_in=24S&lvnr_id_in=609013\n
CLASS:PUBLIC
DTSTART:20240626T081500Z
DTEND:20240626T094500Z
DTSTAMP:20260422T111052Z
LOCATION:40735 SR
END:VEVENT
END:VCALENDAR