BEGIN:VCALENDAR
VERSION:2.0
PRODID:-//Universität Innsbruck//LFU:online//DE
METHOD:PUBLISH
BEGIN:VEVENT
UID:24S_609014_4578943@uibk.ac.at
ORGANIZER;CN="LFU:online Universität Innsbruck":MAILTO:Uni-Innsbruck-noreply@uibk.ac.at
SUMMARY:UE Reading/Writing II B (LV 609014-0 24S)
DESCRIPTION:Lehrveranstaltung 609014 24S, Gruppe 0\nTitel: UE Reading/Writing II B\nOrt: 4U102a\n\nhttps://lfuonline.uibk.ac.at/public/lfuonline_lv.details?sem_id_in=24S&lvnr_id_in=609014\n
CLASS:PUBLIC
DTSTART:20240408T063000Z
DTEND:20240408T080000Z
DTSTAMP:20260422T111029Z
LOCATION:4U102a
END:VEVENT
BEGIN:VEVENT
UID:24S_609014_4579352@uibk.ac.at
ORGANIZER;CN="LFU:online Universität Innsbruck":MAILTO:Uni-Innsbruck-noreply@uibk.ac.at
SUMMARY:UE Reading/Writing II B (LV 609014-0 24S)
DESCRIPTION:Lehrveranstaltung 609014 24S, Gruppe 0\nTitel: UE Reading/Writing II B\nOrt: 4U102a\n\nhttps://lfuonline.uibk.ac.at/public/lfuonline_lv.details?sem_id_in=24S&lvnr_id_in=609014\n
CLASS:PUBLIC
DTSTART:20240415T063000Z
DTEND:20240415T080000Z
DTSTAMP:20260422T111029Z
LOCATION:4U102a
END:VEVENT
BEGIN:VEVENT
UID:24S_609014_4579353@uibk.ac.at
ORGANIZER;CN="LFU:online Universität Innsbruck":MAILTO:Uni-Innsbruck-noreply@uibk.ac.at
SUMMARY:UE Reading/Writing II B (LV 609014-0 24S)
DESCRIPTION:Lehrveranstaltung 609014 24S, Gruppe 0\nTitel: UE Reading/Writing II B\nOrt: 4U102a\n\nhttps://lfuonline.uibk.ac.at/public/lfuonline_lv.details?sem_id_in=24S&lvnr_id_in=609014\n
CLASS:PUBLIC
DTSTART:20240422T063000Z
DTEND:20240422T080000Z
DTSTAMP:20260422T111029Z
LOCATION:4U102a
END:VEVENT
BEGIN:VEVENT
UID:24S_609014_4579354@uibk.ac.at
ORGANIZER;CN="LFU:online Universität Innsbruck":MAILTO:Uni-Innsbruck-noreply@uibk.ac.at
SUMMARY:UE Reading/Writing II B (LV 609014-0 24S)
DESCRIPTION:Lehrveranstaltung 609014 24S, Gruppe 0\nTitel: UE Reading/Writing II B\nOrt: 4U102a\n\nhttps://lfuonline.uibk.ac.at/public/lfuonline_lv.details?sem_id_in=24S&lvnr_id_in=609014\n
CLASS:PUBLIC
DTSTART:20240429T063000Z
DTEND:20240429T080000Z
DTSTAMP:20260422T111029Z
LOCATION:4U102a
END:VEVENT
BEGIN:VEVENT
UID:24S_609014_4579355@uibk.ac.at
ORGANIZER;CN="LFU:online Universität Innsbruck":MAILTO:Uni-Innsbruck-noreply@uibk.ac.at
SUMMARY:UE Reading/Writing II B (LV 609014-0 24S)
DESCRIPTION:Lehrveranstaltung 609014 24S, Gruppe 0\nTitel: UE Reading/Writing II B\nOrt: 4U102a\n\nhttps://lfuonline.uibk.ac.at/public/lfuonline_lv.details?sem_id_in=24S&lvnr_id_in=609014\n
CLASS:PUBLIC
DTSTART:20240506T063000Z
DTEND:20240506T080000Z
DTSTAMP:20260422T111029Z
LOCATION:4U102a
END:VEVENT
BEGIN:VEVENT
UID:24S_609014_4579356@uibk.ac.at
ORGANIZER;CN="LFU:online Universität Innsbruck":MAILTO:Uni-Innsbruck-noreply@uibk.ac.at
SUMMARY:UE Reading/Writing II B (LV 609014-0 24S)
DESCRIPTION:Lehrveranstaltung 609014 24S, Gruppe 0\nTitel: UE Reading/Writing II B\nOrt: 4U102a\n\nhttps://lfuonline.uibk.ac.at/public/lfuonline_lv.details?sem_id_in=24S&lvnr_id_in=609014\n
CLASS:PUBLIC
DTSTART:20240513T063000Z
DTEND:20240513T080000Z
DTSTAMP:20260422T111029Z
LOCATION:4U102a
END:VEVENT
BEGIN:VEVENT
UID:24S_609014_4579357@uibk.ac.at
ORGANIZER;CN="LFU:online Universität Innsbruck":MAILTO:Uni-Innsbruck-noreply@uibk.ac.at
SUMMARY:UE Reading/Writing II B (LV 609014-0 24S)
DESCRIPTION:Lehrveranstaltung 609014 24S, Gruppe 0\nTitel: UE Reading/Writing II B\nOrt: 4U102a\n\nhttps://lfuonline.uibk.ac.at/public/lfuonline_lv.details?sem_id_in=24S&lvnr_id_in=609014\n
CLASS:PUBLIC
DTSTART:20240527T063000Z
DTEND:20240527T080000Z
DTSTAMP:20260422T111029Z
LOCATION:4U102a
END:VEVENT
BEGIN:VEVENT
UID:24S_609014_4579358@uibk.ac.at
ORGANIZER;CN="LFU:online Universität Innsbruck":MAILTO:Uni-Innsbruck-noreply@uibk.ac.at
SUMMARY:UE Reading/Writing II B (LV 609014-0 24S)
DESCRIPTION:Lehrveranstaltung 609014 24S, Gruppe 0\nTitel: UE Reading/Writing II B\nOrt: 4U102a\n\nhttps://lfuonline.uibk.ac.at/public/lfuonline_lv.details?sem_id_in=24S&lvnr_id_in=609014\n
CLASS:PUBLIC
DTSTART:20240603T063000Z
DTEND:20240603T080000Z
DTSTAMP:20260422T111029Z
LOCATION:4U102a
END:VEVENT
BEGIN:VEVENT
UID:24S_609014_4579359@uibk.ac.at
ORGANIZER;CN="LFU:online Universität Innsbruck":MAILTO:Uni-Innsbruck-noreply@uibk.ac.at
SUMMARY:UE Reading/Writing II B (LV 609014-0 24S)
DESCRIPTION:Lehrveranstaltung 609014 24S, Gruppe 0\nTitel: UE Reading/Writing II B\nOrt: 4U102a\n\nhttps://lfuonline.uibk.ac.at/public/lfuonline_lv.details?sem_id_in=24S&lvnr_id_in=609014\n
CLASS:PUBLIC
DTSTART:20240610T063000Z
DTEND:20240610T080000Z
DTSTAMP:20260422T111029Z
LOCATION:4U102a
END:VEVENT
BEGIN:VEVENT
UID:24S_609014_4579360@uibk.ac.at
ORGANIZER;CN="LFU:online Universität Innsbruck":MAILTO:Uni-Innsbruck-noreply@uibk.ac.at
SUMMARY:UE Reading/Writing II B (LV 609014-0 24S)
DESCRIPTION:Lehrveranstaltung 609014 24S, Gruppe 0\nTitel: UE Reading/Writing II B\nOrt: 4U102a\n\nhttps://lfuonline.uibk.ac.at/public/lfuonline_lv.details?sem_id_in=24S&lvnr_id_in=609014\n
CLASS:PUBLIC
DTSTART:20240617T063000Z
DTEND:20240617T080000Z
DTSTAMP:20260422T111029Z
LOCATION:4U102a
END:VEVENT
BEGIN:VEVENT
UID:24S_609014_4579361@uibk.ac.at
ORGANIZER;CN="LFU:online Universität Innsbruck":MAILTO:Uni-Innsbruck-noreply@uibk.ac.at
SUMMARY:UE Reading/Writing II B (LV 609014-0 24S)
DESCRIPTION:Lehrveranstaltung 609014 24S, Gruppe 0\nTitel: UE Reading/Writing II B\nOrt: 4U102a\n\nhttps://lfuonline.uibk.ac.at/public/lfuonline_lv.details?sem_id_in=24S&lvnr_id_in=609014\n
CLASS:PUBLIC
DTSTART:20240624T063000Z
DTEND:20240624T080000Z
DTSTAMP:20260422T111029Z
LOCATION:4U102a
END:VEVENT
END:VCALENDAR