BEGIN:VCALENDAR
VERSION:2.0
PRODID:-//Universität Innsbruck//LFU:online//DE
METHOD:PUBLISH
BEGIN:VEVENT
UID:24S_609015_4511975@uibk.ac.at
ORGANIZER;CN="LFU:online Universität Innsbruck":MAILTO:Uni-Innsbruck-noreply@uibk.ac.at
SUMMARY:UE Reading/Writing II C (LV 609015-0 24S)
DESCRIPTION:Lehrveranstaltung 609015 24S, Gruppe 0\nTitel: UE Reading/Writing II C\nOrt: 40134\n\nhttps://lfuonline.uibk.ac.at/public/lfuonline_lv.details?sem_id_in=24S&lvnr_id_in=609015\n
CLASS:PUBLIC
DTSTART:20240308T073000Z
DTEND:20240308T090000Z
DTSTAMP:20260422T111132Z
LOCATION:40134
END:VEVENT
BEGIN:VEVENT
UID:24S_609015_4511976@uibk.ac.at
ORGANIZER;CN="LFU:online Universität Innsbruck":MAILTO:Uni-Innsbruck-noreply@uibk.ac.at
SUMMARY:UE Reading/Writing II C (LV 609015-0 24S)
DESCRIPTION:Lehrveranstaltung 609015 24S, Gruppe 0\nTitel: UE Reading/Writing II C\nOrt: 40134\n\nhttps://lfuonline.uibk.ac.at/public/lfuonline_lv.details?sem_id_in=24S&lvnr_id_in=609015\n
CLASS:PUBLIC
DTSTART:20240315T073000Z
DTEND:20240315T090000Z
DTSTAMP:20260422T111132Z
LOCATION:40134
END:VEVENT
BEGIN:VEVENT
UID:24S_609015_4511977@uibk.ac.at
ORGANIZER;CN="LFU:online Universität Innsbruck":MAILTO:Uni-Innsbruck-noreply@uibk.ac.at
SUMMARY:ABGESAGT: UE Reading/Writing II C (LV 609015-0 24S)
DESCRIPTION:Lehrveranstaltung 609015 24S, Gruppe 0\nTitel: UE Reading/Writing II C\nOrt: 40134\n\nhttps://lfuonline.uibk.ac.at/public/lfuonline_lv.details?sem_id_in=24S&lvnr_id_in=609015\n
CLASS:PUBLIC
DTSTART:20240322T073000Z
DTEND:20240322T090000Z
DTSTAMP:20260422T111132Z
LOCATION:40134
END:VEVENT
BEGIN:VEVENT
UID:24S_609015_4511978@uibk.ac.at
ORGANIZER;CN="LFU:online Universität Innsbruck":MAILTO:Uni-Innsbruck-noreply@uibk.ac.at
SUMMARY:UE Reading/Writing II C (LV 609015-0 24S)
DESCRIPTION:Lehrveranstaltung 609015 24S, Gruppe 0\nTitel: UE Reading/Writing II C\nOrt: 40134\n\nhttps://lfuonline.uibk.ac.at/public/lfuonline_lv.details?sem_id_in=24S&lvnr_id_in=609015\n
CLASS:PUBLIC
DTSTART:20240412T063000Z
DTEND:20240412T080000Z
DTSTAMP:20260422T111132Z
LOCATION:40134
END:VEVENT
BEGIN:VEVENT
UID:24S_609015_4511979@uibk.ac.at
ORGANIZER;CN="LFU:online Universität Innsbruck":MAILTO:Uni-Innsbruck-noreply@uibk.ac.at
SUMMARY:UE Reading/Writing II C (LV 609015-0 24S)
DESCRIPTION:Lehrveranstaltung 609015 24S, Gruppe 0\nTitel: UE Reading/Writing II C\nOrt: 40134\n\nhttps://lfuonline.uibk.ac.at/public/lfuonline_lv.details?sem_id_in=24S&lvnr_id_in=609015\n
CLASS:PUBLIC
DTSTART:20240419T063000Z
DTEND:20240419T080000Z
DTSTAMP:20260422T111132Z
LOCATION:40134
END:VEVENT
BEGIN:VEVENT
UID:24S_609015_4511980@uibk.ac.at
ORGANIZER;CN="LFU:online Universität Innsbruck":MAILTO:Uni-Innsbruck-noreply@uibk.ac.at
SUMMARY:UE Reading/Writing II C (LV 609015-0 24S)
DESCRIPTION:Lehrveranstaltung 609015 24S, Gruppe 0\nTitel: UE Reading/Writing II C\nOrt: 40134\n\nhttps://lfuonline.uibk.ac.at/public/lfuonline_lv.details?sem_id_in=24S&lvnr_id_in=609015\n
CLASS:PUBLIC
DTSTART:20240426T063000Z
DTEND:20240426T080000Z
DTSTAMP:20260422T111132Z
LOCATION:40134
END:VEVENT
BEGIN:VEVENT
UID:24S_609015_4511981@uibk.ac.at
ORGANIZER;CN="LFU:online Universität Innsbruck":MAILTO:Uni-Innsbruck-noreply@uibk.ac.at
SUMMARY:UE Reading/Writing II C (LV 609015-0 24S)
DESCRIPTION:Lehrveranstaltung 609015 24S, Gruppe 0\nTitel: UE Reading/Writing II C\nOrt: 40134\n\nhttps://lfuonline.uibk.ac.at/public/lfuonline_lv.details?sem_id_in=24S&lvnr_id_in=609015\n
CLASS:PUBLIC
DTSTART:20240503T063000Z
DTEND:20240503T080000Z
DTSTAMP:20260422T111132Z
LOCATION:40134
END:VEVENT
BEGIN:VEVENT
UID:24S_609015_4511982@uibk.ac.at
ORGANIZER;CN="LFU:online Universität Innsbruck":MAILTO:Uni-Innsbruck-noreply@uibk.ac.at
SUMMARY:UE Reading/Writing II C (LV 609015-0 24S)
DESCRIPTION:Lehrveranstaltung 609015 24S, Gruppe 0\nTitel: UE Reading/Writing II C\nOrt: 40134\n\nhttps://lfuonline.uibk.ac.at/public/lfuonline_lv.details?sem_id_in=24S&lvnr_id_in=609015\n
CLASS:PUBLIC
DTSTART:20240510T063000Z
DTEND:20240510T080000Z
DTSTAMP:20260422T111132Z
LOCATION:40134
END:VEVENT
BEGIN:VEVENT
UID:24S_609015_4511983@uibk.ac.at
ORGANIZER;CN="LFU:online Universität Innsbruck":MAILTO:Uni-Innsbruck-noreply@uibk.ac.at
SUMMARY:UE Reading/Writing II C (LV 609015-0 24S)
DESCRIPTION:Lehrveranstaltung 609015 24S, Gruppe 0\nTitel: UE Reading/Writing II C\nOrt: 40134\n\nhttps://lfuonline.uibk.ac.at/public/lfuonline_lv.details?sem_id_in=24S&lvnr_id_in=609015\n
CLASS:PUBLIC
DTSTART:20240517T063000Z
DTEND:20240517T080000Z
DTSTAMP:20260422T111132Z
LOCATION:40134
END:VEVENT
BEGIN:VEVENT
UID:24S_609015_4511984@uibk.ac.at
ORGANIZER;CN="LFU:online Universität Innsbruck":MAILTO:Uni-Innsbruck-noreply@uibk.ac.at
SUMMARY:UE Reading/Writing II C (LV 609015-0 24S)
DESCRIPTION:Lehrveranstaltung 609015 24S, Gruppe 0\nTitel: UE Reading/Writing II C\nOrt: 40134\n\nhttps://lfuonline.uibk.ac.at/public/lfuonline_lv.details?sem_id_in=24S&lvnr_id_in=609015\n
CLASS:PUBLIC
DTSTART:20240524T063000Z
DTEND:20240524T080000Z
DTSTAMP:20260422T111132Z
LOCATION:40134
END:VEVENT
BEGIN:VEVENT
UID:24S_609015_4511985@uibk.ac.at
ORGANIZER;CN="LFU:online Universität Innsbruck":MAILTO:Uni-Innsbruck-noreply@uibk.ac.at
SUMMARY:UE Reading/Writing II C (LV 609015-0 24S)
DESCRIPTION:Lehrveranstaltung 609015 24S, Gruppe 0\nTitel: UE Reading/Writing II C\nOrt: 40134\n\nhttps://lfuonline.uibk.ac.at/public/lfuonline_lv.details?sem_id_in=24S&lvnr_id_in=609015\n
CLASS:PUBLIC
DTSTART:20240531T063000Z
DTEND:20240531T080000Z
DTSTAMP:20260422T111132Z
LOCATION:40134
END:VEVENT
BEGIN:VEVENT
UID:24S_609015_4511986@uibk.ac.at
ORGANIZER;CN="LFU:online Universität Innsbruck":MAILTO:Uni-Innsbruck-noreply@uibk.ac.at
SUMMARY:UE Reading/Writing II C (LV 609015-0 24S)
DESCRIPTION:Lehrveranstaltung 609015 24S, Gruppe 0\nTitel: UE Reading/Writing II C\nOrt: 40134\n\nhttps://lfuonline.uibk.ac.at/public/lfuonline_lv.details?sem_id_in=24S&lvnr_id_in=609015\n
CLASS:PUBLIC
DTSTART:20240607T063000Z
DTEND:20240607T080000Z
DTSTAMP:20260422T111132Z
LOCATION:40134
END:VEVENT
BEGIN:VEVENT
UID:24S_609015_4511987@uibk.ac.at
ORGANIZER;CN="LFU:online Universität Innsbruck":MAILTO:Uni-Innsbruck-noreply@uibk.ac.at
SUMMARY:UE Reading/Writing II C (LV 609015-0 24S)
DESCRIPTION:Lehrveranstaltung 609015 24S, Gruppe 0\nTitel: UE Reading/Writing II C\nOrt: 40134\n\nhttps://lfuonline.uibk.ac.at/public/lfuonline_lv.details?sem_id_in=24S&lvnr_id_in=609015\n
CLASS:PUBLIC
DTSTART:20240614T063000Z
DTEND:20240614T080000Z
DTSTAMP:20260422T111132Z
LOCATION:40134
END:VEVENT
BEGIN:VEVENT
UID:24S_609015_4511988@uibk.ac.at
ORGANIZER;CN="LFU:online Universität Innsbruck":MAILTO:Uni-Innsbruck-noreply@uibk.ac.at
SUMMARY:UE Reading/Writing II C (LV 609015-0 24S)
DESCRIPTION:Lehrveranstaltung 609015 24S, Gruppe 0\nTitel: UE Reading/Writing II C\nOrt: 40134\n\nhttps://lfuonline.uibk.ac.at/public/lfuonline_lv.details?sem_id_in=24S&lvnr_id_in=609015\n
CLASS:PUBLIC
DTSTART:20240621T063000Z
DTEND:20240621T080000Z
DTSTAMP:20260422T111132Z
LOCATION:40134
END:VEVENT
BEGIN:VEVENT
UID:24S_609015_4511989@uibk.ac.at
ORGANIZER;CN="LFU:online Universität Innsbruck":MAILTO:Uni-Innsbruck-noreply@uibk.ac.at
SUMMARY:UE Reading/Writing II C (LV 609015-0 24S)
DESCRIPTION:Lehrveranstaltung 609015 24S, Gruppe 0\nTitel: UE Reading/Writing II C\nOrt: 40134\n\nhttps://lfuonline.uibk.ac.at/public/lfuonline_lv.details?sem_id_in=24S&lvnr_id_in=609015\n
CLASS:PUBLIC
DTSTART:20240628T063000Z
DTEND:20240628T080000Z
DTSTAMP:20260422T111132Z
LOCATION:40134
END:VEVENT
END:VCALENDAR