BEGIN:VCALENDAR
VERSION:2.0
PRODID:-//Universität Innsbruck//LFU:online//DE
METHOD:PUBLISH
BEGIN:VEVENT
UID:24S_609016_4511858@uibk.ac.at
ORGANIZER;CN="LFU:online Universität Innsbruck":MAILTO:Uni-Innsbruck-noreply@uibk.ac.at
SUMMARY:UE Reading/Writing II D (LV 609016-0 24S)
DESCRIPTION:Lehrveranstaltung 609016 24S, Gruppe 0\nTitel: UE Reading/Writing II D\nOrt: 4U102a\n\nhttps://lfuonline.uibk.ac.at/public/lfuonline_lv.details?sem_id_in=24S&lvnr_id_in=609016\n
CLASS:PUBLIC
DTSTART:20240307T091500Z
DTEND:20240307T104500Z
DTSTAMP:20260422T111052Z
LOCATION:4U102a
END:VEVENT
BEGIN:VEVENT
UID:24S_609016_4511859@uibk.ac.at
ORGANIZER;CN="LFU:online Universität Innsbruck":MAILTO:Uni-Innsbruck-noreply@uibk.ac.at
SUMMARY:UE Reading/Writing II D (LV 609016-0 24S)
DESCRIPTION:Lehrveranstaltung 609016 24S, Gruppe 0\nTitel: UE Reading/Writing II D\nOrt: 4U102a\n\nhttps://lfuonline.uibk.ac.at/public/lfuonline_lv.details?sem_id_in=24S&lvnr_id_in=609016\n
CLASS:PUBLIC
DTSTART:20240314T091500Z
DTEND:20240314T104500Z
DTSTAMP:20260422T111052Z
LOCATION:4U102a
END:VEVENT
BEGIN:VEVENT
UID:24S_609016_4511860@uibk.ac.at
ORGANIZER;CN="LFU:online Universität Innsbruck":MAILTO:Uni-Innsbruck-noreply@uibk.ac.at
SUMMARY:UE Reading/Writing II D (LV 609016-0 24S)
DESCRIPTION:Lehrveranstaltung 609016 24S, Gruppe 0\nTitel: UE Reading/Writing II D\nOrt: 4U102a\n\nhttps://lfuonline.uibk.ac.at/public/lfuonline_lv.details?sem_id_in=24S&lvnr_id_in=609016\n
CLASS:PUBLIC
DTSTART:20240321T091500Z
DTEND:20240321T104500Z
DTSTAMP:20260422T111052Z
LOCATION:4U102a
END:VEVENT
BEGIN:VEVENT
UID:24S_609016_4511861@uibk.ac.at
ORGANIZER;CN="LFU:online Universität Innsbruck":MAILTO:Uni-Innsbruck-noreply@uibk.ac.at
SUMMARY:UE Reading/Writing II D (LV 609016-0 24S)
DESCRIPTION:Lehrveranstaltung 609016 24S, Gruppe 0\nTitel: UE Reading/Writing II D\nOrt: 4U102a\n\nhttps://lfuonline.uibk.ac.at/public/lfuonline_lv.details?sem_id_in=24S&lvnr_id_in=609016\n
CLASS:PUBLIC
DTSTART:20240411T081500Z
DTEND:20240411T094500Z
DTSTAMP:20260422T111052Z
LOCATION:4U102a
END:VEVENT
BEGIN:VEVENT
UID:24S_609016_4511862@uibk.ac.at
ORGANIZER;CN="LFU:online Universität Innsbruck":MAILTO:Uni-Innsbruck-noreply@uibk.ac.at
SUMMARY:UE Reading/Writing II D (LV 609016-0 24S)
DESCRIPTION:Lehrveranstaltung 609016 24S, Gruppe 0\nTitel: UE Reading/Writing II D\nOrt: 4U102a\n\nhttps://lfuonline.uibk.ac.at/public/lfuonline_lv.details?sem_id_in=24S&lvnr_id_in=609016\n
CLASS:PUBLIC
DTSTART:20240418T081500Z
DTEND:20240418T094500Z
DTSTAMP:20260422T111052Z
LOCATION:4U102a
END:VEVENT
BEGIN:VEVENT
UID:24S_609016_4511863@uibk.ac.at
ORGANIZER;CN="LFU:online Universität Innsbruck":MAILTO:Uni-Innsbruck-noreply@uibk.ac.at
SUMMARY:UE Reading/Writing II D (LV 609016-0 24S)
DESCRIPTION:Lehrveranstaltung 609016 24S, Gruppe 0\nTitel: UE Reading/Writing II D\nOrt: 4U102a\n\nhttps://lfuonline.uibk.ac.at/public/lfuonline_lv.details?sem_id_in=24S&lvnr_id_in=609016\n
CLASS:PUBLIC
DTSTART:20240425T081500Z
DTEND:20240425T094500Z
DTSTAMP:20260422T111052Z
LOCATION:4U102a
END:VEVENT
BEGIN:VEVENT
UID:24S_609016_4511864@uibk.ac.at
ORGANIZER;CN="LFU:online Universität Innsbruck":MAILTO:Uni-Innsbruck-noreply@uibk.ac.at
SUMMARY:UE Reading/Writing II D (LV 609016-0 24S)
DESCRIPTION:Lehrveranstaltung 609016 24S, Gruppe 0\nTitel: UE Reading/Writing II D\nOrt: 4U102a\n\nhttps://lfuonline.uibk.ac.at/public/lfuonline_lv.details?sem_id_in=24S&lvnr_id_in=609016\n
CLASS:PUBLIC
DTSTART:20240502T081500Z
DTEND:20240502T094500Z
DTSTAMP:20260422T111052Z
LOCATION:4U102a
END:VEVENT
BEGIN:VEVENT
UID:24S_609016_4511865@uibk.ac.at
ORGANIZER;CN="LFU:online Universität Innsbruck":MAILTO:Uni-Innsbruck-noreply@uibk.ac.at
SUMMARY:UE Reading/Writing II D (LV 609016-0 24S)
DESCRIPTION:Lehrveranstaltung 609016 24S, Gruppe 0\nTitel: UE Reading/Writing II D\nOrt: 4U102a\n\nhttps://lfuonline.uibk.ac.at/public/lfuonline_lv.details?sem_id_in=24S&lvnr_id_in=609016\n
CLASS:PUBLIC
DTSTART:20240516T081500Z
DTEND:20240516T094500Z
DTSTAMP:20260422T111052Z
LOCATION:4U102a
END:VEVENT
BEGIN:VEVENT
UID:24S_609016_4511866@uibk.ac.at
ORGANIZER;CN="LFU:online Universität Innsbruck":MAILTO:Uni-Innsbruck-noreply@uibk.ac.at
SUMMARY:UE Reading/Writing II D (LV 609016-0 24S)
DESCRIPTION:Lehrveranstaltung 609016 24S, Gruppe 0\nTitel: UE Reading/Writing II D\nOrt: 4U102a\n\nhttps://lfuonline.uibk.ac.at/public/lfuonline_lv.details?sem_id_in=24S&lvnr_id_in=609016\n
CLASS:PUBLIC
DTSTART:20240523T081500Z
DTEND:20240523T094500Z
DTSTAMP:20260422T111052Z
LOCATION:4U102a
END:VEVENT
BEGIN:VEVENT
UID:24S_609016_4511867@uibk.ac.at
ORGANIZER;CN="LFU:online Universität Innsbruck":MAILTO:Uni-Innsbruck-noreply@uibk.ac.at
SUMMARY:UE Reading/Writing II D (LV 609016-0 24S)
DESCRIPTION:Lehrveranstaltung 609016 24S, Gruppe 0\nTitel: UE Reading/Writing II D\nOrt: 4U102a\n\nhttps://lfuonline.uibk.ac.at/public/lfuonline_lv.details?sem_id_in=24S&lvnr_id_in=609016\n
CLASS:PUBLIC
DTSTART:20240606T081500Z
DTEND:20240606T094500Z
DTSTAMP:20260422T111052Z
LOCATION:4U102a
END:VEVENT
BEGIN:VEVENT
UID:24S_609016_4511868@uibk.ac.at
ORGANIZER;CN="LFU:online Universität Innsbruck":MAILTO:Uni-Innsbruck-noreply@uibk.ac.at
SUMMARY:UE Reading/Writing II D (LV 609016-0 24S)
DESCRIPTION:Lehrveranstaltung 609016 24S, Gruppe 0\nTitel: UE Reading/Writing II D\nOrt: 4U102a\n\nhttps://lfuonline.uibk.ac.at/public/lfuonline_lv.details?sem_id_in=24S&lvnr_id_in=609016\n
CLASS:PUBLIC
DTSTART:20240613T081500Z
DTEND:20240613T094500Z
DTSTAMP:20260422T111052Z
LOCATION:4U102a
END:VEVENT
BEGIN:VEVENT
UID:24S_609016_4511869@uibk.ac.at
ORGANIZER;CN="LFU:online Universität Innsbruck":MAILTO:Uni-Innsbruck-noreply@uibk.ac.at
SUMMARY:UE Reading/Writing II D (LV 609016-0 24S)
DESCRIPTION:Lehrveranstaltung 609016 24S, Gruppe 0\nTitel: UE Reading/Writing II D\nOrt: 4U102a\n\nhttps://lfuonline.uibk.ac.at/public/lfuonline_lv.details?sem_id_in=24S&lvnr_id_in=609016\n
CLASS:PUBLIC
DTSTART:20240620T081500Z
DTEND:20240620T094500Z
DTSTAMP:20260422T111052Z
LOCATION:4U102a
END:VEVENT
END:VCALENDAR