BEGIN:VCALENDAR
VERSION:2.0
PRODID:-//Universität Innsbruck//LFU:online//DE
METHOD:PUBLISH
BEGIN:VEVENT
UID:24S_609017_4516462@uibk.ac.at
ORGANIZER;CN="LFU:online Universität Innsbruck":MAILTO:Uni-Innsbruck-noreply@uibk.ac.at
SUMMARY:UE Language Awareness II A (LV 609017-0 24S)
DESCRIPTION:Lehrveranstaltung 609017 24S, Gruppe 0\nTitel: UE Language Awareness II A\nOrt: 4U102b\n\nhttps://lfuonline.uibk.ac.at/public/lfuonline_lv.details?sem_id_in=24S&lvnr_id_in=609017\n
CLASS:PUBLIC
DTSTART:20240305T110000Z
DTEND:20240305T123000Z
DTSTAMP:20260422T111132Z
LOCATION:4U102b
END:VEVENT
BEGIN:VEVENT
UID:24S_609017_4516463@uibk.ac.at
ORGANIZER;CN="LFU:online Universität Innsbruck":MAILTO:Uni-Innsbruck-noreply@uibk.ac.at
SUMMARY:UE Language Awareness II A (LV 609017-0 24S)
DESCRIPTION:Lehrveranstaltung 609017 24S, Gruppe 0\nTitel: UE Language Awareness II A\nOrt: 4U102b\n\nhttps://lfuonline.uibk.ac.at/public/lfuonline_lv.details?sem_id_in=24S&lvnr_id_in=609017\n
CLASS:PUBLIC
DTSTART:20240312T110000Z
DTEND:20240312T123000Z
DTSTAMP:20260422T111132Z
LOCATION:4U102b
END:VEVENT
BEGIN:VEVENT
UID:24S_609017_4516464@uibk.ac.at
ORGANIZER;CN="LFU:online Universität Innsbruck":MAILTO:Uni-Innsbruck-noreply@uibk.ac.at
SUMMARY:UE Language Awareness II A (LV 609017-0 24S)
DESCRIPTION:Lehrveranstaltung 609017 24S, Gruppe 0\nTitel: UE Language Awareness II A\nOrt: 4U102b\n\nhttps://lfuonline.uibk.ac.at/public/lfuonline_lv.details?sem_id_in=24S&lvnr_id_in=609017\n
CLASS:PUBLIC
DTSTART:20240319T110000Z
DTEND:20240319T123000Z
DTSTAMP:20260422T111132Z
LOCATION:4U102b
END:VEVENT
BEGIN:VEVENT
UID:24S_609017_4516465@uibk.ac.at
ORGANIZER;CN="LFU:online Universität Innsbruck":MAILTO:Uni-Innsbruck-noreply@uibk.ac.at
SUMMARY:UE Language Awareness II A (LV 609017-0 24S)
DESCRIPTION:Lehrveranstaltung 609017 24S, Gruppe 0\nTitel: UE Language Awareness II A\nOrt: 4U102b\n\nhttps://lfuonline.uibk.ac.at/public/lfuonline_lv.details?sem_id_in=24S&lvnr_id_in=609017\n
CLASS:PUBLIC
DTSTART:20240409T100000Z
DTEND:20240409T113000Z
DTSTAMP:20260422T111132Z
LOCATION:4U102b
END:VEVENT
BEGIN:VEVENT
UID:24S_609017_4516466@uibk.ac.at
ORGANIZER;CN="LFU:online Universität Innsbruck":MAILTO:Uni-Innsbruck-noreply@uibk.ac.at
SUMMARY:UE Language Awareness II A (LV 609017-0 24S)
DESCRIPTION:Lehrveranstaltung 609017 24S, Gruppe 0\nTitel: UE Language Awareness II A\nOrt: 4U102b\n\nhttps://lfuonline.uibk.ac.at/public/lfuonline_lv.details?sem_id_in=24S&lvnr_id_in=609017\n
CLASS:PUBLIC
DTSTART:20240416T100000Z
DTEND:20240416T113000Z
DTSTAMP:20260422T111132Z
LOCATION:4U102b
END:VEVENT
BEGIN:VEVENT
UID:24S_609017_4516467@uibk.ac.at
ORGANIZER;CN="LFU:online Universität Innsbruck":MAILTO:Uni-Innsbruck-noreply@uibk.ac.at
SUMMARY:UE Language Awareness II A (LV 609017-0 24S)
DESCRIPTION:Lehrveranstaltung 609017 24S, Gruppe 0\nTitel: UE Language Awareness II A\nOrt: 4U102b\n\nhttps://lfuonline.uibk.ac.at/public/lfuonline_lv.details?sem_id_in=24S&lvnr_id_in=609017\n
CLASS:PUBLIC
DTSTART:20240423T100000Z
DTEND:20240423T113000Z
DTSTAMP:20260422T111132Z
LOCATION:4U102b
END:VEVENT
BEGIN:VEVENT
UID:24S_609017_4516468@uibk.ac.at
ORGANIZER;CN="LFU:online Universität Innsbruck":MAILTO:Uni-Innsbruck-noreply@uibk.ac.at
SUMMARY:UE Language Awareness II A (LV 609017-0 24S)
DESCRIPTION:Lehrveranstaltung 609017 24S, Gruppe 0\nTitel: UE Language Awareness II A\nOrt: 4U102b\n\nhttps://lfuonline.uibk.ac.at/public/lfuonline_lv.details?sem_id_in=24S&lvnr_id_in=609017\n
CLASS:PUBLIC
DTSTART:20240430T100000Z
DTEND:20240430T113000Z
DTSTAMP:20260422T111132Z
LOCATION:4U102b
END:VEVENT
BEGIN:VEVENT
UID:24S_609017_4516469@uibk.ac.at
ORGANIZER;CN="LFU:online Universität Innsbruck":MAILTO:Uni-Innsbruck-noreply@uibk.ac.at
SUMMARY:UE Language Awareness II A (LV 609017-0 24S)
DESCRIPTION:Lehrveranstaltung 609017 24S, Gruppe 0\nTitel: UE Language Awareness II A\nOrt: 4U102b\n\nhttps://lfuonline.uibk.ac.at/public/lfuonline_lv.details?sem_id_in=24S&lvnr_id_in=609017\n
CLASS:PUBLIC
DTSTART:20240507T100000Z
DTEND:20240507T113000Z
DTSTAMP:20260422T111132Z
LOCATION:4U102b
END:VEVENT
BEGIN:VEVENT
UID:24S_609017_4516470@uibk.ac.at
ORGANIZER;CN="LFU:online Universität Innsbruck":MAILTO:Uni-Innsbruck-noreply@uibk.ac.at
SUMMARY:UE Language Awareness II A (LV 609017-0 24S)
DESCRIPTION:Lehrveranstaltung 609017 24S, Gruppe 0\nTitel: UE Language Awareness II A\nOrt: 4U102b\n\nhttps://lfuonline.uibk.ac.at/public/lfuonline_lv.details?sem_id_in=24S&lvnr_id_in=609017\n
CLASS:PUBLIC
DTSTART:20240514T100000Z
DTEND:20240514T113000Z
DTSTAMP:20260422T111132Z
LOCATION:4U102b
END:VEVENT
BEGIN:VEVENT
UID:24S_609017_4516471@uibk.ac.at
ORGANIZER;CN="LFU:online Universität Innsbruck":MAILTO:Uni-Innsbruck-noreply@uibk.ac.at
SUMMARY:UE Language Awareness II A (LV 609017-0 24S)
DESCRIPTION:Lehrveranstaltung 609017 24S, Gruppe 0\nTitel: UE Language Awareness II A\nOrt: 4U102b\n\nhttps://lfuonline.uibk.ac.at/public/lfuonline_lv.details?sem_id_in=24S&lvnr_id_in=609017\n
CLASS:PUBLIC
DTSTART:20240521T100000Z
DTEND:20240521T113000Z
DTSTAMP:20260422T111132Z
LOCATION:4U102b
END:VEVENT
BEGIN:VEVENT
UID:24S_609017_4516472@uibk.ac.at
ORGANIZER;CN="LFU:online Universität Innsbruck":MAILTO:Uni-Innsbruck-noreply@uibk.ac.at
SUMMARY:UE Language Awareness II A (LV 609017-0 24S)
DESCRIPTION:Lehrveranstaltung 609017 24S, Gruppe 0\nTitel: UE Language Awareness II A\nOrt: 4U102b\n\nhttps://lfuonline.uibk.ac.at/public/lfuonline_lv.details?sem_id_in=24S&lvnr_id_in=609017\n
CLASS:PUBLIC
DTSTART:20240528T100000Z
DTEND:20240528T113000Z
DTSTAMP:20260422T111132Z
LOCATION:4U102b
END:VEVENT
BEGIN:VEVENT
UID:24S_609017_4516473@uibk.ac.at
ORGANIZER;CN="LFU:online Universität Innsbruck":MAILTO:Uni-Innsbruck-noreply@uibk.ac.at
SUMMARY:UE Language Awareness II A (LV 609017-0 24S)
DESCRIPTION:Lehrveranstaltung 609017 24S, Gruppe 0\nTitel: UE Language Awareness II A\nOrt: 4U102b\n\nhttps://lfuonline.uibk.ac.at/public/lfuonline_lv.details?sem_id_in=24S&lvnr_id_in=609017\n
CLASS:PUBLIC
DTSTART:20240604T100000Z
DTEND:20240604T113000Z
DTSTAMP:20260422T111132Z
LOCATION:4U102b
END:VEVENT
BEGIN:VEVENT
UID:24S_609017_4516474@uibk.ac.at
ORGANIZER;CN="LFU:online Universität Innsbruck":MAILTO:Uni-Innsbruck-noreply@uibk.ac.at
SUMMARY:UE Language Awareness II A (LV 609017-0 24S)
DESCRIPTION:Lehrveranstaltung 609017 24S, Gruppe 0\nTitel: UE Language Awareness II A\nOrt: 4U102b\n\nhttps://lfuonline.uibk.ac.at/public/lfuonline_lv.details?sem_id_in=24S&lvnr_id_in=609017\n
CLASS:PUBLIC
DTSTART:20240611T100000Z
DTEND:20240611T113000Z
DTSTAMP:20260422T111132Z
LOCATION:4U102b
END:VEVENT
BEGIN:VEVENT
UID:24S_609017_4516475@uibk.ac.at
ORGANIZER;CN="LFU:online Universität Innsbruck":MAILTO:Uni-Innsbruck-noreply@uibk.ac.at
SUMMARY:UE Language Awareness II A (LV 609017-0 24S)
DESCRIPTION:Lehrveranstaltung 609017 24S, Gruppe 0\nTitel: UE Language Awareness II A\nOrt: 4U102b\n\nhttps://lfuonline.uibk.ac.at/public/lfuonline_lv.details?sem_id_in=24S&lvnr_id_in=609017\n
CLASS:PUBLIC
DTSTART:20240618T100000Z
DTEND:20240618T113000Z
DTSTAMP:20260422T111132Z
LOCATION:4U102b
END:VEVENT
END:VCALENDAR