BEGIN:VCALENDAR
VERSION:2.0
PRODID:-//Universität Innsbruck//LFU:online//DE
METHOD:PUBLISH
BEGIN:VEVENT
UID:24S_609018_4511740@uibk.ac.at
ORGANIZER;CN="LFU:online Universität Innsbruck":MAILTO:Uni-Innsbruck-noreply@uibk.ac.at
SUMMARY:UE Language Awareness II B (LV 609018-0 24S)
DESCRIPTION:Lehrveranstaltung 609018 24S, Gruppe 0\nTitel: UE Language Awareness II B\nOrt: 40134\n\nhttps://lfuonline.uibk.ac.at/public/lfuonline_lv.details?sem_id_in=24S&lvnr_id_in=609018\n
CLASS:PUBLIC
DTSTART:20240307T091500Z
DTEND:20240307T104500Z
DTSTAMP:20260422T111029Z
LOCATION:40134
END:VEVENT
BEGIN:VEVENT
UID:24S_609018_4511741@uibk.ac.at
ORGANIZER;CN="LFU:online Universität Innsbruck":MAILTO:Uni-Innsbruck-noreply@uibk.ac.at
SUMMARY:UE Language Awareness II B (LV 609018-0 24S)
DESCRIPTION:Lehrveranstaltung 609018 24S, Gruppe 0\nTitel: UE Language Awareness II B\nOrt: 40134\n\nhttps://lfuonline.uibk.ac.at/public/lfuonline_lv.details?sem_id_in=24S&lvnr_id_in=609018\n
CLASS:PUBLIC
DTSTART:20240314T091500Z
DTEND:20240314T104500Z
DTSTAMP:20260422T111029Z
LOCATION:40134
END:VEVENT
BEGIN:VEVENT
UID:24S_609018_4511742@uibk.ac.at
ORGANIZER;CN="LFU:online Universität Innsbruck":MAILTO:Uni-Innsbruck-noreply@uibk.ac.at
SUMMARY:UE Language Awareness II B (LV 609018-0 24S)
DESCRIPTION:Lehrveranstaltung 609018 24S, Gruppe 0\nTitel: UE Language Awareness II B\nOrt: 40134\n\nhttps://lfuonline.uibk.ac.at/public/lfuonline_lv.details?sem_id_in=24S&lvnr_id_in=609018\n
CLASS:PUBLIC
DTSTART:20240321T091500Z
DTEND:20240321T104500Z
DTSTAMP:20260422T111029Z
LOCATION:40134
END:VEVENT
BEGIN:VEVENT
UID:24S_609018_4511743@uibk.ac.at
ORGANIZER;CN="LFU:online Universität Innsbruck":MAILTO:Uni-Innsbruck-noreply@uibk.ac.at
SUMMARY:UE Language Awareness II B (LV 609018-0 24S)
DESCRIPTION:Lehrveranstaltung 609018 24S, Gruppe 0\nTitel: UE Language Awareness II B\nOrt: 40134\n\nhttps://lfuonline.uibk.ac.at/public/lfuonline_lv.details?sem_id_in=24S&lvnr_id_in=609018\n
CLASS:PUBLIC
DTSTART:20240411T081500Z
DTEND:20240411T094500Z
DTSTAMP:20260422T111029Z
LOCATION:40134
END:VEVENT
BEGIN:VEVENT
UID:24S_609018_4511744@uibk.ac.at
ORGANIZER;CN="LFU:online Universität Innsbruck":MAILTO:Uni-Innsbruck-noreply@uibk.ac.at
SUMMARY:UE Language Awareness II B (LV 609018-0 24S)
DESCRIPTION:Lehrveranstaltung 609018 24S, Gruppe 0\nTitel: UE Language Awareness II B\nOrt: 40134\n\nhttps://lfuonline.uibk.ac.at/public/lfuonline_lv.details?sem_id_in=24S&lvnr_id_in=609018\n
CLASS:PUBLIC
DTSTART:20240418T081500Z
DTEND:20240418T094500Z
DTSTAMP:20260422T111029Z
LOCATION:40134
END:VEVENT
BEGIN:VEVENT
UID:24S_609018_4511745@uibk.ac.at
ORGANIZER;CN="LFU:online Universität Innsbruck":MAILTO:Uni-Innsbruck-noreply@uibk.ac.at
SUMMARY:UE Language Awareness II B (LV 609018-0 24S)
DESCRIPTION:Lehrveranstaltung 609018 24S, Gruppe 0\nTitel: UE Language Awareness II B\nOrt: 40134\n\nhttps://lfuonline.uibk.ac.at/public/lfuonline_lv.details?sem_id_in=24S&lvnr_id_in=609018\n
CLASS:PUBLIC
DTSTART:20240425T081500Z
DTEND:20240425T094500Z
DTSTAMP:20260422T111029Z
LOCATION:40134
END:VEVENT
BEGIN:VEVENT
UID:24S_609018_4511746@uibk.ac.at
ORGANIZER;CN="LFU:online Universität Innsbruck":MAILTO:Uni-Innsbruck-noreply@uibk.ac.at
SUMMARY:UE Language Awareness II B (LV 609018-0 24S)
DESCRIPTION:Lehrveranstaltung 609018 24S, Gruppe 0\nTitel: UE Language Awareness II B\nOrt: 40134\n\nhttps://lfuonline.uibk.ac.at/public/lfuonline_lv.details?sem_id_in=24S&lvnr_id_in=609018\n
CLASS:PUBLIC
DTSTART:20240502T081500Z
DTEND:20240502T094500Z
DTSTAMP:20260422T111029Z
LOCATION:40134
END:VEVENT
BEGIN:VEVENT
UID:24S_609018_4511747@uibk.ac.at
ORGANIZER;CN="LFU:online Universität Innsbruck":MAILTO:Uni-Innsbruck-noreply@uibk.ac.at
SUMMARY:UE Language Awareness II B (LV 609018-0 24S)
DESCRIPTION:Lehrveranstaltung 609018 24S, Gruppe 0\nTitel: UE Language Awareness II B\nOrt: 40134\n\nhttps://lfuonline.uibk.ac.at/public/lfuonline_lv.details?sem_id_in=24S&lvnr_id_in=609018\n
CLASS:PUBLIC
DTSTART:20240516T081500Z
DTEND:20240516T094500Z
DTSTAMP:20260422T111029Z
LOCATION:40134
END:VEVENT
BEGIN:VEVENT
UID:24S_609018_4511748@uibk.ac.at
ORGANIZER;CN="LFU:online Universität Innsbruck":MAILTO:Uni-Innsbruck-noreply@uibk.ac.at
SUMMARY:UE Language Awareness II B (LV 609018-0 24S)
DESCRIPTION:Lehrveranstaltung 609018 24S, Gruppe 0\nTitel: UE Language Awareness II B\nOrt: 40134\n\nhttps://lfuonline.uibk.ac.at/public/lfuonline_lv.details?sem_id_in=24S&lvnr_id_in=609018\n
CLASS:PUBLIC
DTSTART:20240523T081500Z
DTEND:20240523T094500Z
DTSTAMP:20260422T111029Z
LOCATION:40134
END:VEVENT
BEGIN:VEVENT
UID:24S_609018_4511749@uibk.ac.at
ORGANIZER;CN="LFU:online Universität Innsbruck":MAILTO:Uni-Innsbruck-noreply@uibk.ac.at
SUMMARY:UE Language Awareness II B (LV 609018-0 24S)
DESCRIPTION:Lehrveranstaltung 609018 24S, Gruppe 0\nTitel: UE Language Awareness II B\nOrt: 40134\n\nhttps://lfuonline.uibk.ac.at/public/lfuonline_lv.details?sem_id_in=24S&lvnr_id_in=609018\n
CLASS:PUBLIC
DTSTART:20240606T081500Z
DTEND:20240606T094500Z
DTSTAMP:20260422T111029Z
LOCATION:40134
END:VEVENT
BEGIN:VEVENT
UID:24S_609018_4511750@uibk.ac.at
ORGANIZER;CN="LFU:online Universität Innsbruck":MAILTO:Uni-Innsbruck-noreply@uibk.ac.at
SUMMARY:UE Language Awareness II B (LV 609018-0 24S)
DESCRIPTION:Lehrveranstaltung 609018 24S, Gruppe 0\nTitel: UE Language Awareness II B\nOrt: 40134\n\nhttps://lfuonline.uibk.ac.at/public/lfuonline_lv.details?sem_id_in=24S&lvnr_id_in=609018\n
CLASS:PUBLIC
DTSTART:20240613T081500Z
DTEND:20240613T094500Z
DTSTAMP:20260422T111029Z
LOCATION:40134
END:VEVENT
BEGIN:VEVENT
UID:24S_609018_4511751@uibk.ac.at
ORGANIZER;CN="LFU:online Universität Innsbruck":MAILTO:Uni-Innsbruck-noreply@uibk.ac.at
SUMMARY:UE Language Awareness II B (LV 609018-0 24S)
DESCRIPTION:Lehrveranstaltung 609018 24S, Gruppe 0\nTitel: UE Language Awareness II B\nOrt: 40134\n\nhttps://lfuonline.uibk.ac.at/public/lfuonline_lv.details?sem_id_in=24S&lvnr_id_in=609018\n
CLASS:PUBLIC
DTSTART:20240620T081500Z
DTEND:20240620T094500Z
DTSTAMP:20260422T111029Z
LOCATION:40134
END:VEVENT
BEGIN:VEVENT
UID:24S_609018_4511752@uibk.ac.at
ORGANIZER;CN="LFU:online Universität Innsbruck":MAILTO:Uni-Innsbruck-noreply@uibk.ac.at
SUMMARY:UE Language Awareness II B (LV 609018-0 24S)
DESCRIPTION:Lehrveranstaltung 609018 24S, Gruppe 0\nTitel: UE Language Awareness II B\nOrt: 40134\n\nhttps://lfuonline.uibk.ac.at/public/lfuonline_lv.details?sem_id_in=24S&lvnr_id_in=609018\n
CLASS:PUBLIC
DTSTART:20240627T081500Z
DTEND:20240627T094500Z
DTSTAMP:20260422T111029Z
LOCATION:40134
END:VEVENT
END:VCALENDAR