BEGIN:VCALENDAR
VERSION:2.0
PRODID:-//Universität Innsbruck//LFU:online//DE
METHOD:PUBLISH
BEGIN:VEVENT
UID:24S_609019_4510918@uibk.ac.at
ORGANIZER;CN="LFU:online Universität Innsbruck":MAILTO:Uni-Innsbruck-noreply@uibk.ac.at
SUMMARY:UE Language Awareness II C (LV 609019-0 24S)
DESCRIPTION:Lehrveranstaltung 609019 24S, Gruppe 0\nTitel: UE Language Awareness II C\nOrt: 4U102a\n\nhttps://lfuonline.uibk.ac.at/public/lfuonline_lv.details?sem_id_in=24S&lvnr_id_in=609019\n
CLASS:PUBLIC
DTSTART:20240304T143000Z
DTEND:20240304T160000Z
DTSTAMP:20260422T111053Z
LOCATION:4U102a
END:VEVENT
BEGIN:VEVENT
UID:24S_609019_4510919@uibk.ac.at
ORGANIZER;CN="LFU:online Universität Innsbruck":MAILTO:Uni-Innsbruck-noreply@uibk.ac.at
SUMMARY:UE Language Awareness II C (LV 609019-0 24S)
DESCRIPTION:Lehrveranstaltung 609019 24S, Gruppe 0\nTitel: UE Language Awareness II C\nOrt: 4U102a\n\nhttps://lfuonline.uibk.ac.at/public/lfuonline_lv.details?sem_id_in=24S&lvnr_id_in=609019\n
CLASS:PUBLIC
DTSTART:20240311T143000Z
DTEND:20240311T160000Z
DTSTAMP:20260422T111053Z
LOCATION:4U102a
END:VEVENT
BEGIN:VEVENT
UID:24S_609019_4510920@uibk.ac.at
ORGANIZER;CN="LFU:online Universität Innsbruck":MAILTO:Uni-Innsbruck-noreply@uibk.ac.at
SUMMARY:UE Language Awareness II C (LV 609019-0 24S)
DESCRIPTION:Lehrveranstaltung 609019 24S, Gruppe 0\nTitel: UE Language Awareness II C\nOrt: 4U102a\n\nhttps://lfuonline.uibk.ac.at/public/lfuonline_lv.details?sem_id_in=24S&lvnr_id_in=609019\n
CLASS:PUBLIC
DTSTART:20240318T143000Z
DTEND:20240318T160000Z
DTSTAMP:20260422T111053Z
LOCATION:4U102a
END:VEVENT
BEGIN:VEVENT
UID:24S_609019_4510921@uibk.ac.at
ORGANIZER;CN="LFU:online Universität Innsbruck":MAILTO:Uni-Innsbruck-noreply@uibk.ac.at
SUMMARY:UE Language Awareness II C (LV 609019-0 24S)
DESCRIPTION:Lehrveranstaltung 609019 24S, Gruppe 0\nTitel: UE Language Awareness II C\nOrt: 4U102a\n\nhttps://lfuonline.uibk.ac.at/public/lfuonline_lv.details?sem_id_in=24S&lvnr_id_in=609019\n
CLASS:PUBLIC
DTSTART:20240408T133000Z
DTEND:20240408T150000Z
DTSTAMP:20260422T111053Z
LOCATION:4U102a
END:VEVENT
BEGIN:VEVENT
UID:24S_609019_4510922@uibk.ac.at
ORGANIZER;CN="LFU:online Universität Innsbruck":MAILTO:Uni-Innsbruck-noreply@uibk.ac.at
SUMMARY:UE Language Awareness II C (LV 609019-0 24S)
DESCRIPTION:Lehrveranstaltung 609019 24S, Gruppe 0\nTitel: UE Language Awareness II C\nOrt: 4U102a\n\nhttps://lfuonline.uibk.ac.at/public/lfuonline_lv.details?sem_id_in=24S&lvnr_id_in=609019\n
CLASS:PUBLIC
DTSTART:20240415T133000Z
DTEND:20240415T150000Z
DTSTAMP:20260422T111053Z
LOCATION:4U102a
END:VEVENT
BEGIN:VEVENT
UID:24S_609019_4510923@uibk.ac.at
ORGANIZER;CN="LFU:online Universität Innsbruck":MAILTO:Uni-Innsbruck-noreply@uibk.ac.at
SUMMARY:UE Language Awareness II C (LV 609019-0 24S)
DESCRIPTION:Lehrveranstaltung 609019 24S, Gruppe 0\nTitel: UE Language Awareness II C\nOrt: 4U102a\n\nhttps://lfuonline.uibk.ac.at/public/lfuonline_lv.details?sem_id_in=24S&lvnr_id_in=609019\n
CLASS:PUBLIC
DTSTART:20240422T133000Z
DTEND:20240422T150000Z
DTSTAMP:20260422T111053Z
LOCATION:4U102a
END:VEVENT
BEGIN:VEVENT
UID:24S_609019_4510924@uibk.ac.at
ORGANIZER;CN="LFU:online Universität Innsbruck":MAILTO:Uni-Innsbruck-noreply@uibk.ac.at
SUMMARY:UE Language Awareness II C (LV 609019-0 24S)
DESCRIPTION:Lehrveranstaltung 609019 24S, Gruppe 0\nTitel: UE Language Awareness II C\nOrt: 4U102a\n\nhttps://lfuonline.uibk.ac.at/public/lfuonline_lv.details?sem_id_in=24S&lvnr_id_in=609019\n
CLASS:PUBLIC
DTSTART:20240429T133000Z
DTEND:20240429T150000Z
DTSTAMP:20260422T111053Z
LOCATION:4U102a
END:VEVENT
BEGIN:VEVENT
UID:24S_609019_4510925@uibk.ac.at
ORGANIZER;CN="LFU:online Universität Innsbruck":MAILTO:Uni-Innsbruck-noreply@uibk.ac.at
SUMMARY:UE Language Awareness II C (LV 609019-0 24S)
DESCRIPTION:Lehrveranstaltung 609019 24S, Gruppe 0\nTitel: UE Language Awareness II C\nOrt: 4U102a\n\nhttps://lfuonline.uibk.ac.at/public/lfuonline_lv.details?sem_id_in=24S&lvnr_id_in=609019\n
CLASS:PUBLIC
DTSTART:20240506T133000Z
DTEND:20240506T150000Z
DTSTAMP:20260422T111053Z
LOCATION:4U102a
END:VEVENT
BEGIN:VEVENT
UID:24S_609019_4510926@uibk.ac.at
ORGANIZER;CN="LFU:online Universität Innsbruck":MAILTO:Uni-Innsbruck-noreply@uibk.ac.at
SUMMARY:UE Language Awareness II C (LV 609019-0 24S)
DESCRIPTION:Lehrveranstaltung 609019 24S, Gruppe 0\nTitel: UE Language Awareness II C\nOrt: 4U102a\n\nhttps://lfuonline.uibk.ac.at/public/lfuonline_lv.details?sem_id_in=24S&lvnr_id_in=609019\n
CLASS:PUBLIC
DTSTART:20240513T133000Z
DTEND:20240513T150000Z
DTSTAMP:20260422T111053Z
LOCATION:4U102a
END:VEVENT
BEGIN:VEVENT
UID:24S_609019_4510927@uibk.ac.at
ORGANIZER;CN="LFU:online Universität Innsbruck":MAILTO:Uni-Innsbruck-noreply@uibk.ac.at
SUMMARY:UE Language Awareness II C (LV 609019-0 24S)
DESCRIPTION:Lehrveranstaltung 609019 24S, Gruppe 0\nTitel: UE Language Awareness II C\nOrt: 4U102a\n\nhttps://lfuonline.uibk.ac.at/public/lfuonline_lv.details?sem_id_in=24S&lvnr_id_in=609019\n
CLASS:PUBLIC
DTSTART:20240527T133000Z
DTEND:20240527T150000Z
DTSTAMP:20260422T111053Z
LOCATION:4U102a
END:VEVENT
BEGIN:VEVENT
UID:24S_609019_4510928@uibk.ac.at
ORGANIZER;CN="LFU:online Universität Innsbruck":MAILTO:Uni-Innsbruck-noreply@uibk.ac.at
SUMMARY:UE Language Awareness II C (LV 609019-0 24S)
DESCRIPTION:Lehrveranstaltung 609019 24S, Gruppe 0\nTitel: UE Language Awareness II C\nOrt: 4U102a\n\nhttps://lfuonline.uibk.ac.at/public/lfuonline_lv.details?sem_id_in=24S&lvnr_id_in=609019\n
CLASS:PUBLIC
DTSTART:20240603T133000Z
DTEND:20240603T150000Z
DTSTAMP:20260422T111053Z
LOCATION:4U102a
END:VEVENT
BEGIN:VEVENT
UID:24S_609019_4510929@uibk.ac.at
ORGANIZER;CN="LFU:online Universität Innsbruck":MAILTO:Uni-Innsbruck-noreply@uibk.ac.at
SUMMARY:UE Language Awareness II C (LV 609019-0 24S)
DESCRIPTION:Lehrveranstaltung 609019 24S, Gruppe 0\nTitel: UE Language Awareness II C\nOrt: 4U102a\n\nhttps://lfuonline.uibk.ac.at/public/lfuonline_lv.details?sem_id_in=24S&lvnr_id_in=609019\n
CLASS:PUBLIC
DTSTART:20240610T133000Z
DTEND:20240610T150000Z
DTSTAMP:20260422T111053Z
LOCATION:4U102a
END:VEVENT
BEGIN:VEVENT
UID:24S_609019_4510930@uibk.ac.at
ORGANIZER;CN="LFU:online Universität Innsbruck":MAILTO:Uni-Innsbruck-noreply@uibk.ac.at
SUMMARY:UE Language Awareness II C (LV 609019-0 24S)
DESCRIPTION:Lehrveranstaltung 609019 24S, Gruppe 0\nTitel: UE Language Awareness II C\nOrt: 4U102a\n\nhttps://lfuonline.uibk.ac.at/public/lfuonline_lv.details?sem_id_in=24S&lvnr_id_in=609019\n
CLASS:PUBLIC
DTSTART:20240617T133000Z
DTEND:20240617T150000Z
DTSTAMP:20260422T111053Z
LOCATION:4U102a
END:VEVENT
BEGIN:VEVENT
UID:24S_609019_4510931@uibk.ac.at
ORGANIZER;CN="LFU:online Universität Innsbruck":MAILTO:Uni-Innsbruck-noreply@uibk.ac.at
SUMMARY:UE Language Awareness II C (LV 609019-0 24S)
DESCRIPTION:Lehrveranstaltung 609019 24S, Gruppe 0\nTitel: UE Language Awareness II C\nOrt: 4U102a\n\nhttps://lfuonline.uibk.ac.at/public/lfuonline_lv.details?sem_id_in=24S&lvnr_id_in=609019\n
CLASS:PUBLIC
DTSTART:20240624T133000Z
DTEND:20240624T150000Z
DTSTAMP:20260422T111053Z
LOCATION:4U102a
END:VEVENT
END:VCALENDAR