BEGIN:VCALENDAR
VERSION:2.0
PRODID:-//Universität Innsbruck//LFU:online//DE
METHOD:PUBLISH
BEGIN:VEVENT
UID:19S_609193_3345689@uibk.ac.at
ORGANIZER;CN="LFU:online Universität Innsbruck":MAILTO:Uni-Innsbruck-noreply@uibk.ac.at
SUMMARY:British and/or Postcolonial Literature and Culture: Fiction (LV 609193-0 19S)
DESCRIPTION:Lehrveranstaltung 609193 19S, Gruppe 0\nTitel: British and/or Postcolonial Literature and Culture: Fiction\nOrt: Hörsaal F\n\nhttps://lfuonline.uibk.ac.at/public/lfuonline_lv.details?sem_id_in=19S&lvnr_id_in=609193\n
CLASS:PUBLIC
DTSTART:20190308T073000Z
DTEND:20190308T090000Z
DTSTAMP:20260419T143921Z
LOCATION:Hörsaal F
COMMENT:ACHTUNG: Hörsaal F
END:VEVENT
BEGIN:VEVENT
UID:19S_609193_3345675@uibk.ac.at
ORGANIZER;CN="LFU:online Universität Innsbruck":MAILTO:Uni-Innsbruck-noreply@uibk.ac.at
SUMMARY:British and/or Postcolonial Literature and Culture: Fiction (LV 609193-0 19S)
DESCRIPTION:Lehrveranstaltung 609193 19S, Gruppe 0\nTitel: British and/or Postcolonial Literature and Culture: Fiction\nOrt: Hörsaal 3\n\nhttps://lfuonline.uibk.ac.at/public/lfuonline_lv.details?sem_id_in=19S&lvnr_id_in=609193\n
CLASS:PUBLIC
DTSTART:20190315T073000Z
DTEND:20190315T090000Z
DTSTAMP:20260419T143921Z
LOCATION:Hörsaal 3
END:VEVENT
BEGIN:VEVENT
UID:19S_609193_3345676@uibk.ac.at
ORGANIZER;CN="LFU:online Universität Innsbruck":MAILTO:Uni-Innsbruck-noreply@uibk.ac.at
SUMMARY:British and/or Postcolonial Literature and Culture: Fiction (LV 609193-0 19S)
DESCRIPTION:Lehrveranstaltung 609193 19S, Gruppe 0\nTitel: British and/or Postcolonial Literature and Culture: Fiction\nOrt: Hörsaal 3\n\nhttps://lfuonline.uibk.ac.at/public/lfuonline_lv.details?sem_id_in=19S&lvnr_id_in=609193\n
CLASS:PUBLIC
DTSTART:20190322T073000Z
DTEND:20190322T090000Z
DTSTAMP:20260419T143921Z
LOCATION:Hörsaal 3
END:VEVENT
BEGIN:VEVENT
UID:19S_609193_3345677@uibk.ac.at
ORGANIZER;CN="LFU:online Universität Innsbruck":MAILTO:Uni-Innsbruck-noreply@uibk.ac.at
SUMMARY:British and/or Postcolonial Literature and Culture: Fiction (LV 609193-0 19S)
DESCRIPTION:Lehrveranstaltung 609193 19S, Gruppe 0\nTitel: British and/or Postcolonial Literature and Culture: Fiction\nOrt: Hörsaal 3\n\nhttps://lfuonline.uibk.ac.at/public/lfuonline_lv.details?sem_id_in=19S&lvnr_id_in=609193\n
CLASS:PUBLIC
DTSTART:20190329T073000Z
DTEND:20190329T090000Z
DTSTAMP:20260419T143921Z
LOCATION:Hörsaal 3
END:VEVENT
BEGIN:VEVENT
UID:19S_609193_3345678@uibk.ac.at
ORGANIZER;CN="LFU:online Universität Innsbruck":MAILTO:Uni-Innsbruck-noreply@uibk.ac.at
SUMMARY:British and/or Postcolonial Literature and Culture: Fiction (LV 609193-0 19S)
DESCRIPTION:Lehrveranstaltung 609193 19S, Gruppe 0\nTitel: British and/or Postcolonial Literature and Culture: Fiction\nOrt: Hörsaal 3\n\nhttps://lfuonline.uibk.ac.at/public/lfuonline_lv.details?sem_id_in=19S&lvnr_id_in=609193\n
CLASS:PUBLIC
DTSTART:20190405T063000Z
DTEND:20190405T080000Z
DTSTAMP:20260419T143921Z
LOCATION:Hörsaal 3
END:VEVENT
BEGIN:VEVENT
UID:19S_609193_3345679@uibk.ac.at
ORGANIZER;CN="LFU:online Universität Innsbruck":MAILTO:Uni-Innsbruck-noreply@uibk.ac.at
SUMMARY:British and/or Postcolonial Literature and Culture: Fiction (LV 609193-0 19S)
DESCRIPTION:Lehrveranstaltung 609193 19S, Gruppe 0\nTitel: British and/or Postcolonial Literature and Culture: Fiction\nOrt: Hörsaal 3\n\nhttps://lfuonline.uibk.ac.at/public/lfuonline_lv.details?sem_id_in=19S&lvnr_id_in=609193\n
CLASS:PUBLIC
DTSTART:20190412T063000Z
DTEND:20190412T080000Z
DTSTAMP:20260419T143921Z
LOCATION:Hörsaal 3
END:VEVENT
BEGIN:VEVENT
UID:19S_609193_3345680@uibk.ac.at
ORGANIZER;CN="LFU:online Universität Innsbruck":MAILTO:Uni-Innsbruck-noreply@uibk.ac.at
SUMMARY:British and/or Postcolonial Literature and Culture: Fiction (LV 609193-0 19S)
DESCRIPTION:Lehrveranstaltung 609193 19S, Gruppe 0\nTitel: British and/or Postcolonial Literature and Culture: Fiction\nOrt: Hörsaal 3\n\nhttps://lfuonline.uibk.ac.at/public/lfuonline_lv.details?sem_id_in=19S&lvnr_id_in=609193\n
CLASS:PUBLIC
DTSTART:20190503T063000Z
DTEND:20190503T080000Z
DTSTAMP:20260419T143921Z
LOCATION:Hörsaal 3
END:VEVENT
BEGIN:VEVENT
UID:19S_609193_3345681@uibk.ac.at
ORGANIZER;CN="LFU:online Universität Innsbruck":MAILTO:Uni-Innsbruck-noreply@uibk.ac.at
SUMMARY:British and/or Postcolonial Literature and Culture: Fiction (LV 609193-0 19S)
DESCRIPTION:Lehrveranstaltung 609193 19S, Gruppe 0\nTitel: British and/or Postcolonial Literature and Culture: Fiction\nOrt: Hörsaal 3\n\nhttps://lfuonline.uibk.ac.at/public/lfuonline_lv.details?sem_id_in=19S&lvnr_id_in=609193\n
CLASS:PUBLIC
DTSTART:20190510T063000Z
DTEND:20190510T080000Z
DTSTAMP:20260419T143921Z
LOCATION:Hörsaal 3
END:VEVENT
BEGIN:VEVENT
UID:19S_609193_3345682@uibk.ac.at
ORGANIZER;CN="LFU:online Universität Innsbruck":MAILTO:Uni-Innsbruck-noreply@uibk.ac.at
SUMMARY:British and/or Postcolonial Literature and Culture: Fiction (LV 609193-0 19S)
DESCRIPTION:Lehrveranstaltung 609193 19S, Gruppe 0\nTitel: British and/or Postcolonial Literature and Culture: Fiction\nOrt: Hörsaal 3\n\nhttps://lfuonline.uibk.ac.at/public/lfuonline_lv.details?sem_id_in=19S&lvnr_id_in=609193\n
CLASS:PUBLIC
DTSTART:20190517T063000Z
DTEND:20190517T080000Z
DTSTAMP:20260419T143921Z
LOCATION:Hörsaal 3
END:VEVENT
BEGIN:VEVENT
UID:19S_609193_3345683@uibk.ac.at
ORGANIZER;CN="LFU:online Universität Innsbruck":MAILTO:Uni-Innsbruck-noreply@uibk.ac.at
SUMMARY:British and/or Postcolonial Literature and Culture: Fiction (LV 609193-0 19S)
DESCRIPTION:Lehrveranstaltung 609193 19S, Gruppe 0\nTitel: British and/or Postcolonial Literature and Culture: Fiction\nOrt: Hörsaal 5\n\nhttps://lfuonline.uibk.ac.at/public/lfuonline_lv.details?sem_id_in=19S&lvnr_id_in=609193\n
CLASS:PUBLIC
DTSTART:20190524T063000Z
DTEND:20190524T080000Z
DTSTAMP:20260419T143921Z
LOCATION:Hörsaal 5
COMMENT:ACHTUNG: Hörsaal 5
END:VEVENT
BEGIN:VEVENT
UID:19S_609193_3345684@uibk.ac.at
ORGANIZER;CN="LFU:online Universität Innsbruck":MAILTO:Uni-Innsbruck-noreply@uibk.ac.at
SUMMARY:British and/or Postcolonial Literature and Culture: Fiction (LV 609193-0 19S)
DESCRIPTION:Lehrveranstaltung 609193 19S, Gruppe 0\nTitel: British and/or Postcolonial Literature and Culture: Fiction\nOrt: Hörsaal 3\n\nhttps://lfuonline.uibk.ac.at/public/lfuonline_lv.details?sem_id_in=19S&lvnr_id_in=609193\n
CLASS:PUBLIC
DTSTART:20190531T063000Z
DTEND:20190531T080000Z
DTSTAMP:20260419T143921Z
LOCATION:Hörsaal 3
END:VEVENT
BEGIN:VEVENT
UID:19S_609193_3345685@uibk.ac.at
ORGANIZER;CN="LFU:online Universität Innsbruck":MAILTO:Uni-Innsbruck-noreply@uibk.ac.at
SUMMARY:British and/or Postcolonial Literature and Culture: Fiction (LV 609193-0 19S)
DESCRIPTION:Lehrveranstaltung 609193 19S, Gruppe 0\nTitel: British and/or Postcolonial Literature and Culture: Fiction\nOrt: Hörsaal 3\n\nhttps://lfuonline.uibk.ac.at/public/lfuonline_lv.details?sem_id_in=19S&lvnr_id_in=609193\n
CLASS:PUBLIC
DTSTART:20190607T063000Z
DTEND:20190607T080000Z
DTSTAMP:20260419T143921Z
LOCATION:Hörsaal 3
END:VEVENT
BEGIN:VEVENT
UID:19S_609193_3345686@uibk.ac.at
ORGANIZER;CN="LFU:online Universität Innsbruck":MAILTO:Uni-Innsbruck-noreply@uibk.ac.at
SUMMARY:British and/or Postcolonial Literature and Culture: Fiction (LV 609193-0 19S)
DESCRIPTION:Lehrveranstaltung 609193 19S, Gruppe 0\nTitel: British and/or Postcolonial Literature and Culture: Fiction\nOrt: Hörsaal 3\n\nhttps://lfuonline.uibk.ac.at/public/lfuonline_lv.details?sem_id_in=19S&lvnr_id_in=609193\n
CLASS:PUBLIC
DTSTART:20190614T063000Z
DTEND:20190614T080000Z
DTSTAMP:20260419T143921Z
LOCATION:Hörsaal 3
END:VEVENT
BEGIN:VEVENT
UID:19S_609193_3345687@uibk.ac.at
ORGANIZER;CN="LFU:online Universität Innsbruck":MAILTO:Uni-Innsbruck-noreply@uibk.ac.at
SUMMARY:British and/or Postcolonial Literature and Culture: Fiction (LV 609193-0 19S)
DESCRIPTION:Lehrveranstaltung 609193 19S, Gruppe 0\nTitel: British and/or Postcolonial Literature and Culture: Fiction\nOrt: Hörsaal 3\n\nhttps://lfuonline.uibk.ac.at/public/lfuonline_lv.details?sem_id_in=19S&lvnr_id_in=609193\n
CLASS:PUBLIC
DTSTART:20190621T063000Z
DTEND:20190621T080000Z
DTSTAMP:20260419T143921Z
LOCATION:Hörsaal 3
END:VEVENT
BEGIN:VEVENT
UID:19S_609193_3345688@uibk.ac.at
ORGANIZER;CN="LFU:online Universität Innsbruck":MAILTO:Uni-Innsbruck-noreply@uibk.ac.at
SUMMARY:British and/or Postcolonial Literature and Culture: Fiction (LV 609193-0 19S)
DESCRIPTION:Lehrveranstaltung 609193 19S, Gruppe 0\nTitel: British and/or Postcolonial Literature and Culture: Fiction\nOrt: Hörsaal 3\n\nhttps://lfuonline.uibk.ac.at/public/lfuonline_lv.details?sem_id_in=19S&lvnr_id_in=609193\n
CLASS:PUBLIC
DTSTART:20190628T063000Z
DTEND:20190628T080000Z
DTSTAMP:20260419T143921Z
LOCATION:Hörsaal 3
COMMENT:1. Prüfungstermin
END:VEVENT
BEGIN:VEVENT
UID:19S_609193_3451196@uibk.ac.at
ORGANIZER;CN="LFU:online Universität Innsbruck":MAILTO:Uni-Innsbruck-noreply@uibk.ac.at
SUMMARY:British and/or Postcolonial Literature and Culture: Fiction (LV 609193-0 19S)
DESCRIPTION:Lehrveranstaltung 609193 19S, Gruppe 0\nTitel: British and/or Postcolonial Literature and Culture: Fiction\nOrt: Hörsaal 3\n\nhttps://lfuonline.uibk.ac.at/public/lfuonline_lv.details?sem_id_in=19S&lvnr_id_in=609193\n
CLASS:PUBLIC
DTSTART:20190930T063000Z
DTEND:20190930T080000Z
DTSTAMP:20260419T143921Z
LOCATION:Hörsaal 3
COMMENT:2. Prüfungstermin
END:VEVENT
BEGIN:VEVENT
UID:19S_609193_3489927@uibk.ac.at
ORGANIZER;CN="LFU:online Universität Innsbruck":MAILTO:Uni-Innsbruck-noreply@uibk.ac.at
SUMMARY:British and/or Postcolonial Literature and Culture: Fiction (LV 609193-0 19S)
DESCRIPTION:Lehrveranstaltung 609193 19S, Gruppe 0\nTitel: British and/or Postcolonial Literature and Culture: Fiction\nOrt: Hörsaal 3\n\nhttps://lfuonline.uibk.ac.at/public/lfuonline_lv.details?sem_id_in=19S&lvnr_id_in=609193\n
CLASS:PUBLIC
DTSTART:20191129T091500Z
DTEND:20191129T104500Z
DTSTAMP:20260419T143921Z
LOCATION:Hörsaal 3
COMMENT:3. Prüfungstermin
END:VEVENT
END:VCALENDAR