BEGIN:VCALENDAR
VERSION:2.0
PRODID:-//Universität Innsbruck//LFU:online//DE
METHOD:PUBLISH
BEGIN:VEVENT
UID:18W_609801_3179214@uibk.ac.at
ORGANIZER;CN="LFU:online Universität Innsbruck":MAILTO:Uni-Innsbruck-noreply@uibk.ac.at
SUMMARY:Gender Studies (LV 609801-0 18W)
DESCRIPTION:Lehrveranstaltung 609801 18W, Gruppe 0\nTitel: Gender Studies\nOrt: 40134\n\nhttps://lfuonline.uibk.ac.at/public/lfuonline_lv.details?sem_id_in=18W&lvnr_id_in=609801\n
CLASS:PUBLIC
DTSTART:20181003T100000Z
DTEND:20181003T113000Z
DTSTAMP:20260423T045532Z
LOCATION:40134
END:VEVENT
BEGIN:VEVENT
UID:18W_609801_3179215@uibk.ac.at
ORGANIZER;CN="LFU:online Universität Innsbruck":MAILTO:Uni-Innsbruck-noreply@uibk.ac.at
SUMMARY:Gender Studies (LV 609801-0 18W)
DESCRIPTION:Lehrveranstaltung 609801 18W, Gruppe 0\nTitel: Gender Studies\nOrt: 40134\n\nhttps://lfuonline.uibk.ac.at/public/lfuonline_lv.details?sem_id_in=18W&lvnr_id_in=609801\n
CLASS:PUBLIC
DTSTART:20181010T100000Z
DTEND:20181010T113000Z
DTSTAMP:20260423T045532Z
LOCATION:40134
END:VEVENT
BEGIN:VEVENT
UID:18W_609801_3179216@uibk.ac.at
ORGANIZER;CN="LFU:online Universität Innsbruck":MAILTO:Uni-Innsbruck-noreply@uibk.ac.at
SUMMARY:Gender Studies (LV 609801-0 18W)
DESCRIPTION:Lehrveranstaltung 609801 18W, Gruppe 0\nTitel: Gender Studies\nOrt: 40134\n\nhttps://lfuonline.uibk.ac.at/public/lfuonline_lv.details?sem_id_in=18W&lvnr_id_in=609801\n
CLASS:PUBLIC
DTSTART:20181017T100000Z
DTEND:20181017T113000Z
DTSTAMP:20260423T045532Z
LOCATION:40134
END:VEVENT
BEGIN:VEVENT
UID:18W_609801_3179217@uibk.ac.at
ORGANIZER;CN="LFU:online Universität Innsbruck":MAILTO:Uni-Innsbruck-noreply@uibk.ac.at
SUMMARY:Gender Studies (LV 609801-0 18W)
DESCRIPTION:Lehrveranstaltung 609801 18W, Gruppe 0\nTitel: Gender Studies\nOrt: 40134\n\nhttps://lfuonline.uibk.ac.at/public/lfuonline_lv.details?sem_id_in=18W&lvnr_id_in=609801\n
CLASS:PUBLIC
DTSTART:20181024T100000Z
DTEND:20181024T113000Z
DTSTAMP:20260423T045532Z
LOCATION:40134
END:VEVENT
BEGIN:VEVENT
UID:18W_609801_3179218@uibk.ac.at
ORGANIZER;CN="LFU:online Universität Innsbruck":MAILTO:Uni-Innsbruck-noreply@uibk.ac.at
SUMMARY:Gender Studies (LV 609801-0 18W)
DESCRIPTION:Lehrveranstaltung 609801 18W, Gruppe 0\nTitel: Gender Studies\nOrt: 40134\n\nhttps://lfuonline.uibk.ac.at/public/lfuonline_lv.details?sem_id_in=18W&lvnr_id_in=609801\n
CLASS:PUBLIC
DTSTART:20181031T110000Z
DTEND:20181031T123000Z
DTSTAMP:20260423T045532Z
LOCATION:40134
END:VEVENT
BEGIN:VEVENT
UID:18W_609801_3179219@uibk.ac.at
ORGANIZER;CN="LFU:online Universität Innsbruck":MAILTO:Uni-Innsbruck-noreply@uibk.ac.at
SUMMARY:Gender Studies (LV 609801-0 18W)
DESCRIPTION:Lehrveranstaltung 609801 18W, Gruppe 0\nTitel: Gender Studies\nOrt: 40134\n\nhttps://lfuonline.uibk.ac.at/public/lfuonline_lv.details?sem_id_in=18W&lvnr_id_in=609801\n
CLASS:PUBLIC
DTSTART:20181107T110000Z
DTEND:20181107T123000Z
DTSTAMP:20260423T045532Z
LOCATION:40134
END:VEVENT
BEGIN:VEVENT
UID:18W_609801_3179220@uibk.ac.at
ORGANIZER;CN="LFU:online Universität Innsbruck":MAILTO:Uni-Innsbruck-noreply@uibk.ac.at
SUMMARY:Gender Studies (LV 609801-0 18W)
DESCRIPTION:Lehrveranstaltung 609801 18W, Gruppe 0\nTitel: Gender Studies\nOrt: 40134\n\nhttps://lfuonline.uibk.ac.at/public/lfuonline_lv.details?sem_id_in=18W&lvnr_id_in=609801\n
CLASS:PUBLIC
DTSTART:20181114T110000Z
DTEND:20181114T123000Z
DTSTAMP:20260423T045532Z
LOCATION:40134
END:VEVENT
BEGIN:VEVENT
UID:18W_609801_3179221@uibk.ac.at
ORGANIZER;CN="LFU:online Universität Innsbruck":MAILTO:Uni-Innsbruck-noreply@uibk.ac.at
SUMMARY:Gender Studies (LV 609801-0 18W)
DESCRIPTION:Lehrveranstaltung 609801 18W, Gruppe 0\nTitel: Gender Studies\nOrt: 40134\n\nhttps://lfuonline.uibk.ac.at/public/lfuonline_lv.details?sem_id_in=18W&lvnr_id_in=609801\n
CLASS:PUBLIC
DTSTART:20181121T110000Z
DTEND:20181121T123000Z
DTSTAMP:20260423T045532Z
LOCATION:40134
END:VEVENT
BEGIN:VEVENT
UID:18W_609801_3179222@uibk.ac.at
ORGANIZER;CN="LFU:online Universität Innsbruck":MAILTO:Uni-Innsbruck-noreply@uibk.ac.at
SUMMARY:Gender Studies (LV 609801-0 18W)
DESCRIPTION:Lehrveranstaltung 609801 18W, Gruppe 0\nTitel: Gender Studies\nOrt: 40134\n\nhttps://lfuonline.uibk.ac.at/public/lfuonline_lv.details?sem_id_in=18W&lvnr_id_in=609801\n
CLASS:PUBLIC
DTSTART:20181128T110000Z
DTEND:20181128T123000Z
DTSTAMP:20260423T045532Z
LOCATION:40134
END:VEVENT
BEGIN:VEVENT
UID:18W_609801_3179223@uibk.ac.at
ORGANIZER;CN="LFU:online Universität Innsbruck":MAILTO:Uni-Innsbruck-noreply@uibk.ac.at
SUMMARY:Gender Studies (LV 609801-0 18W)
DESCRIPTION:Lehrveranstaltung 609801 18W, Gruppe 0\nTitel: Gender Studies\nOrt: 40134\n\nhttps://lfuonline.uibk.ac.at/public/lfuonline_lv.details?sem_id_in=18W&lvnr_id_in=609801\n
CLASS:PUBLIC
DTSTART:20181205T110000Z
DTEND:20181205T123000Z
DTSTAMP:20260423T045532Z
LOCATION:40134
END:VEVENT
BEGIN:VEVENT
UID:18W_609801_3179224@uibk.ac.at
ORGANIZER;CN="LFU:online Universität Innsbruck":MAILTO:Uni-Innsbruck-noreply@uibk.ac.at
SUMMARY:Gender Studies (LV 609801-0 18W)
DESCRIPTION:Lehrveranstaltung 609801 18W, Gruppe 0\nTitel: Gender Studies\nOrt: 40134\n\nhttps://lfuonline.uibk.ac.at/public/lfuonline_lv.details?sem_id_in=18W&lvnr_id_in=609801\n
CLASS:PUBLIC
DTSTART:20181212T110000Z
DTEND:20181212T123000Z
DTSTAMP:20260423T045532Z
LOCATION:40134
END:VEVENT
BEGIN:VEVENT
UID:18W_609801_3179225@uibk.ac.at
ORGANIZER;CN="LFU:online Universität Innsbruck":MAILTO:Uni-Innsbruck-noreply@uibk.ac.at
SUMMARY:Gender Studies (LV 609801-0 18W)
DESCRIPTION:Lehrveranstaltung 609801 18W, Gruppe 0\nTitel: Gender Studies\nOrt: 40134\n\nhttps://lfuonline.uibk.ac.at/public/lfuonline_lv.details?sem_id_in=18W&lvnr_id_in=609801\n
CLASS:PUBLIC
DTSTART:20190109T110000Z
DTEND:20190109T123000Z
DTSTAMP:20260423T045532Z
LOCATION:40134
END:VEVENT
BEGIN:VEVENT
UID:18W_609801_3179226@uibk.ac.at
ORGANIZER;CN="LFU:online Universität Innsbruck":MAILTO:Uni-Innsbruck-noreply@uibk.ac.at
SUMMARY:Gender Studies (LV 609801-0 18W)
DESCRIPTION:Lehrveranstaltung 609801 18W, Gruppe 0\nTitel: Gender Studies\nOrt: 40134\n\nhttps://lfuonline.uibk.ac.at/public/lfuonline_lv.details?sem_id_in=18W&lvnr_id_in=609801\n
CLASS:PUBLIC
DTSTART:20190116T110000Z
DTEND:20190116T123000Z
DTSTAMP:20260423T045532Z
LOCATION:40134
END:VEVENT
BEGIN:VEVENT
UID:18W_609801_3179227@uibk.ac.at
ORGANIZER;CN="LFU:online Universität Innsbruck":MAILTO:Uni-Innsbruck-noreply@uibk.ac.at
SUMMARY:Gender Studies (LV 609801-0 18W)
DESCRIPTION:Lehrveranstaltung 609801 18W, Gruppe 0\nTitel: Gender Studies\nOrt: 40134\n\nhttps://lfuonline.uibk.ac.at/public/lfuonline_lv.details?sem_id_in=18W&lvnr_id_in=609801\n
CLASS:PUBLIC
DTSTART:20190123T110000Z
DTEND:20190123T123000Z
DTSTAMP:20260423T045532Z
LOCATION:40134
END:VEVENT
BEGIN:VEVENT
UID:18W_609801_3179228@uibk.ac.at
ORGANIZER;CN="LFU:online Universität Innsbruck":MAILTO:Uni-Innsbruck-noreply@uibk.ac.at
SUMMARY:Gender Studies (LV 609801-0 18W)
DESCRIPTION:Lehrveranstaltung 609801 18W, Gruppe 0\nTitel: Gender Studies\nOrt: 40134\n\nhttps://lfuonline.uibk.ac.at/public/lfuonline_lv.details?sem_id_in=18W&lvnr_id_in=609801\n
CLASS:PUBLIC
DTSTART:20190130T110000Z
DTEND:20190130T123000Z
DTSTAMP:20260423T045532Z
LOCATION:40134
END:VEVENT
END:VCALENDAR