BEGIN:VCALENDAR
VERSION:2.0
PRODID:-//Universität Innsbruck//LFU:online//DE
METHOD:PUBLISH
BEGIN:VEVENT
UID:03W_610001_98318@uibk.ac.at
ORGANIZER;CN="LFU:online Universität Innsbruck":MAILTO:Uni-Innsbruck-noreply@uibk.ac.at
SUMMARY:"I sing the body electric": The Era of Walt Whitman (LV 610001-0 03W)
DESCRIPTION:Lehrveranstaltung 610001 03W, Gruppe 0\nTitel: "I sing the body electric": The Era of Walt Whitman\nOrt: 40204 SR\n\nhttps://lfuonline.uibk.ac.at/public/lfuonline_lv.details?sem_id_in=03W&lvnr_id_in=610001\n
CLASS:PUBLIC
DTSTART:20031008T081500Z
DTEND:20031008T090000Z
DTSTAMP:20260422T150106Z
LOCATION:40204 SR
END:VEVENT
BEGIN:VEVENT
UID:03W_610001_98333@uibk.ac.at
ORGANIZER;CN="LFU:online Universität Innsbruck":MAILTO:Uni-Innsbruck-noreply@uibk.ac.at
SUMMARY:"I sing the body electric": The Era of Walt Whitman (LV 610001-0 03W)
DESCRIPTION:Lehrveranstaltung 610001 03W, Gruppe 0\nTitel: "I sing the body electric": The Era of Walt Whitman\nOrt: 40204 SR\n\nhttps://lfuonline.uibk.ac.at/public/lfuonline_lv.details?sem_id_in=03W&lvnr_id_in=610001\n
CLASS:PUBLIC
DTSTART:20031010T081500Z
DTEND:20031010T090000Z
DTSTAMP:20260422T150106Z
LOCATION:40204 SR
END:VEVENT
BEGIN:VEVENT
UID:03W_610001_98319@uibk.ac.at
ORGANIZER;CN="LFU:online Universität Innsbruck":MAILTO:Uni-Innsbruck-noreply@uibk.ac.at
SUMMARY:"I sing the body electric": The Era of Walt Whitman (LV 610001-0 03W)
DESCRIPTION:Lehrveranstaltung 610001 03W, Gruppe 0\nTitel: "I sing the body electric": The Era of Walt Whitman\nOrt: 40204 SR\n\nhttps://lfuonline.uibk.ac.at/public/lfuonline_lv.details?sem_id_in=03W&lvnr_id_in=610001\n
CLASS:PUBLIC
DTSTART:20031015T081500Z
DTEND:20031015T090000Z
DTSTAMP:20260422T150106Z
LOCATION:40204 SR
END:VEVENT
BEGIN:VEVENT
UID:03W_610001_98334@uibk.ac.at
ORGANIZER;CN="LFU:online Universität Innsbruck":MAILTO:Uni-Innsbruck-noreply@uibk.ac.at
SUMMARY:"I sing the body electric": The Era of Walt Whitman (LV 610001-0 03W)
DESCRIPTION:Lehrveranstaltung 610001 03W, Gruppe 0\nTitel: "I sing the body electric": The Era of Walt Whitman\nOrt: 40204 SR\n\nhttps://lfuonline.uibk.ac.at/public/lfuonline_lv.details?sem_id_in=03W&lvnr_id_in=610001\n
CLASS:PUBLIC
DTSTART:20031017T081500Z
DTEND:20031017T090000Z
DTSTAMP:20260422T150106Z
LOCATION:40204 SR
END:VEVENT
BEGIN:VEVENT
UID:03W_610001_98320@uibk.ac.at
ORGANIZER;CN="LFU:online Universität Innsbruck":MAILTO:Uni-Innsbruck-noreply@uibk.ac.at
SUMMARY:"I sing the body electric": The Era of Walt Whitman (LV 610001-0 03W)
DESCRIPTION:Lehrveranstaltung 610001 03W, Gruppe 0\nTitel: "I sing the body electric": The Era of Walt Whitman\nOrt: 40204 SR\n\nhttps://lfuonline.uibk.ac.at/public/lfuonline_lv.details?sem_id_in=03W&lvnr_id_in=610001\n
CLASS:PUBLIC
DTSTART:20031022T081500Z
DTEND:20031022T090000Z
DTSTAMP:20260422T150106Z
LOCATION:40204 SR
END:VEVENT
BEGIN:VEVENT
UID:03W_610001_98335@uibk.ac.at
ORGANIZER;CN="LFU:online Universität Innsbruck":MAILTO:Uni-Innsbruck-noreply@uibk.ac.at
SUMMARY:"I sing the body electric": The Era of Walt Whitman (LV 610001-0 03W)
DESCRIPTION:Lehrveranstaltung 610001 03W, Gruppe 0\nTitel: "I sing the body electric": The Era of Walt Whitman\nOrt: 40204 SR\n\nhttps://lfuonline.uibk.ac.at/public/lfuonline_lv.details?sem_id_in=03W&lvnr_id_in=610001\n
CLASS:PUBLIC
DTSTART:20031024T081500Z
DTEND:20031024T090000Z
DTSTAMP:20260422T150106Z
LOCATION:40204 SR
END:VEVENT
BEGIN:VEVENT
UID:03W_610001_98321@uibk.ac.at
ORGANIZER;CN="LFU:online Universität Innsbruck":MAILTO:Uni-Innsbruck-noreply@uibk.ac.at
SUMMARY:"I sing the body electric": The Era of Walt Whitman (LV 610001-0 03W)
DESCRIPTION:Lehrveranstaltung 610001 03W, Gruppe 0\nTitel: "I sing the body electric": The Era of Walt Whitman\nOrt: 40204 SR\n\nhttps://lfuonline.uibk.ac.at/public/lfuonline_lv.details?sem_id_in=03W&lvnr_id_in=610001\n
CLASS:PUBLIC
DTSTART:20031029T091500Z
DTEND:20031029T100000Z
DTSTAMP:20260422T150106Z
LOCATION:40204 SR
END:VEVENT
BEGIN:VEVENT
UID:03W_610001_98336@uibk.ac.at
ORGANIZER;CN="LFU:online Universität Innsbruck":MAILTO:Uni-Innsbruck-noreply@uibk.ac.at
SUMMARY:"I sing the body electric": The Era of Walt Whitman (LV 610001-0 03W)
DESCRIPTION:Lehrveranstaltung 610001 03W, Gruppe 0\nTitel: "I sing the body electric": The Era of Walt Whitman\nOrt: 40204 SR\n\nhttps://lfuonline.uibk.ac.at/public/lfuonline_lv.details?sem_id_in=03W&lvnr_id_in=610001\n
CLASS:PUBLIC
DTSTART:20031031T091500Z
DTEND:20031031T100000Z
DTSTAMP:20260422T150106Z
LOCATION:40204 SR
END:VEVENT
BEGIN:VEVENT
UID:03W_610001_98322@uibk.ac.at
ORGANIZER;CN="LFU:online Universität Innsbruck":MAILTO:Uni-Innsbruck-noreply@uibk.ac.at
SUMMARY:"I sing the body electric": The Era of Walt Whitman (LV 610001-0 03W)
DESCRIPTION:Lehrveranstaltung 610001 03W, Gruppe 0\nTitel: "I sing the body electric": The Era of Walt Whitman\nOrt: 40204 SR\n\nhttps://lfuonline.uibk.ac.at/public/lfuonline_lv.details?sem_id_in=03W&lvnr_id_in=610001\n
CLASS:PUBLIC
DTSTART:20031105T091500Z
DTEND:20031105T100000Z
DTSTAMP:20260422T150106Z
LOCATION:40204 SR
END:VEVENT
BEGIN:VEVENT
UID:03W_610001_98337@uibk.ac.at
ORGANIZER;CN="LFU:online Universität Innsbruck":MAILTO:Uni-Innsbruck-noreply@uibk.ac.at
SUMMARY:"I sing the body electric": The Era of Walt Whitman (LV 610001-0 03W)
DESCRIPTION:Lehrveranstaltung 610001 03W, Gruppe 0\nTitel: "I sing the body electric": The Era of Walt Whitman\nOrt: 40204 SR\n\nhttps://lfuonline.uibk.ac.at/public/lfuonline_lv.details?sem_id_in=03W&lvnr_id_in=610001\n
CLASS:PUBLIC
DTSTART:20031107T091500Z
DTEND:20031107T100000Z
DTSTAMP:20260422T150106Z
LOCATION:40204 SR
END:VEVENT
BEGIN:VEVENT
UID:03W_610001_98323@uibk.ac.at
ORGANIZER;CN="LFU:online Universität Innsbruck":MAILTO:Uni-Innsbruck-noreply@uibk.ac.at
SUMMARY:"I sing the body electric": The Era of Walt Whitman (LV 610001-0 03W)
DESCRIPTION:Lehrveranstaltung 610001 03W, Gruppe 0\nTitel: "I sing the body electric": The Era of Walt Whitman\nOrt: 40204 SR\n\nhttps://lfuonline.uibk.ac.at/public/lfuonline_lv.details?sem_id_in=03W&lvnr_id_in=610001\n
CLASS:PUBLIC
DTSTART:20031112T091500Z
DTEND:20031112T100000Z
DTSTAMP:20260422T150106Z
LOCATION:40204 SR
END:VEVENT
BEGIN:VEVENT
UID:03W_610001_98338@uibk.ac.at
ORGANIZER;CN="LFU:online Universität Innsbruck":MAILTO:Uni-Innsbruck-noreply@uibk.ac.at
SUMMARY:"I sing the body electric": The Era of Walt Whitman (LV 610001-0 03W)
DESCRIPTION:Lehrveranstaltung 610001 03W, Gruppe 0\nTitel: "I sing the body electric": The Era of Walt Whitman\nOrt: 40204 SR\n\nhttps://lfuonline.uibk.ac.at/public/lfuonline_lv.details?sem_id_in=03W&lvnr_id_in=610001\n
CLASS:PUBLIC
DTSTART:20031114T091500Z
DTEND:20031114T100000Z
DTSTAMP:20260422T150106Z
LOCATION:40204 SR
END:VEVENT
BEGIN:VEVENT
UID:03W_610001_98324@uibk.ac.at
ORGANIZER;CN="LFU:online Universität Innsbruck":MAILTO:Uni-Innsbruck-noreply@uibk.ac.at
SUMMARY:"I sing the body electric": The Era of Walt Whitman (LV 610001-0 03W)
DESCRIPTION:Lehrveranstaltung 610001 03W, Gruppe 0\nTitel: "I sing the body electric": The Era of Walt Whitman\nOrt: 40204 SR\n\nhttps://lfuonline.uibk.ac.at/public/lfuonline_lv.details?sem_id_in=03W&lvnr_id_in=610001\n
CLASS:PUBLIC
DTSTART:20031119T091500Z
DTEND:20031119T100000Z
DTSTAMP:20260422T150106Z
LOCATION:40204 SR
END:VEVENT
BEGIN:VEVENT
UID:03W_610001_98339@uibk.ac.at
ORGANIZER;CN="LFU:online Universität Innsbruck":MAILTO:Uni-Innsbruck-noreply@uibk.ac.at
SUMMARY:"I sing the body electric": The Era of Walt Whitman (LV 610001-0 03W)
DESCRIPTION:Lehrveranstaltung 610001 03W, Gruppe 0\nTitel: "I sing the body electric": The Era of Walt Whitman\nOrt: 40204 SR\n\nhttps://lfuonline.uibk.ac.at/public/lfuonline_lv.details?sem_id_in=03W&lvnr_id_in=610001\n
CLASS:PUBLIC
DTSTART:20031121T091500Z
DTEND:20031121T100000Z
DTSTAMP:20260422T150106Z
LOCATION:40204 SR
END:VEVENT
BEGIN:VEVENT
UID:03W_610001_98325@uibk.ac.at
ORGANIZER;CN="LFU:online Universität Innsbruck":MAILTO:Uni-Innsbruck-noreply@uibk.ac.at
SUMMARY:"I sing the body electric": The Era of Walt Whitman (LV 610001-0 03W)
DESCRIPTION:Lehrveranstaltung 610001 03W, Gruppe 0\nTitel: "I sing the body electric": The Era of Walt Whitman\nOrt: 40204 SR\n\nhttps://lfuonline.uibk.ac.at/public/lfuonline_lv.details?sem_id_in=03W&lvnr_id_in=610001\n
CLASS:PUBLIC
DTSTART:20031126T091500Z
DTEND:20031126T100000Z
DTSTAMP:20260422T150106Z
LOCATION:40204 SR
END:VEVENT
BEGIN:VEVENT
UID:03W_610001_98340@uibk.ac.at
ORGANIZER;CN="LFU:online Universität Innsbruck":MAILTO:Uni-Innsbruck-noreply@uibk.ac.at
SUMMARY:"I sing the body electric": The Era of Walt Whitman (LV 610001-0 03W)
DESCRIPTION:Lehrveranstaltung 610001 03W, Gruppe 0\nTitel: "I sing the body electric": The Era of Walt Whitman\nOrt: 40204 SR\n\nhttps://lfuonline.uibk.ac.at/public/lfuonline_lv.details?sem_id_in=03W&lvnr_id_in=610001\n
CLASS:PUBLIC
DTSTART:20031128T091500Z
DTEND:20031128T100000Z
DTSTAMP:20260422T150106Z
LOCATION:40204 SR
END:VEVENT
BEGIN:VEVENT
UID:03W_610001_98326@uibk.ac.at
ORGANIZER;CN="LFU:online Universität Innsbruck":MAILTO:Uni-Innsbruck-noreply@uibk.ac.at
SUMMARY:"I sing the body electric": The Era of Walt Whitman (LV 610001-0 03W)
DESCRIPTION:Lehrveranstaltung 610001 03W, Gruppe 0\nTitel: "I sing the body electric": The Era of Walt Whitman\nOrt: 40204 SR\n\nhttps://lfuonline.uibk.ac.at/public/lfuonline_lv.details?sem_id_in=03W&lvnr_id_in=610001\n
CLASS:PUBLIC
DTSTART:20031203T091500Z
DTEND:20031203T100000Z
DTSTAMP:20260422T150106Z
LOCATION:40204 SR
END:VEVENT
BEGIN:VEVENT
UID:03W_610001_98341@uibk.ac.at
ORGANIZER;CN="LFU:online Universität Innsbruck":MAILTO:Uni-Innsbruck-noreply@uibk.ac.at
SUMMARY:"I sing the body electric": The Era of Walt Whitman (LV 610001-0 03W)
DESCRIPTION:Lehrveranstaltung 610001 03W, Gruppe 0\nTitel: "I sing the body electric": The Era of Walt Whitman\nOrt: 40204 SR\n\nhttps://lfuonline.uibk.ac.at/public/lfuonline_lv.details?sem_id_in=03W&lvnr_id_in=610001\n
CLASS:PUBLIC
DTSTART:20031205T091500Z
DTEND:20031205T100000Z
DTSTAMP:20260422T150106Z
LOCATION:40204 SR
END:VEVENT
BEGIN:VEVENT
UID:03W_610001_98327@uibk.ac.at
ORGANIZER;CN="LFU:online Universität Innsbruck":MAILTO:Uni-Innsbruck-noreply@uibk.ac.at
SUMMARY:"I sing the body electric": The Era of Walt Whitman (LV 610001-0 03W)
DESCRIPTION:Lehrveranstaltung 610001 03W, Gruppe 0\nTitel: "I sing the body electric": The Era of Walt Whitman\nOrt: 40204 SR\n\nhttps://lfuonline.uibk.ac.at/public/lfuonline_lv.details?sem_id_in=03W&lvnr_id_in=610001\n
CLASS:PUBLIC
DTSTART:20031210T091500Z
DTEND:20031210T100000Z
DTSTAMP:20260422T150106Z
LOCATION:40204 SR
END:VEVENT
BEGIN:VEVENT
UID:03W_610001_98342@uibk.ac.at
ORGANIZER;CN="LFU:online Universität Innsbruck":MAILTO:Uni-Innsbruck-noreply@uibk.ac.at
SUMMARY:"I sing the body electric": The Era of Walt Whitman (LV 610001-0 03W)
DESCRIPTION:Lehrveranstaltung 610001 03W, Gruppe 0\nTitel: "I sing the body electric": The Era of Walt Whitman\nOrt: 40204 SR\n\nhttps://lfuonline.uibk.ac.at/public/lfuonline_lv.details?sem_id_in=03W&lvnr_id_in=610001\n
CLASS:PUBLIC
DTSTART:20031212T091500Z
DTEND:20031212T100000Z
DTSTAMP:20260422T150106Z
LOCATION:40204 SR
END:VEVENT
BEGIN:VEVENT
UID:03W_610001_98328@uibk.ac.at
ORGANIZER;CN="LFU:online Universität Innsbruck":MAILTO:Uni-Innsbruck-noreply@uibk.ac.at
SUMMARY:"I sing the body electric": The Era of Walt Whitman (LV 610001-0 03W)
DESCRIPTION:Lehrveranstaltung 610001 03W, Gruppe 0\nTitel: "I sing the body electric": The Era of Walt Whitman\nOrt: 40204 SR\n\nhttps://lfuonline.uibk.ac.at/public/lfuonline_lv.details?sem_id_in=03W&lvnr_id_in=610001\n
CLASS:PUBLIC
DTSTART:20031217T091500Z
DTEND:20031217T100000Z
DTSTAMP:20260422T150106Z
LOCATION:40204 SR
END:VEVENT
BEGIN:VEVENT
UID:03W_610001_98329@uibk.ac.at
ORGANIZER;CN="LFU:online Universität Innsbruck":MAILTO:Uni-Innsbruck-noreply@uibk.ac.at
SUMMARY:"I sing the body electric": The Era of Walt Whitman (LV 610001-0 03W)
DESCRIPTION:Lehrveranstaltung 610001 03W, Gruppe 0\nTitel: "I sing the body electric": The Era of Walt Whitman\nOrt: 40204 SR\n\nhttps://lfuonline.uibk.ac.at/public/lfuonline_lv.details?sem_id_in=03W&lvnr_id_in=610001\n
CLASS:PUBLIC
DTSTART:20040107T091500Z
DTEND:20040107T100000Z
DTSTAMP:20260422T150106Z
LOCATION:40204 SR
END:VEVENT
BEGIN:VEVENT
UID:03W_610001_98343@uibk.ac.at
ORGANIZER;CN="LFU:online Universität Innsbruck":MAILTO:Uni-Innsbruck-noreply@uibk.ac.at
SUMMARY:"I sing the body electric": The Era of Walt Whitman (LV 610001-0 03W)
DESCRIPTION:Lehrveranstaltung 610001 03W, Gruppe 0\nTitel: "I sing the body electric": The Era of Walt Whitman\nOrt: 40204 SR\n\nhttps://lfuonline.uibk.ac.at/public/lfuonline_lv.details?sem_id_in=03W&lvnr_id_in=610001\n
CLASS:PUBLIC
DTSTART:20040109T091500Z
DTEND:20040109T100000Z
DTSTAMP:20260422T150106Z
LOCATION:40204 SR
END:VEVENT
BEGIN:VEVENT
UID:03W_610001_98330@uibk.ac.at
ORGANIZER;CN="LFU:online Universität Innsbruck":MAILTO:Uni-Innsbruck-noreply@uibk.ac.at
SUMMARY:"I sing the body electric": The Era of Walt Whitman (LV 610001-0 03W)
DESCRIPTION:Lehrveranstaltung 610001 03W, Gruppe 0\nTitel: "I sing the body electric": The Era of Walt Whitman\nOrt: 40204 SR\n\nhttps://lfuonline.uibk.ac.at/public/lfuonline_lv.details?sem_id_in=03W&lvnr_id_in=610001\n
CLASS:PUBLIC
DTSTART:20040114T091500Z
DTEND:20040114T100000Z
DTSTAMP:20260422T150106Z
LOCATION:40204 SR
END:VEVENT
BEGIN:VEVENT
UID:03W_610001_98344@uibk.ac.at
ORGANIZER;CN="LFU:online Universität Innsbruck":MAILTO:Uni-Innsbruck-noreply@uibk.ac.at
SUMMARY:"I sing the body electric": The Era of Walt Whitman (LV 610001-0 03W)
DESCRIPTION:Lehrveranstaltung 610001 03W, Gruppe 0\nTitel: "I sing the body electric": The Era of Walt Whitman\nOrt: 40204 SR\n\nhttps://lfuonline.uibk.ac.at/public/lfuonline_lv.details?sem_id_in=03W&lvnr_id_in=610001\n
CLASS:PUBLIC
DTSTART:20040116T091500Z
DTEND:20040116T100000Z
DTSTAMP:20260422T150106Z
LOCATION:40204 SR
END:VEVENT
BEGIN:VEVENT
UID:03W_610001_98331@uibk.ac.at
ORGANIZER;CN="LFU:online Universität Innsbruck":MAILTO:Uni-Innsbruck-noreply@uibk.ac.at
SUMMARY:"I sing the body electric": The Era of Walt Whitman (LV 610001-0 03W)
DESCRIPTION:Lehrveranstaltung 610001 03W, Gruppe 0\nTitel: "I sing the body electric": The Era of Walt Whitman\nOrt: 40204 SR\n\nhttps://lfuonline.uibk.ac.at/public/lfuonline_lv.details?sem_id_in=03W&lvnr_id_in=610001\n
CLASS:PUBLIC
DTSTART:20040121T091500Z
DTEND:20040121T100000Z
DTSTAMP:20260422T150106Z
LOCATION:40204 SR
END:VEVENT
BEGIN:VEVENT
UID:03W_610001_98345@uibk.ac.at
ORGANIZER;CN="LFU:online Universität Innsbruck":MAILTO:Uni-Innsbruck-noreply@uibk.ac.at
SUMMARY:"I sing the body electric": The Era of Walt Whitman (LV 610001-0 03W)
DESCRIPTION:Lehrveranstaltung 610001 03W, Gruppe 0\nTitel: "I sing the body electric": The Era of Walt Whitman\nOrt: 40204 SR\n\nhttps://lfuonline.uibk.ac.at/public/lfuonline_lv.details?sem_id_in=03W&lvnr_id_in=610001\n
CLASS:PUBLIC
DTSTART:20040123T091500Z
DTEND:20040123T100000Z
DTSTAMP:20260422T150106Z
LOCATION:40204 SR
END:VEVENT
BEGIN:VEVENT
UID:03W_610001_98332@uibk.ac.at
ORGANIZER;CN="LFU:online Universität Innsbruck":MAILTO:Uni-Innsbruck-noreply@uibk.ac.at
SUMMARY:"I sing the body electric": The Era of Walt Whitman (LV 610001-0 03W)
DESCRIPTION:Lehrveranstaltung 610001 03W, Gruppe 0\nTitel: "I sing the body electric": The Era of Walt Whitman\nOrt: 40204 SR\n\nhttps://lfuonline.uibk.ac.at/public/lfuonline_lv.details?sem_id_in=03W&lvnr_id_in=610001\n
CLASS:PUBLIC
DTSTART:20040128T091500Z
DTEND:20040128T100000Z
DTSTAMP:20260422T150106Z
LOCATION:40204 SR
END:VEVENT
BEGIN:VEVENT
UID:03W_610001_98346@uibk.ac.at
ORGANIZER;CN="LFU:online Universität Innsbruck":MAILTO:Uni-Innsbruck-noreply@uibk.ac.at
SUMMARY:"I sing the body electric": The Era of Walt Whitman (LV 610001-0 03W)
DESCRIPTION:Lehrveranstaltung 610001 03W, Gruppe 0\nTitel: "I sing the body electric": The Era of Walt Whitman\nOrt: 40204 SR\n\nhttps://lfuonline.uibk.ac.at/public/lfuonline_lv.details?sem_id_in=03W&lvnr_id_in=610001\n
CLASS:PUBLIC
DTSTART:20040130T091500Z
DTEND:20040130T100000Z
DTSTAMP:20260422T150106Z
LOCATION:40204 SR
END:VEVENT
END:VCALENDAR