BEGIN:VCALENDAR
VERSION:2.0
PRODID:-//Universität Innsbruck//LFU:online//DE
METHOD:PUBLISH
BEGIN:VEVENT
UID:15W_610004_2540916@uibk.ac.at
ORGANIZER;CN="LFU:online Universität Innsbruck":MAILTO:Uni-Innsbruck-noreply@uibk.ac.at
SUMMARY:American Literature and Culture: Survey of American Literature (LV 610004-0 15W)
DESCRIPTION:Lehrveranstaltung 610004 15W, Gruppe 0\nTitel: American Literature and Culture: Survey of American Literature\nOrt: 40130\n\nhttps://lfuonline.uibk.ac.at/public/lfuonline_lv.details?sem_id_in=15W&lvnr_id_in=610004\n
CLASS:PUBLIC
DTSTART:20151007T081500Z
DTEND:20151007T094500Z
DTSTAMP:20260420T081438Z
LOCATION:40130
END:VEVENT
BEGIN:VEVENT
UID:15W_610004_2540917@uibk.ac.at
ORGANIZER;CN="LFU:online Universität Innsbruck":MAILTO:Uni-Innsbruck-noreply@uibk.ac.at
SUMMARY:American Literature and Culture: Survey of American Literature (LV 610004-0 15W)
DESCRIPTION:Lehrveranstaltung 610004 15W, Gruppe 0\nTitel: American Literature and Culture: Survey of American Literature\nOrt: 40130\n\nhttps://lfuonline.uibk.ac.at/public/lfuonline_lv.details?sem_id_in=15W&lvnr_id_in=610004\n
CLASS:PUBLIC
DTSTART:20151014T081500Z
DTEND:20151014T094500Z
DTSTAMP:20260420T081438Z
LOCATION:40130
END:VEVENT
BEGIN:VEVENT
UID:15W_610004_2540918@uibk.ac.at
ORGANIZER;CN="LFU:online Universität Innsbruck":MAILTO:Uni-Innsbruck-noreply@uibk.ac.at
SUMMARY:American Literature and Culture: Survey of American Literature (LV 610004-0 15W)
DESCRIPTION:Lehrveranstaltung 610004 15W, Gruppe 0\nTitel: American Literature and Culture: Survey of American Literature\nOrt: 40130\n\nhttps://lfuonline.uibk.ac.at/public/lfuonline_lv.details?sem_id_in=15W&lvnr_id_in=610004\n
CLASS:PUBLIC
DTSTART:20151021T081500Z
DTEND:20151021T094500Z
DTSTAMP:20260420T081438Z
LOCATION:40130
END:VEVENT
BEGIN:VEVENT
UID:15W_610004_2540919@uibk.ac.at
ORGANIZER;CN="LFU:online Universität Innsbruck":MAILTO:Uni-Innsbruck-noreply@uibk.ac.at
SUMMARY:American Literature and Culture: Survey of American Literature (LV 610004-0 15W)
DESCRIPTION:Lehrveranstaltung 610004 15W, Gruppe 0\nTitel: American Literature and Culture: Survey of American Literature\nOrt: 40130\n\nhttps://lfuonline.uibk.ac.at/public/lfuonline_lv.details?sem_id_in=15W&lvnr_id_in=610004\n
CLASS:PUBLIC
DTSTART:20151028T091500Z
DTEND:20151028T104500Z
DTSTAMP:20260420T081438Z
LOCATION:40130
END:VEVENT
BEGIN:VEVENT
UID:15W_610004_2540920@uibk.ac.at
ORGANIZER;CN="LFU:online Universität Innsbruck":MAILTO:Uni-Innsbruck-noreply@uibk.ac.at
SUMMARY:American Literature and Culture: Survey of American Literature (LV 610004-0 15W)
DESCRIPTION:Lehrveranstaltung 610004 15W, Gruppe 0\nTitel: American Literature and Culture: Survey of American Literature\nOrt: 40130\n\nhttps://lfuonline.uibk.ac.at/public/lfuonline_lv.details?sem_id_in=15W&lvnr_id_in=610004\n
CLASS:PUBLIC
DTSTART:20151104T091500Z
DTEND:20151104T104500Z
DTSTAMP:20260420T081438Z
LOCATION:40130
END:VEVENT
BEGIN:VEVENT
UID:15W_610004_2540921@uibk.ac.at
ORGANIZER;CN="LFU:online Universität Innsbruck":MAILTO:Uni-Innsbruck-noreply@uibk.ac.at
SUMMARY:American Literature and Culture: Survey of American Literature (LV 610004-0 15W)
DESCRIPTION:Lehrveranstaltung 610004 15W, Gruppe 0\nTitel: American Literature and Culture: Survey of American Literature\nOrt: 40130\n\nhttps://lfuonline.uibk.ac.at/public/lfuonline_lv.details?sem_id_in=15W&lvnr_id_in=610004\n
CLASS:PUBLIC
DTSTART:20151111T091500Z
DTEND:20151111T104500Z
DTSTAMP:20260420T081438Z
LOCATION:40130
END:VEVENT
BEGIN:VEVENT
UID:15W_610004_2540922@uibk.ac.at
ORGANIZER;CN="LFU:online Universität Innsbruck":MAILTO:Uni-Innsbruck-noreply@uibk.ac.at
SUMMARY:American Literature and Culture: Survey of American Literature (LV 610004-0 15W)
DESCRIPTION:Lehrveranstaltung 610004 15W, Gruppe 0\nTitel: American Literature and Culture: Survey of American Literature\nOrt: 40130\n\nhttps://lfuonline.uibk.ac.at/public/lfuonline_lv.details?sem_id_in=15W&lvnr_id_in=610004\n
CLASS:PUBLIC
DTSTART:20151118T091500Z
DTEND:20151118T104500Z
DTSTAMP:20260420T081438Z
LOCATION:40130
END:VEVENT
BEGIN:VEVENT
UID:15W_610004_2540923@uibk.ac.at
ORGANIZER;CN="LFU:online Universität Innsbruck":MAILTO:Uni-Innsbruck-noreply@uibk.ac.at
SUMMARY:American Literature and Culture: Survey of American Literature (LV 610004-0 15W)
DESCRIPTION:Lehrveranstaltung 610004 15W, Gruppe 0\nTitel: American Literature and Culture: Survey of American Literature\nOrt: 40130\n\nhttps://lfuonline.uibk.ac.at/public/lfuonline_lv.details?sem_id_in=15W&lvnr_id_in=610004\n
CLASS:PUBLIC
DTSTART:20151125T091500Z
DTEND:20151125T104500Z
DTSTAMP:20260420T081438Z
LOCATION:40130
END:VEVENT
BEGIN:VEVENT
UID:15W_610004_2540924@uibk.ac.at
ORGANIZER;CN="LFU:online Universität Innsbruck":MAILTO:Uni-Innsbruck-noreply@uibk.ac.at
SUMMARY:American Literature and Culture: Survey of American Literature (LV 610004-0 15W)
DESCRIPTION:Lehrveranstaltung 610004 15W, Gruppe 0\nTitel: American Literature and Culture: Survey of American Literature\nOrt: 40130\n\nhttps://lfuonline.uibk.ac.at/public/lfuonline_lv.details?sem_id_in=15W&lvnr_id_in=610004\n
CLASS:PUBLIC
DTSTART:20151202T091500Z
DTEND:20151202T104500Z
DTSTAMP:20260420T081438Z
LOCATION:40130
END:VEVENT
BEGIN:VEVENT
UID:15W_610004_2540925@uibk.ac.at
ORGANIZER;CN="LFU:online Universität Innsbruck":MAILTO:Uni-Innsbruck-noreply@uibk.ac.at
SUMMARY:American Literature and Culture: Survey of American Literature (LV 610004-0 15W)
DESCRIPTION:Lehrveranstaltung 610004 15W, Gruppe 0\nTitel: American Literature and Culture: Survey of American Literature\nOrt: 40130\n\nhttps://lfuonline.uibk.ac.at/public/lfuonline_lv.details?sem_id_in=15W&lvnr_id_in=610004\n
CLASS:PUBLIC
DTSTART:20151209T091500Z
DTEND:20151209T104500Z
DTSTAMP:20260420T081438Z
LOCATION:40130
END:VEVENT
BEGIN:VEVENT
UID:15W_610004_2540926@uibk.ac.at
ORGANIZER;CN="LFU:online Universität Innsbruck":MAILTO:Uni-Innsbruck-noreply@uibk.ac.at
SUMMARY:American Literature and Culture: Survey of American Literature (LV 610004-0 15W)
DESCRIPTION:Lehrveranstaltung 610004 15W, Gruppe 0\nTitel: American Literature and Culture: Survey of American Literature\nOrt: 40130\n\nhttps://lfuonline.uibk.ac.at/public/lfuonline_lv.details?sem_id_in=15W&lvnr_id_in=610004\n
CLASS:PUBLIC
DTSTART:20151216T091500Z
DTEND:20151216T104500Z
DTSTAMP:20260420T081438Z
LOCATION:40130
END:VEVENT
BEGIN:VEVENT
UID:15W_610004_2540927@uibk.ac.at
ORGANIZER;CN="LFU:online Universität Innsbruck":MAILTO:Uni-Innsbruck-noreply@uibk.ac.at
SUMMARY:American Literature and Culture: Survey of American Literature (LV 610004-0 15W)
DESCRIPTION:Lehrveranstaltung 610004 15W, Gruppe 0\nTitel: American Literature and Culture: Survey of American Literature\nOrt: 40130\n\nhttps://lfuonline.uibk.ac.at/public/lfuonline_lv.details?sem_id_in=15W&lvnr_id_in=610004\n
CLASS:PUBLIC
DTSTART:20160113T091500Z
DTEND:20160113T104500Z
DTSTAMP:20260420T081438Z
LOCATION:40130
END:VEVENT
BEGIN:VEVENT
UID:15W_610004_2540928@uibk.ac.at
ORGANIZER;CN="LFU:online Universität Innsbruck":MAILTO:Uni-Innsbruck-noreply@uibk.ac.at
SUMMARY:American Literature and Culture: Survey of American Literature (LV 610004-0 15W)
DESCRIPTION:Lehrveranstaltung 610004 15W, Gruppe 0\nTitel: American Literature and Culture: Survey of American Literature\nOrt: 40130\n\nhttps://lfuonline.uibk.ac.at/public/lfuonline_lv.details?sem_id_in=15W&lvnr_id_in=610004\n
CLASS:PUBLIC
DTSTART:20160120T091500Z
DTEND:20160120T104500Z
DTSTAMP:20260420T081438Z
LOCATION:40130
END:VEVENT
BEGIN:VEVENT
UID:15W_610004_2540929@uibk.ac.at
ORGANIZER;CN="LFU:online Universität Innsbruck":MAILTO:Uni-Innsbruck-noreply@uibk.ac.at
SUMMARY:American Literature and Culture: Survey of American Literature (LV 610004-0 15W)
DESCRIPTION:Lehrveranstaltung 610004 15W, Gruppe 0\nTitel: American Literature and Culture: Survey of American Literature\nOrt: 40130\n\nhttps://lfuonline.uibk.ac.at/public/lfuonline_lv.details?sem_id_in=15W&lvnr_id_in=610004\n
CLASS:PUBLIC
DTSTART:20160127T091500Z
DTEND:20160127T104500Z
DTSTAMP:20260420T081438Z
LOCATION:40130
END:VEVENT
END:VCALENDAR