BEGIN:VCALENDAR
VERSION:2.0
PRODID:-//Universität Innsbruck//LFU:online//DE
METHOD:PUBLISH
BEGIN:VEVENT
UID:17S_610005_2863579@uibk.ac.at
ORGANIZER;CN="LFU:online Universität Innsbruck":MAILTO:Uni-Innsbruck-noreply@uibk.ac.at
SUMMARY:American Literature: Not Just 'Playing Around': US-American Drama from 1955 to 2015 (LV 610005-0 17S)
DESCRIPTION:Lehrveranstaltung 610005 17S, Gruppe 0\nTitel: American Literature: Not Just 'Playing Around': US-American Drama from 1955 to 2015\nOrt: 40130\n\nhttps://lfuonline.uibk.ac.at/public/lfuonline_lv.details?sem_id_in=17S&lvnr_id_in=610005\n
CLASS:PUBLIC
DTSTART:20170306T143000Z
DTEND:20170306T160000Z
DTSTAMP:20260425T204247Z
LOCATION:40130
END:VEVENT
BEGIN:VEVENT
UID:17S_610005_2863580@uibk.ac.at
ORGANIZER;CN="LFU:online Universität Innsbruck":MAILTO:Uni-Innsbruck-noreply@uibk.ac.at
SUMMARY:American Literature: Not Just 'Playing Around': US-American Drama from 1955 to 2015 (LV 610005-0 17S)
DESCRIPTION:Lehrveranstaltung 610005 17S, Gruppe 0\nTitel: American Literature: Not Just 'Playing Around': US-American Drama from 1955 to 2015\nOrt: 40130\n\nhttps://lfuonline.uibk.ac.at/public/lfuonline_lv.details?sem_id_in=17S&lvnr_id_in=610005\n
CLASS:PUBLIC
DTSTART:20170313T143000Z
DTEND:20170313T160000Z
DTSTAMP:20260425T204247Z
LOCATION:40130
END:VEVENT
BEGIN:VEVENT
UID:17S_610005_2863581@uibk.ac.at
ORGANIZER;CN="LFU:online Universität Innsbruck":MAILTO:Uni-Innsbruck-noreply@uibk.ac.at
SUMMARY:American Literature: Not Just 'Playing Around': US-American Drama from 1955 to 2015 (LV 610005-0 17S)
DESCRIPTION:Lehrveranstaltung 610005 17S, Gruppe 0\nTitel: American Literature: Not Just 'Playing Around': US-American Drama from 1955 to 2015\nOrt: 40130\n\nhttps://lfuonline.uibk.ac.at/public/lfuonline_lv.details?sem_id_in=17S&lvnr_id_in=610005\n
CLASS:PUBLIC
DTSTART:20170320T143000Z
DTEND:20170320T160000Z
DTSTAMP:20260425T204247Z
LOCATION:40130
END:VEVENT
BEGIN:VEVENT
UID:17S_610005_2863582@uibk.ac.at
ORGANIZER;CN="LFU:online Universität Innsbruck":MAILTO:Uni-Innsbruck-noreply@uibk.ac.at
SUMMARY:American Literature: Not Just 'Playing Around': US-American Drama from 1955 to 2015 (LV 610005-0 17S)
DESCRIPTION:Lehrveranstaltung 610005 17S, Gruppe 0\nTitel: American Literature: Not Just 'Playing Around': US-American Drama from 1955 to 2015\nOrt: 40130\n\nhttps://lfuonline.uibk.ac.at/public/lfuonline_lv.details?sem_id_in=17S&lvnr_id_in=610005\n
CLASS:PUBLIC
DTSTART:20170327T133000Z
DTEND:20170327T150000Z
DTSTAMP:20260425T204247Z
LOCATION:40130
END:VEVENT
BEGIN:VEVENT
UID:17S_610005_2863583@uibk.ac.at
ORGANIZER;CN="LFU:online Universität Innsbruck":MAILTO:Uni-Innsbruck-noreply@uibk.ac.at
SUMMARY:American Literature: Not Just 'Playing Around': US-American Drama from 1955 to 2015 (LV 610005-0 17S)
DESCRIPTION:Lehrveranstaltung 610005 17S, Gruppe 0\nTitel: American Literature: Not Just 'Playing Around': US-American Drama from 1955 to 2015\nOrt: 40130\n\nhttps://lfuonline.uibk.ac.at/public/lfuonline_lv.details?sem_id_in=17S&lvnr_id_in=610005\n
CLASS:PUBLIC
DTSTART:20170403T133000Z
DTEND:20170403T150000Z
DTSTAMP:20260425T204247Z
LOCATION:40130
END:VEVENT
BEGIN:VEVENT
UID:17S_610005_2863584@uibk.ac.at
ORGANIZER;CN="LFU:online Universität Innsbruck":MAILTO:Uni-Innsbruck-noreply@uibk.ac.at
SUMMARY:American Literature: Not Just 'Playing Around': US-American Drama from 1955 to 2015 (LV 610005-0 17S)
DESCRIPTION:Lehrveranstaltung 610005 17S, Gruppe 0\nTitel: American Literature: Not Just 'Playing Around': US-American Drama from 1955 to 2015\nOrt: 40130\n\nhttps://lfuonline.uibk.ac.at/public/lfuonline_lv.details?sem_id_in=17S&lvnr_id_in=610005\n
CLASS:PUBLIC
DTSTART:20170424T133000Z
DTEND:20170424T150000Z
DTSTAMP:20260425T204247Z
LOCATION:40130
END:VEVENT
BEGIN:VEVENT
UID:17S_610005_2863585@uibk.ac.at
ORGANIZER;CN="LFU:online Universität Innsbruck":MAILTO:Uni-Innsbruck-noreply@uibk.ac.at
SUMMARY:American Literature: Not Just 'Playing Around': US-American Drama from 1955 to 2015 (LV 610005-0 17S)
DESCRIPTION:Lehrveranstaltung 610005 17S, Gruppe 0\nTitel: American Literature: Not Just 'Playing Around': US-American Drama from 1955 to 2015\nOrt: 40130\n\nhttps://lfuonline.uibk.ac.at/public/lfuonline_lv.details?sem_id_in=17S&lvnr_id_in=610005\n
CLASS:PUBLIC
DTSTART:20170508T133000Z
DTEND:20170508T150000Z
DTSTAMP:20260425T204247Z
LOCATION:40130
END:VEVENT
BEGIN:VEVENT
UID:17S_610005_2863586@uibk.ac.at
ORGANIZER;CN="LFU:online Universität Innsbruck":MAILTO:Uni-Innsbruck-noreply@uibk.ac.at
SUMMARY:American Literature: Not Just 'Playing Around': US-American Drama from 1955 to 2015 (LV 610005-0 17S)
DESCRIPTION:Lehrveranstaltung 610005 17S, Gruppe 0\nTitel: American Literature: Not Just 'Playing Around': US-American Drama from 1955 to 2015\nOrt: 40130\n\nhttps://lfuonline.uibk.ac.at/public/lfuonline_lv.details?sem_id_in=17S&lvnr_id_in=610005\n
CLASS:PUBLIC
DTSTART:20170515T133000Z
DTEND:20170515T150000Z
DTSTAMP:20260425T204247Z
LOCATION:40130
END:VEVENT
BEGIN:VEVENT
UID:17S_610005_2863587@uibk.ac.at
ORGANIZER;CN="LFU:online Universität Innsbruck":MAILTO:Uni-Innsbruck-noreply@uibk.ac.at
SUMMARY:American Literature: Not Just 'Playing Around': US-American Drama from 1955 to 2015 (LV 610005-0 17S)
DESCRIPTION:Lehrveranstaltung 610005 17S, Gruppe 0\nTitel: American Literature: Not Just 'Playing Around': US-American Drama from 1955 to 2015\nOrt: 40130\n\nhttps://lfuonline.uibk.ac.at/public/lfuonline_lv.details?sem_id_in=17S&lvnr_id_in=610005\n
CLASS:PUBLIC
DTSTART:20170522T133000Z
DTEND:20170522T150000Z
DTSTAMP:20260425T204247Z
LOCATION:40130
END:VEVENT
BEGIN:VEVENT
UID:17S_610005_2863588@uibk.ac.at
ORGANIZER;CN="LFU:online Universität Innsbruck":MAILTO:Uni-Innsbruck-noreply@uibk.ac.at
SUMMARY:American Literature: Not Just 'Playing Around': US-American Drama from 1955 to 2015 (LV 610005-0 17S)
DESCRIPTION:Lehrveranstaltung 610005 17S, Gruppe 0\nTitel: American Literature: Not Just 'Playing Around': US-American Drama from 1955 to 2015\nOrt: 40130\n\nhttps://lfuonline.uibk.ac.at/public/lfuonline_lv.details?sem_id_in=17S&lvnr_id_in=610005\n
CLASS:PUBLIC
DTSTART:20170529T133000Z
DTEND:20170529T150000Z
DTSTAMP:20260425T204247Z
LOCATION:40130
END:VEVENT
BEGIN:VEVENT
UID:17S_610005_2863589@uibk.ac.at
ORGANIZER;CN="LFU:online Universität Innsbruck":MAILTO:Uni-Innsbruck-noreply@uibk.ac.at
SUMMARY:American Literature: Not Just 'Playing Around': US-American Drama from 1955 to 2015 (LV 610005-0 17S)
DESCRIPTION:Lehrveranstaltung 610005 17S, Gruppe 0\nTitel: American Literature: Not Just 'Playing Around': US-American Drama from 1955 to 2015\nOrt: 40130\n\nhttps://lfuonline.uibk.ac.at/public/lfuonline_lv.details?sem_id_in=17S&lvnr_id_in=610005\n
CLASS:PUBLIC
DTSTART:20170612T133000Z
DTEND:20170612T150000Z
DTSTAMP:20260425T204247Z
LOCATION:40130
END:VEVENT
BEGIN:VEVENT
UID:17S_610005_2863590@uibk.ac.at
ORGANIZER;CN="LFU:online Universität Innsbruck":MAILTO:Uni-Innsbruck-noreply@uibk.ac.at
SUMMARY:American Literature: Not Just 'Playing Around': US-American Drama from 1955 to 2015 (LV 610005-0 17S)
DESCRIPTION:Lehrveranstaltung 610005 17S, Gruppe 0\nTitel: American Literature: Not Just 'Playing Around': US-American Drama from 1955 to 2015\nOrt: 40130\n\nhttps://lfuonline.uibk.ac.at/public/lfuonline_lv.details?sem_id_in=17S&lvnr_id_in=610005\n
CLASS:PUBLIC
DTSTART:20170619T133000Z
DTEND:20170619T150000Z
DTSTAMP:20260425T204247Z
LOCATION:40130
END:VEVENT
BEGIN:VEVENT
UID:17S_610005_2863591@uibk.ac.at
ORGANIZER;CN="LFU:online Universität Innsbruck":MAILTO:Uni-Innsbruck-noreply@uibk.ac.at
SUMMARY:American Literature: Not Just 'Playing Around': US-American Drama from 1955 to 2015 (LV 610005-0 17S)
DESCRIPTION:Lehrveranstaltung 610005 17S, Gruppe 0\nTitel: American Literature: Not Just 'Playing Around': US-American Drama from 1955 to 2015\nOrt: 40130\n\nhttps://lfuonline.uibk.ac.at/public/lfuonline_lv.details?sem_id_in=17S&lvnr_id_in=610005\n
CLASS:PUBLIC
DTSTART:20170626T133000Z
DTEND:20170626T150000Z
DTSTAMP:20260425T204247Z
LOCATION:40130
END:VEVENT
END:VCALENDAR