BEGIN:VCALENDAR
VERSION:2.0
PRODID:-//Universität Innsbruck//LFU:online//DE
METHOD:PUBLISH
BEGIN:VEVENT
UID:18S_611052_3066410@uibk.ac.at
ORGANIZER;CN="LFU:online Universität Innsbruck":MAILTO:Uni-Innsbruck-noreply@uibk.ac.at
SUMMARY:Positionen der Literaturwissenschaft: Von Kontexten und Kotexten: Literatursoziologie - New Historicism - Diskursanalyse - Postcolonial Studies (LV 611052-0 18S)
DESCRIPTION:Lehrveranstaltung 611052 18S, Gruppe 0\nTitel: Positionen der Literaturwissenschaft: Von Kontexten und Kotexten: Literatursoziologie - New Historicism - Diskursanalyse - Postcolonial Studies\nOrt: 50109/3 SR\n\nhttps://lfuonline.uibk.ac.at/public/lfuonline_lv.details?sem_id_in=18S&lvnr_id_in=611052\n
CLASS:PUBLIC
DTSTART:20180307T073000Z
DTEND:20180307T090000Z
DTSTAMP:20260419T160505Z
LOCATION:50109/3 SR
END:VEVENT
BEGIN:VEVENT
UID:18S_611052_3066411@uibk.ac.at
ORGANIZER;CN="LFU:online Universität Innsbruck":MAILTO:Uni-Innsbruck-noreply@uibk.ac.at
SUMMARY:Positionen der Literaturwissenschaft: Von Kontexten und Kotexten: Literatursoziologie - New Historicism - Diskursanalyse - Postcolonial Studies (LV 611052-0 18S)
DESCRIPTION:Lehrveranstaltung 611052 18S, Gruppe 0\nTitel: Positionen der Literaturwissenschaft: Von Kontexten und Kotexten: Literatursoziologie - New Historicism - Diskursanalyse - Postcolonial Studies\nOrt: 50109/3 SR\n\nhttps://lfuonline.uibk.ac.at/public/lfuonline_lv.details?sem_id_in=18S&lvnr_id_in=611052\n
CLASS:PUBLIC
DTSTART:20180314T073000Z
DTEND:20180314T090000Z
DTSTAMP:20260419T160505Z
LOCATION:50109/3 SR
END:VEVENT
BEGIN:VEVENT
UID:18S_611052_3066412@uibk.ac.at
ORGANIZER;CN="LFU:online Universität Innsbruck":MAILTO:Uni-Innsbruck-noreply@uibk.ac.at
SUMMARY:Positionen der Literaturwissenschaft: Von Kontexten und Kotexten: Literatursoziologie - New Historicism - Diskursanalyse - Postcolonial Studies (LV 611052-0 18S)
DESCRIPTION:Lehrveranstaltung 611052 18S, Gruppe 0\nTitel: Positionen der Literaturwissenschaft: Von Kontexten und Kotexten: Literatursoziologie - New Historicism - Diskursanalyse - Postcolonial Studies\nOrt: 50109/3 SR\n\nhttps://lfuonline.uibk.ac.at/public/lfuonline_lv.details?sem_id_in=18S&lvnr_id_in=611052\n
CLASS:PUBLIC
DTSTART:20180321T073000Z
DTEND:20180321T090000Z
DTSTAMP:20260419T160505Z
LOCATION:50109/3 SR
END:VEVENT
BEGIN:VEVENT
UID:18S_611052_3066413@uibk.ac.at
ORGANIZER;CN="LFU:online Universität Innsbruck":MAILTO:Uni-Innsbruck-noreply@uibk.ac.at
SUMMARY:Positionen der Literaturwissenschaft: Von Kontexten und Kotexten: Literatursoziologie - New Historicism - Diskursanalyse - Postcolonial Studies (LV 611052-0 18S)
DESCRIPTION:Lehrveranstaltung 611052 18S, Gruppe 0\nTitel: Positionen der Literaturwissenschaft: Von Kontexten und Kotexten: Literatursoziologie - New Historicism - Diskursanalyse - Postcolonial Studies\nOrt: 50109/3 SR\n\nhttps://lfuonline.uibk.ac.at/public/lfuonline_lv.details?sem_id_in=18S&lvnr_id_in=611052\n
CLASS:PUBLIC
DTSTART:20180411T063000Z
DTEND:20180411T080000Z
DTSTAMP:20260419T160505Z
LOCATION:50109/3 SR
END:VEVENT
BEGIN:VEVENT
UID:18S_611052_3066414@uibk.ac.at
ORGANIZER;CN="LFU:online Universität Innsbruck":MAILTO:Uni-Innsbruck-noreply@uibk.ac.at
SUMMARY:Positionen der Literaturwissenschaft: Von Kontexten und Kotexten: Literatursoziologie - New Historicism - Diskursanalyse - Postcolonial Studies (LV 611052-0 18S)
DESCRIPTION:Lehrveranstaltung 611052 18S, Gruppe 0\nTitel: Positionen der Literaturwissenschaft: Von Kontexten und Kotexten: Literatursoziologie - New Historicism - Diskursanalyse - Postcolonial Studies\nOrt: 50109/3 SR\n\nhttps://lfuonline.uibk.ac.at/public/lfuonline_lv.details?sem_id_in=18S&lvnr_id_in=611052\n
CLASS:PUBLIC
DTSTART:20180418T063000Z
DTEND:20180418T080000Z
DTSTAMP:20260419T160505Z
LOCATION:50109/3 SR
END:VEVENT
BEGIN:VEVENT
UID:18S_611052_3066415@uibk.ac.at
ORGANIZER;CN="LFU:online Universität Innsbruck":MAILTO:Uni-Innsbruck-noreply@uibk.ac.at
SUMMARY:Positionen der Literaturwissenschaft: Von Kontexten und Kotexten: Literatursoziologie - New Historicism - Diskursanalyse - Postcolonial Studies (LV 611052-0 18S)
DESCRIPTION:Lehrveranstaltung 611052 18S, Gruppe 0\nTitel: Positionen der Literaturwissenschaft: Von Kontexten und Kotexten: Literatursoziologie - New Historicism - Diskursanalyse - Postcolonial Studies\nOrt: 50109/3 SR\n\nhttps://lfuonline.uibk.ac.at/public/lfuonline_lv.details?sem_id_in=18S&lvnr_id_in=611052\n
CLASS:PUBLIC
DTSTART:20180425T063000Z
DTEND:20180425T080000Z
DTSTAMP:20260419T160505Z
LOCATION:50109/3 SR
END:VEVENT
BEGIN:VEVENT
UID:18S_611052_3136002@uibk.ac.at
ORGANIZER;CN="LFU:online Universität Innsbruck":MAILTO:Uni-Innsbruck-noreply@uibk.ac.at
SUMMARY:Positionen der Literaturwissenschaft: Von Kontexten und Kotexten: Literatursoziologie - New Historicism - Diskursanalyse - Postcolonial Studies (LV 611052-0 18S)
DESCRIPTION:Lehrveranstaltung 611052 18S, Gruppe 0\nTitel: Positionen der Literaturwissenschaft: Von Kontexten und Kotexten: Literatursoziologie - New Historicism - Diskursanalyse - Postcolonial Studies\nOrt: JM-SR 30136\n\nhttps://lfuonline.uibk.ac.at/public/lfuonline_lv.details?sem_id_in=18S&lvnr_id_in=611052\n
CLASS:PUBLIC
DTSTART:20180503T063000Z
DTEND:20180503T080000Z
DTSTAMP:20260419T160505Z
LOCATION:JM-SR 30136
END:VEVENT
BEGIN:VEVENT
UID:18S_611052_3135958@uibk.ac.at
ORGANIZER;CN="LFU:online Universität Innsbruck":MAILTO:Uni-Innsbruck-noreply@uibk.ac.at
SUMMARY:Positionen der Literaturwissenschaft: Von Kontexten und Kotexten: Literatursoziologie - New Historicism - Diskursanalyse - Postcolonial Studies (LV 611052-0 18S)
DESCRIPTION:Lehrveranstaltung 611052 18S, Gruppe 0\nTitel: Positionen der Literaturwissenschaft: Von Kontexten und Kotexten: Literatursoziologie - New Historicism - Diskursanalyse - Postcolonial Studies\nOrt: JM-SR 30136\n\nhttps://lfuonline.uibk.ac.at/public/lfuonline_lv.details?sem_id_in=18S&lvnr_id_in=611052\n
CLASS:PUBLIC
DTSTART:20180503T081500Z
DTEND:20180503T094500Z
DTSTAMP:20260419T160505Z
LOCATION:JM-SR 30136
END:VEVENT
BEGIN:VEVENT
UID:18S_611052_3136003@uibk.ac.at
ORGANIZER;CN="LFU:online Universität Innsbruck":MAILTO:Uni-Innsbruck-noreply@uibk.ac.at
SUMMARY:Positionen der Literaturwissenschaft: Von Kontexten und Kotexten: Literatursoziologie - New Historicism - Diskursanalyse - Postcolonial Studies (LV 611052-0 18S)
DESCRIPTION:Lehrveranstaltung 611052 18S, Gruppe 0\nTitel: Positionen der Literaturwissenschaft: Von Kontexten und Kotexten: Literatursoziologie - New Historicism - Diskursanalyse - Postcolonial Studies\nOrt: JM-SR 30136\n\nhttps://lfuonline.uibk.ac.at/public/lfuonline_lv.details?sem_id_in=18S&lvnr_id_in=611052\n
CLASS:PUBLIC
DTSTART:20180517T063000Z
DTEND:20180517T080000Z
DTSTAMP:20260419T160505Z
LOCATION:JM-SR 30136
END:VEVENT
BEGIN:VEVENT
UID:18S_611052_3135959@uibk.ac.at
ORGANIZER;CN="LFU:online Universität Innsbruck":MAILTO:Uni-Innsbruck-noreply@uibk.ac.at
SUMMARY:Positionen der Literaturwissenschaft: Von Kontexten und Kotexten: Literatursoziologie - New Historicism - Diskursanalyse - Postcolonial Studies (LV 611052-0 18S)
DESCRIPTION:Lehrveranstaltung 611052 18S, Gruppe 0\nTitel: Positionen der Literaturwissenschaft: Von Kontexten und Kotexten: Literatursoziologie - New Historicism - Diskursanalyse - Postcolonial Studies\nOrt: JM-SR 30136\n\nhttps://lfuonline.uibk.ac.at/public/lfuonline_lv.details?sem_id_in=18S&lvnr_id_in=611052\n
CLASS:PUBLIC
DTSTART:20180517T081500Z
DTEND:20180517T094500Z
DTSTAMP:20260419T160505Z
LOCATION:JM-SR 30136
END:VEVENT
BEGIN:VEVENT
UID:18S_611052_3136004@uibk.ac.at
ORGANIZER;CN="LFU:online Universität Innsbruck":MAILTO:Uni-Innsbruck-noreply@uibk.ac.at
SUMMARY:Positionen der Literaturwissenschaft: Von Kontexten und Kotexten: Literatursoziologie - New Historicism - Diskursanalyse - Postcolonial Studies (LV 611052-0 18S)
DESCRIPTION:Lehrveranstaltung 611052 18S, Gruppe 0\nTitel: Positionen der Literaturwissenschaft: Von Kontexten und Kotexten: Literatursoziologie - New Historicism - Diskursanalyse - Postcolonial Studies\nOrt: JM-SR 30136\n\nhttps://lfuonline.uibk.ac.at/public/lfuonline_lv.details?sem_id_in=18S&lvnr_id_in=611052\n
CLASS:PUBLIC
DTSTART:20180524T063000Z
DTEND:20180524T080000Z
DTSTAMP:20260419T160505Z
LOCATION:JM-SR 30136
END:VEVENT
BEGIN:VEVENT
UID:18S_611052_3135960@uibk.ac.at
ORGANIZER;CN="LFU:online Universität Innsbruck":MAILTO:Uni-Innsbruck-noreply@uibk.ac.at
SUMMARY:Positionen der Literaturwissenschaft: Von Kontexten und Kotexten: Literatursoziologie - New Historicism - Diskursanalyse - Postcolonial Studies (LV 611052-0 18S)
DESCRIPTION:Lehrveranstaltung 611052 18S, Gruppe 0\nTitel: Positionen der Literaturwissenschaft: Von Kontexten und Kotexten: Literatursoziologie - New Historicism - Diskursanalyse - Postcolonial Studies\nOrt: JM-SR 30136\n\nhttps://lfuonline.uibk.ac.at/public/lfuonline_lv.details?sem_id_in=18S&lvnr_id_in=611052\n
CLASS:PUBLIC
DTSTART:20180524T081500Z
DTEND:20180524T094500Z
DTSTAMP:20260419T160505Z
LOCATION:JM-SR 30136
END:VEVENT
BEGIN:VEVENT
UID:18S_611052_3136005@uibk.ac.at
ORGANIZER;CN="LFU:online Universität Innsbruck":MAILTO:Uni-Innsbruck-noreply@uibk.ac.at
SUMMARY:Positionen der Literaturwissenschaft: Von Kontexten und Kotexten: Literatursoziologie - New Historicism - Diskursanalyse - Postcolonial Studies (LV 611052-0 18S)
DESCRIPTION:Lehrveranstaltung 611052 18S, Gruppe 0\nTitel: Positionen der Literaturwissenschaft: Von Kontexten und Kotexten: Literatursoziologie - New Historicism - Diskursanalyse - Postcolonial Studies\nOrt: JM-SR 30136\n\nhttps://lfuonline.uibk.ac.at/public/lfuonline_lv.details?sem_id_in=18S&lvnr_id_in=611052\n
CLASS:PUBLIC
DTSTART:20180607T063000Z
DTEND:20180607T080000Z
DTSTAMP:20260419T160505Z
LOCATION:JM-SR 30136
END:VEVENT
BEGIN:VEVENT
UID:18S_611052_3135961@uibk.ac.at
ORGANIZER;CN="LFU:online Universität Innsbruck":MAILTO:Uni-Innsbruck-noreply@uibk.ac.at
SUMMARY:Positionen der Literaturwissenschaft: Von Kontexten und Kotexten: Literatursoziologie - New Historicism - Diskursanalyse - Postcolonial Studies (LV 611052-0 18S)
DESCRIPTION:Lehrveranstaltung 611052 18S, Gruppe 0\nTitel: Positionen der Literaturwissenschaft: Von Kontexten und Kotexten: Literatursoziologie - New Historicism - Diskursanalyse - Postcolonial Studies\nOrt: JM-SR 30136\n\nhttps://lfuonline.uibk.ac.at/public/lfuonline_lv.details?sem_id_in=18S&lvnr_id_in=611052\n
CLASS:PUBLIC
DTSTART:20180607T081500Z
DTEND:20180607T094500Z
DTSTAMP:20260419T160505Z
LOCATION:JM-SR 30136
END:VEVENT
BEGIN:VEVENT
UID:18S_611052_3136006@uibk.ac.at
ORGANIZER;CN="LFU:online Universität Innsbruck":MAILTO:Uni-Innsbruck-noreply@uibk.ac.at
SUMMARY:Positionen der Literaturwissenschaft: Von Kontexten und Kotexten: Literatursoziologie - New Historicism - Diskursanalyse - Postcolonial Studies (LV 611052-0 18S)
DESCRIPTION:Lehrveranstaltung 611052 18S, Gruppe 0\nTitel: Positionen der Literaturwissenschaft: Von Kontexten und Kotexten: Literatursoziologie - New Historicism - Diskursanalyse - Postcolonial Studies\nOrt: JM-SR 30136\n\nhttps://lfuonline.uibk.ac.at/public/lfuonline_lv.details?sem_id_in=18S&lvnr_id_in=611052\n
CLASS:PUBLIC
DTSTART:20180621T063000Z
DTEND:20180621T080000Z
DTSTAMP:20260419T160505Z
LOCATION:JM-SR 30136
END:VEVENT
BEGIN:VEVENT
UID:18S_611052_3135963@uibk.ac.at
ORGANIZER;CN="LFU:online Universität Innsbruck":MAILTO:Uni-Innsbruck-noreply@uibk.ac.at
SUMMARY:Positionen der Literaturwissenschaft: Von Kontexten und Kotexten: Literatursoziologie - New Historicism - Diskursanalyse - Postcolonial Studies (LV 611052-0 18S)
DESCRIPTION:Lehrveranstaltung 611052 18S, Gruppe 0\nTitel: Positionen der Literaturwissenschaft: Von Kontexten und Kotexten: Literatursoziologie - New Historicism - Diskursanalyse - Postcolonial Studies\nOrt: JM-SR 30136\n\nhttps://lfuonline.uibk.ac.at/public/lfuonline_lv.details?sem_id_in=18S&lvnr_id_in=611052\n
CLASS:PUBLIC
DTSTART:20180621T081500Z
DTEND:20180621T094500Z
DTSTAMP:20260419T160505Z
LOCATION:JM-SR 30136
END:VEVENT
BEGIN:VEVENT
UID:18S_611052_3136007@uibk.ac.at
ORGANIZER;CN="LFU:online Universität Innsbruck":MAILTO:Uni-Innsbruck-noreply@uibk.ac.at
SUMMARY:Positionen der Literaturwissenschaft: Von Kontexten und Kotexten: Literatursoziologie - New Historicism - Diskursanalyse - Postcolonial Studies (LV 611052-0 18S)
DESCRIPTION:Lehrveranstaltung 611052 18S, Gruppe 0\nTitel: Positionen der Literaturwissenschaft: Von Kontexten und Kotexten: Literatursoziologie - New Historicism - Diskursanalyse - Postcolonial Studies\nOrt: JM-SR 30136\n\nhttps://lfuonline.uibk.ac.at/public/lfuonline_lv.details?sem_id_in=18S&lvnr_id_in=611052\n
CLASS:PUBLIC
DTSTART:20180628T063000Z
DTEND:20180628T080000Z
DTSTAMP:20260419T160505Z
LOCATION:JM-SR 30136
END:VEVENT
BEGIN:VEVENT
UID:18S_611052_3135964@uibk.ac.at
ORGANIZER;CN="LFU:online Universität Innsbruck":MAILTO:Uni-Innsbruck-noreply@uibk.ac.at
SUMMARY:Positionen der Literaturwissenschaft: Von Kontexten und Kotexten: Literatursoziologie - New Historicism - Diskursanalyse - Postcolonial Studies (LV 611052-0 18S)
DESCRIPTION:Lehrveranstaltung 611052 18S, Gruppe 0\nTitel: Positionen der Literaturwissenschaft: Von Kontexten und Kotexten: Literatursoziologie - New Historicism - Diskursanalyse - Postcolonial Studies\nOrt: JM-SR 30136\n\nhttps://lfuonline.uibk.ac.at/public/lfuonline_lv.details?sem_id_in=18S&lvnr_id_in=611052\n
CLASS:PUBLIC
DTSTART:20180628T081500Z
DTEND:20180628T094500Z
DTSTAMP:20260419T160505Z
LOCATION:JM-SR 30136
END:VEVENT
END:VCALENDAR