BEGIN:VCALENDAR
VERSION:2.0
PRODID:-//Universität Innsbruck//LFU:online//DE
METHOD:PUBLISH
BEGIN:VEVENT
UID:13S_611151_1999569@uibk.ac.at
ORGANIZER;CN="LFU:online Universität Innsbruck":MAILTO:Uni-Innsbruck-noreply@uibk.ac.at
SUMMARY:Kulturstudien (LV 611151-0 13S)
DESCRIPTION:Lehrveranstaltung 611151 13S, Gruppe 0\nTitel: Kulturstudien\nOrt: 40506 SR\n\nhttps://lfuonline.uibk.ac.at/public/lfuonline_lv.details?sem_id_in=13S&lvnr_id_in=611151\n
CLASS:PUBLIC
DTSTART:20130307T143000Z
DTEND:20130307T160000Z
DTSTAMP:20260422T151709Z
LOCATION:40506 SR
END:VEVENT
BEGIN:VEVENT
UID:13S_611151_1999570@uibk.ac.at
ORGANIZER;CN="LFU:online Universität Innsbruck":MAILTO:Uni-Innsbruck-noreply@uibk.ac.at
SUMMARY:Kulturstudien (LV 611151-0 13S)
DESCRIPTION:Lehrveranstaltung 611151 13S, Gruppe 0\nTitel: Kulturstudien\nOrt: 40506 SR\n\nhttps://lfuonline.uibk.ac.at/public/lfuonline_lv.details?sem_id_in=13S&lvnr_id_in=611151\n
CLASS:PUBLIC
DTSTART:20130314T143000Z
DTEND:20130314T160000Z
DTSTAMP:20260422T151709Z
LOCATION:40506 SR
END:VEVENT
BEGIN:VEVENT
UID:13S_611151_1999571@uibk.ac.at
ORGANIZER;CN="LFU:online Universität Innsbruck":MAILTO:Uni-Innsbruck-noreply@uibk.ac.at
SUMMARY:Kulturstudien (LV 611151-0 13S)
DESCRIPTION:Lehrveranstaltung 611151 13S, Gruppe 0\nTitel: Kulturstudien\nOrt: 40506 SR\n\nhttps://lfuonline.uibk.ac.at/public/lfuonline_lv.details?sem_id_in=13S&lvnr_id_in=611151\n
CLASS:PUBLIC
DTSTART:20130321T143000Z
DTEND:20130321T160000Z
DTSTAMP:20260422T151709Z
LOCATION:40506 SR
END:VEVENT
BEGIN:VEVENT
UID:13S_611151_1999572@uibk.ac.at
ORGANIZER;CN="LFU:online Universität Innsbruck":MAILTO:Uni-Innsbruck-noreply@uibk.ac.at
SUMMARY:Kulturstudien (LV 611151-0 13S)
DESCRIPTION:Lehrveranstaltung 611151 13S, Gruppe 0\nTitel: Kulturstudien\nOrt: 40506 SR\n\nhttps://lfuonline.uibk.ac.at/public/lfuonline_lv.details?sem_id_in=13S&lvnr_id_in=611151\n
CLASS:PUBLIC
DTSTART:20130411T133000Z
DTEND:20130411T150000Z
DTSTAMP:20260422T151709Z
LOCATION:40506 SR
END:VEVENT
BEGIN:VEVENT
UID:13S_611151_1999573@uibk.ac.at
ORGANIZER;CN="LFU:online Universität Innsbruck":MAILTO:Uni-Innsbruck-noreply@uibk.ac.at
SUMMARY:Kulturstudien (LV 611151-0 13S)
DESCRIPTION:Lehrveranstaltung 611151 13S, Gruppe 0\nTitel: Kulturstudien\nOrt: 40506 SR\n\nhttps://lfuonline.uibk.ac.at/public/lfuonline_lv.details?sem_id_in=13S&lvnr_id_in=611151\n
CLASS:PUBLIC
DTSTART:20130418T133000Z
DTEND:20130418T150000Z
DTSTAMP:20260422T151709Z
LOCATION:40506 SR
END:VEVENT
BEGIN:VEVENT
UID:13S_611151_1999574@uibk.ac.at
ORGANIZER;CN="LFU:online Universität Innsbruck":MAILTO:Uni-Innsbruck-noreply@uibk.ac.at
SUMMARY:Kulturstudien (LV 611151-0 13S)
DESCRIPTION:Lehrveranstaltung 611151 13S, Gruppe 0\nTitel: Kulturstudien\nOrt: 40506 SR\n\nhttps://lfuonline.uibk.ac.at/public/lfuonline_lv.details?sem_id_in=13S&lvnr_id_in=611151\n
CLASS:PUBLIC
DTSTART:20130425T133000Z
DTEND:20130425T150000Z
DTSTAMP:20260422T151709Z
LOCATION:40506 SR
END:VEVENT
BEGIN:VEVENT
UID:13S_611151_1999575@uibk.ac.at
ORGANIZER;CN="LFU:online Universität Innsbruck":MAILTO:Uni-Innsbruck-noreply@uibk.ac.at
SUMMARY:Kulturstudien (LV 611151-0 13S)
DESCRIPTION:Lehrveranstaltung 611151 13S, Gruppe 0\nTitel: Kulturstudien\nOrt: 40506 SR\n\nhttps://lfuonline.uibk.ac.at/public/lfuonline_lv.details?sem_id_in=13S&lvnr_id_in=611151\n
CLASS:PUBLIC
DTSTART:20130502T133000Z
DTEND:20130502T150000Z
DTSTAMP:20260422T151709Z
LOCATION:40506 SR
END:VEVENT
BEGIN:VEVENT
UID:13S_611151_1999576@uibk.ac.at
ORGANIZER;CN="LFU:online Universität Innsbruck":MAILTO:Uni-Innsbruck-noreply@uibk.ac.at
SUMMARY:Kulturstudien (LV 611151-0 13S)
DESCRIPTION:Lehrveranstaltung 611151 13S, Gruppe 0\nTitel: Kulturstudien\nOrt: 40506 SR\n\nhttps://lfuonline.uibk.ac.at/public/lfuonline_lv.details?sem_id_in=13S&lvnr_id_in=611151\n
CLASS:PUBLIC
DTSTART:20130516T133000Z
DTEND:20130516T150000Z
DTSTAMP:20260422T151709Z
LOCATION:40506 SR
END:VEVENT
BEGIN:VEVENT
UID:13S_611151_1999577@uibk.ac.at
ORGANIZER;CN="LFU:online Universität Innsbruck":MAILTO:Uni-Innsbruck-noreply@uibk.ac.at
SUMMARY:Kulturstudien (LV 611151-0 13S)
DESCRIPTION:Lehrveranstaltung 611151 13S, Gruppe 0\nTitel: Kulturstudien\nOrt: 40506 SR\n\nhttps://lfuonline.uibk.ac.at/public/lfuonline_lv.details?sem_id_in=13S&lvnr_id_in=611151\n
CLASS:PUBLIC
DTSTART:20130523T133000Z
DTEND:20130523T150000Z
DTSTAMP:20260422T151709Z
LOCATION:40506 SR
END:VEVENT
BEGIN:VEVENT
UID:13S_611151_1999578@uibk.ac.at
ORGANIZER;CN="LFU:online Universität Innsbruck":MAILTO:Uni-Innsbruck-noreply@uibk.ac.at
SUMMARY:Kulturstudien (LV 611151-0 13S)
DESCRIPTION:Lehrveranstaltung 611151 13S, Gruppe 0\nTitel: Kulturstudien\nOrt: 40506 SR\n\nhttps://lfuonline.uibk.ac.at/public/lfuonline_lv.details?sem_id_in=13S&lvnr_id_in=611151\n
CLASS:PUBLIC
DTSTART:20130606T133000Z
DTEND:20130606T150000Z
DTSTAMP:20260422T151709Z
LOCATION:40506 SR
END:VEVENT
BEGIN:VEVENT
UID:13S_611151_1999579@uibk.ac.at
ORGANIZER;CN="LFU:online Universität Innsbruck":MAILTO:Uni-Innsbruck-noreply@uibk.ac.at
SUMMARY:Kulturstudien (LV 611151-0 13S)
DESCRIPTION:Lehrveranstaltung 611151 13S, Gruppe 0\nTitel: Kulturstudien\nOrt: 40506 SR\n\nhttps://lfuonline.uibk.ac.at/public/lfuonline_lv.details?sem_id_in=13S&lvnr_id_in=611151\n
CLASS:PUBLIC
DTSTART:20130613T133000Z
DTEND:20130613T150000Z
DTSTAMP:20260422T151709Z
LOCATION:40506 SR
END:VEVENT
BEGIN:VEVENT
UID:13S_611151_1999580@uibk.ac.at
ORGANIZER;CN="LFU:online Universität Innsbruck":MAILTO:Uni-Innsbruck-noreply@uibk.ac.at
SUMMARY:Kulturstudien (LV 611151-0 13S)
DESCRIPTION:Lehrveranstaltung 611151 13S, Gruppe 0\nTitel: Kulturstudien\nOrt: 40506 SR\n\nhttps://lfuonline.uibk.ac.at/public/lfuonline_lv.details?sem_id_in=13S&lvnr_id_in=611151\n
CLASS:PUBLIC
DTSTART:20130620T133000Z
DTEND:20130620T150000Z
DTSTAMP:20260422T151709Z
LOCATION:40506 SR
END:VEVENT
BEGIN:VEVENT
UID:13S_611151_1999581@uibk.ac.at
ORGANIZER;CN="LFU:online Universität Innsbruck":MAILTO:Uni-Innsbruck-noreply@uibk.ac.at
SUMMARY:Kulturstudien (LV 611151-0 13S)
DESCRIPTION:Lehrveranstaltung 611151 13S, Gruppe 0\nTitel: Kulturstudien\nOrt: 40506 SR\n\nhttps://lfuonline.uibk.ac.at/public/lfuonline_lv.details?sem_id_in=13S&lvnr_id_in=611151\n
CLASS:PUBLIC
DTSTART:20130627T133000Z
DTEND:20130627T150000Z
DTSTAMP:20260422T151709Z
LOCATION:40506 SR
END:VEVENT
END:VCALENDAR