BEGIN:VCALENDAR
VERSION:2.0
PRODID:-//Universität Innsbruck//LFU:online//DE
METHOD:PUBLISH
BEGIN:VEVENT
UID:18S_611326_3097574@uibk.ac.at
ORGANIZER;CN="LFU:online Universität Innsbruck":MAILTO:Uni-Innsbruck-noreply@uibk.ac.at
SUMMARY:Vertiefende Text- und/oder Medienanalyse anhand von Beispielen aus dem spanischsprachigen Raum: Lecturas queer de la literatura española y latinoamericana (LV 611326-0 18S)
DESCRIPTION:Lehrveranstaltung 611326 18S, Gruppe 0\nTitel: Vertiefende Text- und/oder Medienanalyse anhand von Beispielen aus dem spanischsprachigen Raum: Lecturas queer de la literatura española y latinoamericana\nOrt: 40136\n\nhttps://lfuonline.uibk.ac.at/public/lfuonline_lv.details?sem_id_in=18S&lvnr_id_in=611326\n
CLASS:PUBLIC
DTSTART:20180308T110000Z
DTEND:20180308T123000Z
DTSTAMP:20260423T045532Z
LOCATION:40136
END:VEVENT
BEGIN:VEVENT
UID:18S_611326_3097575@uibk.ac.at
ORGANIZER;CN="LFU:online Universität Innsbruck":MAILTO:Uni-Innsbruck-noreply@uibk.ac.at
SUMMARY:Vertiefende Text- und/oder Medienanalyse anhand von Beispielen aus dem spanischsprachigen Raum: Lecturas queer de la literatura española y latinoamericana (LV 611326-0 18S)
DESCRIPTION:Lehrveranstaltung 611326 18S, Gruppe 0\nTitel: Vertiefende Text- und/oder Medienanalyse anhand von Beispielen aus dem spanischsprachigen Raum: Lecturas queer de la literatura española y latinoamericana\nOrt: 40136\n\nhttps://lfuonline.uibk.ac.at/public/lfuonline_lv.details?sem_id_in=18S&lvnr_id_in=611326\n
CLASS:PUBLIC
DTSTART:20180315T110000Z
DTEND:20180315T123000Z
DTSTAMP:20260423T045532Z
LOCATION:40136
END:VEVENT
BEGIN:VEVENT
UID:18S_611326_3097576@uibk.ac.at
ORGANIZER;CN="LFU:online Universität Innsbruck":MAILTO:Uni-Innsbruck-noreply@uibk.ac.at
SUMMARY:Vertiefende Text- und/oder Medienanalyse anhand von Beispielen aus dem spanischsprachigen Raum: Lecturas queer de la literatura española y latinoamericana (LV 611326-0 18S)
DESCRIPTION:Lehrveranstaltung 611326 18S, Gruppe 0\nTitel: Vertiefende Text- und/oder Medienanalyse anhand von Beispielen aus dem spanischsprachigen Raum: Lecturas queer de la literatura española y latinoamericana\nOrt: 40136\n\nhttps://lfuonline.uibk.ac.at/public/lfuonline_lv.details?sem_id_in=18S&lvnr_id_in=611326\n
CLASS:PUBLIC
DTSTART:20180322T110000Z
DTEND:20180322T123000Z
DTSTAMP:20260423T045532Z
LOCATION:40136
END:VEVENT
BEGIN:VEVENT
UID:18S_611326_3097577@uibk.ac.at
ORGANIZER;CN="LFU:online Universität Innsbruck":MAILTO:Uni-Innsbruck-noreply@uibk.ac.at
SUMMARY:Vertiefende Text- und/oder Medienanalyse anhand von Beispielen aus dem spanischsprachigen Raum: Lecturas queer de la literatura española y latinoamericana (LV 611326-0 18S)
DESCRIPTION:Lehrveranstaltung 611326 18S, Gruppe 0\nTitel: Vertiefende Text- und/oder Medienanalyse anhand von Beispielen aus dem spanischsprachigen Raum: Lecturas queer de la literatura española y latinoamericana\nOrt: 40136\n\nhttps://lfuonline.uibk.ac.at/public/lfuonline_lv.details?sem_id_in=18S&lvnr_id_in=611326\n
CLASS:PUBLIC
DTSTART:20180412T100000Z
DTEND:20180412T113000Z
DTSTAMP:20260423T045532Z
LOCATION:40136
END:VEVENT
BEGIN:VEVENT
UID:18S_611326_3097578@uibk.ac.at
ORGANIZER;CN="LFU:online Universität Innsbruck":MAILTO:Uni-Innsbruck-noreply@uibk.ac.at
SUMMARY:Vertiefende Text- und/oder Medienanalyse anhand von Beispielen aus dem spanischsprachigen Raum: Lecturas queer de la literatura española y latinoamericana (LV 611326-0 18S)
DESCRIPTION:Lehrveranstaltung 611326 18S, Gruppe 0\nTitel: Vertiefende Text- und/oder Medienanalyse anhand von Beispielen aus dem spanischsprachigen Raum: Lecturas queer de la literatura española y latinoamericana\nOrt: 40136\n\nhttps://lfuonline.uibk.ac.at/public/lfuonline_lv.details?sem_id_in=18S&lvnr_id_in=611326\n
CLASS:PUBLIC
DTSTART:20180419T100000Z
DTEND:20180419T113000Z
DTSTAMP:20260423T045532Z
LOCATION:40136
END:VEVENT
BEGIN:VEVENT
UID:18S_611326_3097579@uibk.ac.at
ORGANIZER;CN="LFU:online Universität Innsbruck":MAILTO:Uni-Innsbruck-noreply@uibk.ac.at
SUMMARY:Vertiefende Text- und/oder Medienanalyse anhand von Beispielen aus dem spanischsprachigen Raum: Lecturas queer de la literatura española y latinoamericana (LV 611326-0 18S)
DESCRIPTION:Lehrveranstaltung 611326 18S, Gruppe 0\nTitel: Vertiefende Text- und/oder Medienanalyse anhand von Beispielen aus dem spanischsprachigen Raum: Lecturas queer de la literatura española y latinoamericana\nOrt: 40136\n\nhttps://lfuonline.uibk.ac.at/public/lfuonline_lv.details?sem_id_in=18S&lvnr_id_in=611326\n
CLASS:PUBLIC
DTSTART:20180426T100000Z
DTEND:20180426T113000Z
DTSTAMP:20260423T045532Z
LOCATION:40136
END:VEVENT
BEGIN:VEVENT
UID:18S_611326_3097580@uibk.ac.at
ORGANIZER;CN="LFU:online Universität Innsbruck":MAILTO:Uni-Innsbruck-noreply@uibk.ac.at
SUMMARY:Vertiefende Text- und/oder Medienanalyse anhand von Beispielen aus dem spanischsprachigen Raum: Lecturas queer de la literatura española y latinoamericana (LV 611326-0 18S)
DESCRIPTION:Lehrveranstaltung 611326 18S, Gruppe 0\nTitel: Vertiefende Text- und/oder Medienanalyse anhand von Beispielen aus dem spanischsprachigen Raum: Lecturas queer de la literatura española y latinoamericana\nOrt: 40136\n\nhttps://lfuonline.uibk.ac.at/public/lfuonline_lv.details?sem_id_in=18S&lvnr_id_in=611326\n
CLASS:PUBLIC
DTSTART:20180503T100000Z
DTEND:20180503T113000Z
DTSTAMP:20260423T045532Z
LOCATION:40136
END:VEVENT
BEGIN:VEVENT
UID:18S_611326_3097581@uibk.ac.at
ORGANIZER;CN="LFU:online Universität Innsbruck":MAILTO:Uni-Innsbruck-noreply@uibk.ac.at
SUMMARY:Vertiefende Text- und/oder Medienanalyse anhand von Beispielen aus dem spanischsprachigen Raum: Lecturas queer de la literatura española y latinoamericana (LV 611326-0 18S)
DESCRIPTION:Lehrveranstaltung 611326 18S, Gruppe 0\nTitel: Vertiefende Text- und/oder Medienanalyse anhand von Beispielen aus dem spanischsprachigen Raum: Lecturas queer de la literatura española y latinoamericana\nOrt: 40136\n\nhttps://lfuonline.uibk.ac.at/public/lfuonline_lv.details?sem_id_in=18S&lvnr_id_in=611326\n
CLASS:PUBLIC
DTSTART:20180517T100000Z
DTEND:20180517T113000Z
DTSTAMP:20260423T045532Z
LOCATION:40136
END:VEVENT
BEGIN:VEVENT
UID:18S_611326_3097582@uibk.ac.at
ORGANIZER;CN="LFU:online Universität Innsbruck":MAILTO:Uni-Innsbruck-noreply@uibk.ac.at
SUMMARY:Vertiefende Text- und/oder Medienanalyse anhand von Beispielen aus dem spanischsprachigen Raum: Lecturas queer de la literatura española y latinoamericana (LV 611326-0 18S)
DESCRIPTION:Lehrveranstaltung 611326 18S, Gruppe 0\nTitel: Vertiefende Text- und/oder Medienanalyse anhand von Beispielen aus dem spanischsprachigen Raum: Lecturas queer de la literatura española y latinoamericana\nOrt: 40136\n\nhttps://lfuonline.uibk.ac.at/public/lfuonline_lv.details?sem_id_in=18S&lvnr_id_in=611326\n
CLASS:PUBLIC
DTSTART:20180524T100000Z
DTEND:20180524T113000Z
DTSTAMP:20260423T045532Z
LOCATION:40136
END:VEVENT
BEGIN:VEVENT
UID:18S_611326_3097583@uibk.ac.at
ORGANIZER;CN="LFU:online Universität Innsbruck":MAILTO:Uni-Innsbruck-noreply@uibk.ac.at
SUMMARY:Vertiefende Text- und/oder Medienanalyse anhand von Beispielen aus dem spanischsprachigen Raum: Lecturas queer de la literatura española y latinoamericana (LV 611326-0 18S)
DESCRIPTION:Lehrveranstaltung 611326 18S, Gruppe 0\nTitel: Vertiefende Text- und/oder Medienanalyse anhand von Beispielen aus dem spanischsprachigen Raum: Lecturas queer de la literatura española y latinoamericana\nOrt: 40136\n\nhttps://lfuonline.uibk.ac.at/public/lfuonline_lv.details?sem_id_in=18S&lvnr_id_in=611326\n
CLASS:PUBLIC
DTSTART:20180607T100000Z
DTEND:20180607T113000Z
DTSTAMP:20260423T045532Z
LOCATION:40136
END:VEVENT
BEGIN:VEVENT
UID:18S_611326_3097584@uibk.ac.at
ORGANIZER;CN="LFU:online Universität Innsbruck":MAILTO:Uni-Innsbruck-noreply@uibk.ac.at
SUMMARY:Vertiefende Text- und/oder Medienanalyse anhand von Beispielen aus dem spanischsprachigen Raum: Lecturas queer de la literatura española y latinoamericana (LV 611326-0 18S)
DESCRIPTION:Lehrveranstaltung 611326 18S, Gruppe 0\nTitel: Vertiefende Text- und/oder Medienanalyse anhand von Beispielen aus dem spanischsprachigen Raum: Lecturas queer de la literatura española y latinoamericana\nOrt: 40136\n\nhttps://lfuonline.uibk.ac.at/public/lfuonline_lv.details?sem_id_in=18S&lvnr_id_in=611326\n
CLASS:PUBLIC
DTSTART:20180614T100000Z
DTEND:20180614T113000Z
DTSTAMP:20260423T045532Z
LOCATION:40136
END:VEVENT
BEGIN:VEVENT
UID:18S_611326_3097585@uibk.ac.at
ORGANIZER;CN="LFU:online Universität Innsbruck":MAILTO:Uni-Innsbruck-noreply@uibk.ac.at
SUMMARY:Vertiefende Text- und/oder Medienanalyse anhand von Beispielen aus dem spanischsprachigen Raum: Lecturas queer de la literatura española y latinoamericana (LV 611326-0 18S)
DESCRIPTION:Lehrveranstaltung 611326 18S, Gruppe 0\nTitel: Vertiefende Text- und/oder Medienanalyse anhand von Beispielen aus dem spanischsprachigen Raum: Lecturas queer de la literatura española y latinoamericana\nOrt: 40136\n\nhttps://lfuonline.uibk.ac.at/public/lfuonline_lv.details?sem_id_in=18S&lvnr_id_in=611326\n
CLASS:PUBLIC
DTSTART:20180621T100000Z
DTEND:20180621T113000Z
DTSTAMP:20260423T045532Z
LOCATION:40136
END:VEVENT
BEGIN:VEVENT
UID:18S_611326_3097586@uibk.ac.at
ORGANIZER;CN="LFU:online Universität Innsbruck":MAILTO:Uni-Innsbruck-noreply@uibk.ac.at
SUMMARY:Vertiefende Text- und/oder Medienanalyse anhand von Beispielen aus dem spanischsprachigen Raum: Lecturas queer de la literatura española y latinoamericana (LV 611326-0 18S)
DESCRIPTION:Lehrveranstaltung 611326 18S, Gruppe 0\nTitel: Vertiefende Text- und/oder Medienanalyse anhand von Beispielen aus dem spanischsprachigen Raum: Lecturas queer de la literatura española y latinoamericana\nOrt: 40136\n\nhttps://lfuonline.uibk.ac.at/public/lfuonline_lv.details?sem_id_in=18S&lvnr_id_in=611326\n
CLASS:PUBLIC
DTSTART:20180628T100000Z
DTEND:20180628T113000Z
DTSTAMP:20260423T045532Z
LOCATION:40136
END:VEVENT
END:VCALENDAR