BEGIN:VCALENDAR
VERSION:2.0
PRODID:-//Universität Innsbruck//LFU:online//DE
METHOD:PUBLISH
BEGIN:VEVENT
UID:17S_611379_2851780@uibk.ac.at
ORGANIZER;CN="LFU:online Universität Innsbruck":MAILTO:Uni-Innsbruck-noreply@uibk.ac.at
SUMMARY:Textproduktion Spanisch 4 (B2+) (LV 611379-0 17S)
DESCRIPTION:Lehrveranstaltung 611379 17S, Gruppe 0\nTitel: Textproduktion Spanisch 4 (B2+)\nOrt: 40801 SR\n\nhttps://lfuonline.uibk.ac.at/public/lfuonline_lv.details?sem_id_in=17S&lvnr_id_in=611379\n
CLASS:PUBLIC
DTSTART:20170309T110000Z
DTEND:20170309T123000Z
DTSTAMP:20260422T043039Z
LOCATION:40801 SR
END:VEVENT
BEGIN:VEVENT
UID:17S_611379_2851781@uibk.ac.at
ORGANIZER;CN="LFU:online Universität Innsbruck":MAILTO:Uni-Innsbruck-noreply@uibk.ac.at
SUMMARY:Textproduktion Spanisch 4 (B2+) (LV 611379-0 17S)
DESCRIPTION:Lehrveranstaltung 611379 17S, Gruppe 0\nTitel: Textproduktion Spanisch 4 (B2+)\nOrt: 40801 SR\n\nhttps://lfuonline.uibk.ac.at/public/lfuonline_lv.details?sem_id_in=17S&lvnr_id_in=611379\n
CLASS:PUBLIC
DTSTART:20170316T110000Z
DTEND:20170316T123000Z
DTSTAMP:20260422T043039Z
LOCATION:40801 SR
END:VEVENT
BEGIN:VEVENT
UID:17S_611379_2851782@uibk.ac.at
ORGANIZER;CN="LFU:online Universität Innsbruck":MAILTO:Uni-Innsbruck-noreply@uibk.ac.at
SUMMARY:Textproduktion Spanisch 4 (B2+) (LV 611379-0 17S)
DESCRIPTION:Lehrveranstaltung 611379 17S, Gruppe 0\nTitel: Textproduktion Spanisch 4 (B2+)\nOrt: 40801 SR\n\nhttps://lfuonline.uibk.ac.at/public/lfuonline_lv.details?sem_id_in=17S&lvnr_id_in=611379\n
CLASS:PUBLIC
DTSTART:20170323T110000Z
DTEND:20170323T123000Z
DTSTAMP:20260422T043039Z
LOCATION:40801 SR
END:VEVENT
BEGIN:VEVENT
UID:17S_611379_2851783@uibk.ac.at
ORGANIZER;CN="LFU:online Universität Innsbruck":MAILTO:Uni-Innsbruck-noreply@uibk.ac.at
SUMMARY:Textproduktion Spanisch 4 (B2+) (LV 611379-0 17S)
DESCRIPTION:Lehrveranstaltung 611379 17S, Gruppe 0\nTitel: Textproduktion Spanisch 4 (B2+)\nOrt: 40801 SR\n\nhttps://lfuonline.uibk.ac.at/public/lfuonline_lv.details?sem_id_in=17S&lvnr_id_in=611379\n
CLASS:PUBLIC
DTSTART:20170330T100000Z
DTEND:20170330T113000Z
DTSTAMP:20260422T043039Z
LOCATION:40801 SR
END:VEVENT
BEGIN:VEVENT
UID:17S_611379_2851784@uibk.ac.at
ORGANIZER;CN="LFU:online Universität Innsbruck":MAILTO:Uni-Innsbruck-noreply@uibk.ac.at
SUMMARY:Textproduktion Spanisch 4 (B2+) (LV 611379-0 17S)
DESCRIPTION:Lehrveranstaltung 611379 17S, Gruppe 0\nTitel: Textproduktion Spanisch 4 (B2+)\nOrt: 40801 SR\n\nhttps://lfuonline.uibk.ac.at/public/lfuonline_lv.details?sem_id_in=17S&lvnr_id_in=611379\n
CLASS:PUBLIC
DTSTART:20170406T100000Z
DTEND:20170406T113000Z
DTSTAMP:20260422T043039Z
LOCATION:40801 SR
END:VEVENT
BEGIN:VEVENT
UID:17S_611379_2851785@uibk.ac.at
ORGANIZER;CN="LFU:online Universität Innsbruck":MAILTO:Uni-Innsbruck-noreply@uibk.ac.at
SUMMARY:Textproduktion Spanisch 4 (B2+) (LV 611379-0 17S)
DESCRIPTION:Lehrveranstaltung 611379 17S, Gruppe 0\nTitel: Textproduktion Spanisch 4 (B2+)\nOrt: 40801 SR\n\nhttps://lfuonline.uibk.ac.at/public/lfuonline_lv.details?sem_id_in=17S&lvnr_id_in=611379\n
CLASS:PUBLIC
DTSTART:20170427T100000Z
DTEND:20170427T113000Z
DTSTAMP:20260422T043039Z
LOCATION:40801 SR
END:VEVENT
BEGIN:VEVENT
UID:17S_611379_2851786@uibk.ac.at
ORGANIZER;CN="LFU:online Universität Innsbruck":MAILTO:Uni-Innsbruck-noreply@uibk.ac.at
SUMMARY:Textproduktion Spanisch 4 (B2+) (LV 611379-0 17S)
DESCRIPTION:Lehrveranstaltung 611379 17S, Gruppe 0\nTitel: Textproduktion Spanisch 4 (B2+)\nOrt: 40801 SR\n\nhttps://lfuonline.uibk.ac.at/public/lfuonline_lv.details?sem_id_in=17S&lvnr_id_in=611379\n
CLASS:PUBLIC
DTSTART:20170504T100000Z
DTEND:20170504T113000Z
DTSTAMP:20260422T043039Z
LOCATION:40801 SR
END:VEVENT
BEGIN:VEVENT
UID:17S_611379_2851787@uibk.ac.at
ORGANIZER;CN="LFU:online Universität Innsbruck":MAILTO:Uni-Innsbruck-noreply@uibk.ac.at
SUMMARY:Textproduktion Spanisch 4 (B2+) (LV 611379-0 17S)
DESCRIPTION:Lehrveranstaltung 611379 17S, Gruppe 0\nTitel: Textproduktion Spanisch 4 (B2+)\nOrt: 40801 SR\n\nhttps://lfuonline.uibk.ac.at/public/lfuonline_lv.details?sem_id_in=17S&lvnr_id_in=611379\n
CLASS:PUBLIC
DTSTART:20170511T100000Z
DTEND:20170511T113000Z
DTSTAMP:20260422T043039Z
LOCATION:40801 SR
END:VEVENT
BEGIN:VEVENT
UID:17S_611379_2851788@uibk.ac.at
ORGANIZER;CN="LFU:online Universität Innsbruck":MAILTO:Uni-Innsbruck-noreply@uibk.ac.at
SUMMARY:Textproduktion Spanisch 4 (B2+) (LV 611379-0 17S)
DESCRIPTION:Lehrveranstaltung 611379 17S, Gruppe 0\nTitel: Textproduktion Spanisch 4 (B2+)\nOrt: 40801 SR\n\nhttps://lfuonline.uibk.ac.at/public/lfuonline_lv.details?sem_id_in=17S&lvnr_id_in=611379\n
CLASS:PUBLIC
DTSTART:20170518T100000Z
DTEND:20170518T113000Z
DTSTAMP:20260422T043039Z
LOCATION:40801 SR
END:VEVENT
BEGIN:VEVENT
UID:17S_611379_2851789@uibk.ac.at
ORGANIZER;CN="LFU:online Universität Innsbruck":MAILTO:Uni-Innsbruck-noreply@uibk.ac.at
SUMMARY:Textproduktion Spanisch 4 (B2+) (LV 611379-0 17S)
DESCRIPTION:Lehrveranstaltung 611379 17S, Gruppe 0\nTitel: Textproduktion Spanisch 4 (B2+)\nOrt: 40801 SR\n\nhttps://lfuonline.uibk.ac.at/public/lfuonline_lv.details?sem_id_in=17S&lvnr_id_in=611379\n
CLASS:PUBLIC
DTSTART:20170601T100000Z
DTEND:20170601T113000Z
DTSTAMP:20260422T043039Z
LOCATION:40801 SR
END:VEVENT
BEGIN:VEVENT
UID:17S_611379_2851790@uibk.ac.at
ORGANIZER;CN="LFU:online Universität Innsbruck":MAILTO:Uni-Innsbruck-noreply@uibk.ac.at
SUMMARY:Textproduktion Spanisch 4 (B2+) (LV 611379-0 17S)
DESCRIPTION:Lehrveranstaltung 611379 17S, Gruppe 0\nTitel: Textproduktion Spanisch 4 (B2+)\nOrt: 40801 SR\n\nhttps://lfuonline.uibk.ac.at/public/lfuonline_lv.details?sem_id_in=17S&lvnr_id_in=611379\n
CLASS:PUBLIC
DTSTART:20170608T100000Z
DTEND:20170608T113000Z
DTSTAMP:20260422T043039Z
LOCATION:40801 SR
END:VEVENT
BEGIN:VEVENT
UID:17S_611379_2851791@uibk.ac.at
ORGANIZER;CN="LFU:online Universität Innsbruck":MAILTO:Uni-Innsbruck-noreply@uibk.ac.at
SUMMARY:Textproduktion Spanisch 4 (B2+) (LV 611379-0 17S)
DESCRIPTION:Lehrveranstaltung 611379 17S, Gruppe 0\nTitel: Textproduktion Spanisch 4 (B2+)\nOrt: 40801 SR\n\nhttps://lfuonline.uibk.ac.at/public/lfuonline_lv.details?sem_id_in=17S&lvnr_id_in=611379\n
CLASS:PUBLIC
DTSTART:20170622T100000Z
DTEND:20170622T113000Z
DTSTAMP:20260422T043039Z
LOCATION:40801 SR
END:VEVENT
BEGIN:VEVENT
UID:17S_611379_2851792@uibk.ac.at
ORGANIZER;CN="LFU:online Universität Innsbruck":MAILTO:Uni-Innsbruck-noreply@uibk.ac.at
SUMMARY:Textproduktion Spanisch 4 (B2+) (LV 611379-0 17S)
DESCRIPTION:Lehrveranstaltung 611379 17S, Gruppe 0\nTitel: Textproduktion Spanisch 4 (B2+)\nOrt: 40801 SR\n\nhttps://lfuonline.uibk.ac.at/public/lfuonline_lv.details?sem_id_in=17S&lvnr_id_in=611379\n
CLASS:PUBLIC
DTSTART:20170629T100000Z
DTEND:20170629T113000Z
DTSTAMP:20260422T043039Z
LOCATION:40801 SR
END:VEVENT
END:VCALENDAR