BEGIN:VCALENDAR
VERSION:2.0
PRODID:-//Universität Innsbruck//LFU:online//DE
METHOD:PUBLISH
BEGIN:VEVENT
UID:17S_611380_2851793@uibk.ac.at
ORGANIZER;CN="LFU:online Universität Innsbruck":MAILTO:Uni-Innsbruck-noreply@uibk.ac.at
SUMMARY:Textproduktion Spanisch 4 (B2+) (LV 611380-0 17S)
DESCRIPTION:Lehrveranstaltung 611380 17S, Gruppe 0\nTitel: Textproduktion Spanisch 4 (B2+)\nOrt: 40112\n\nhttps://lfuonline.uibk.ac.at/public/lfuonline_lv.details?sem_id_in=17S&lvnr_id_in=611380\n
CLASS:PUBLIC
DTSTART:20170306T091500Z
DTEND:20170306T104500Z
DTSTAMP:20260422T043039Z
LOCATION:40112
END:VEVENT
BEGIN:VEVENT
UID:17S_611380_2851794@uibk.ac.at
ORGANIZER;CN="LFU:online Universität Innsbruck":MAILTO:Uni-Innsbruck-noreply@uibk.ac.at
SUMMARY:Textproduktion Spanisch 4 (B2+) (LV 611380-0 17S)
DESCRIPTION:Lehrveranstaltung 611380 17S, Gruppe 0\nTitel: Textproduktion Spanisch 4 (B2+)\nOrt: 40112\n\nhttps://lfuonline.uibk.ac.at/public/lfuonline_lv.details?sem_id_in=17S&lvnr_id_in=611380\n
CLASS:PUBLIC
DTSTART:20170313T091500Z
DTEND:20170313T104500Z
DTSTAMP:20260422T043039Z
LOCATION:40112
END:VEVENT
BEGIN:VEVENT
UID:17S_611380_2851795@uibk.ac.at
ORGANIZER;CN="LFU:online Universität Innsbruck":MAILTO:Uni-Innsbruck-noreply@uibk.ac.at
SUMMARY:Textproduktion Spanisch 4 (B2+) (LV 611380-0 17S)
DESCRIPTION:Lehrveranstaltung 611380 17S, Gruppe 0\nTitel: Textproduktion Spanisch 4 (B2+)\nOrt: 40112\n\nhttps://lfuonline.uibk.ac.at/public/lfuonline_lv.details?sem_id_in=17S&lvnr_id_in=611380\n
CLASS:PUBLIC
DTSTART:20170320T091500Z
DTEND:20170320T104500Z
DTSTAMP:20260422T043039Z
LOCATION:40112
END:VEVENT
BEGIN:VEVENT
UID:17S_611380_2905578@uibk.ac.at
ORGANIZER;CN="LFU:online Universität Innsbruck":MAILTO:Uni-Innsbruck-noreply@uibk.ac.at
SUMMARY:Textproduktion Spanisch 4 (B2+) (LV 611380-0 17S)
DESCRIPTION:Lehrveranstaltung 611380 17S, Gruppe 0\nTitel: Textproduktion Spanisch 4 (B2+)\nOrt: 40136\n\nhttps://lfuonline.uibk.ac.at/public/lfuonline_lv.details?sem_id_in=17S&lvnr_id_in=611380\n
CLASS:PUBLIC
DTSTART:20170324T073000Z
DTEND:20170324T090000Z
DTSTAMP:20260422T043039Z
LOCATION:40136
END:VEVENT
BEGIN:VEVENT
UID:17S_611380_2851796@uibk.ac.at
ORGANIZER;CN="LFU:online Universität Innsbruck":MAILTO:Uni-Innsbruck-noreply@uibk.ac.at
SUMMARY:Textproduktion Spanisch 4 (B2+) (LV 611380-0 17S)
DESCRIPTION:Lehrveranstaltung 611380 17S, Gruppe 0\nTitel: Textproduktion Spanisch 4 (B2+)\nOrt: 40112\n\nhttps://lfuonline.uibk.ac.at/public/lfuonline_lv.details?sem_id_in=17S&lvnr_id_in=611380\n
CLASS:PUBLIC
DTSTART:20170327T081500Z
DTEND:20170327T094500Z
DTSTAMP:20260422T043039Z
LOCATION:40112
END:VEVENT
BEGIN:VEVENT
UID:17S_611380_2905579@uibk.ac.at
ORGANIZER;CN="LFU:online Universität Innsbruck":MAILTO:Uni-Innsbruck-noreply@uibk.ac.at
SUMMARY:Textproduktion Spanisch 4 (B2+) (LV 611380-0 17S)
DESCRIPTION:Lehrveranstaltung 611380 17S, Gruppe 0\nTitel: Textproduktion Spanisch 4 (B2+)\nOrt: 40136\n\nhttps://lfuonline.uibk.ac.at/public/lfuonline_lv.details?sem_id_in=17S&lvnr_id_in=611380\n
CLASS:PUBLIC
DTSTART:20170331T063000Z
DTEND:20170331T080000Z
DTSTAMP:20260422T043039Z
LOCATION:40136
END:VEVENT
BEGIN:VEVENT
UID:17S_611380_2851797@uibk.ac.at
ORGANIZER;CN="LFU:online Universität Innsbruck":MAILTO:Uni-Innsbruck-noreply@uibk.ac.at
SUMMARY:Textproduktion Spanisch 4 (B2+) (LV 611380-0 17S)
DESCRIPTION:Lehrveranstaltung 611380 17S, Gruppe 0\nTitel: Textproduktion Spanisch 4 (B2+)\nOrt: 40112\n\nhttps://lfuonline.uibk.ac.at/public/lfuonline_lv.details?sem_id_in=17S&lvnr_id_in=611380\n
CLASS:PUBLIC
DTSTART:20170403T081500Z
DTEND:20170403T094500Z
DTSTAMP:20260422T043039Z
LOCATION:40112
END:VEVENT
BEGIN:VEVENT
UID:17S_611380_2905580@uibk.ac.at
ORGANIZER;CN="LFU:online Universität Innsbruck":MAILTO:Uni-Innsbruck-noreply@uibk.ac.at
SUMMARY:Textproduktion Spanisch 4 (B2+) (LV 611380-0 17S)
DESCRIPTION:Lehrveranstaltung 611380 17S, Gruppe 0\nTitel: Textproduktion Spanisch 4 (B2+)\nOrt: 40136\n\nhttps://lfuonline.uibk.ac.at/public/lfuonline_lv.details?sem_id_in=17S&lvnr_id_in=611380\n
CLASS:PUBLIC
DTSTART:20170407T063000Z
DTEND:20170407T080000Z
DTSTAMP:20260422T043039Z
LOCATION:40136
END:VEVENT
BEGIN:VEVENT
UID:17S_611380_2851798@uibk.ac.at
ORGANIZER;CN="LFU:online Universität Innsbruck":MAILTO:Uni-Innsbruck-noreply@uibk.ac.at
SUMMARY:Textproduktion Spanisch 4 (B2+) (LV 611380-0 17S)
DESCRIPTION:Lehrveranstaltung 611380 17S, Gruppe 0\nTitel: Textproduktion Spanisch 4 (B2+)\nOrt: 40112\n\nhttps://lfuonline.uibk.ac.at/public/lfuonline_lv.details?sem_id_in=17S&lvnr_id_in=611380\n
CLASS:PUBLIC
DTSTART:20170424T081500Z
DTEND:20170424T094500Z
DTSTAMP:20260422T043039Z
LOCATION:40112
END:VEVENT
BEGIN:VEVENT
UID:17S_611380_2905583@uibk.ac.at
ORGANIZER;CN="LFU:online Universität Innsbruck":MAILTO:Uni-Innsbruck-noreply@uibk.ac.at
SUMMARY:Textproduktion Spanisch 4 (B2+) (LV 611380-0 17S)
DESCRIPTION:Lehrveranstaltung 611380 17S, Gruppe 0\nTitel: Textproduktion Spanisch 4 (B2+)\nOrt: 40136\n\nhttps://lfuonline.uibk.ac.at/public/lfuonline_lv.details?sem_id_in=17S&lvnr_id_in=611380\n
CLASS:PUBLIC
DTSTART:20170505T063000Z
DTEND:20170505T080000Z
DTSTAMP:20260422T043039Z
LOCATION:40136
END:VEVENT
BEGIN:VEVENT
UID:17S_611380_2851799@uibk.ac.at
ORGANIZER;CN="LFU:online Universität Innsbruck":MAILTO:Uni-Innsbruck-noreply@uibk.ac.at
SUMMARY:Textproduktion Spanisch 4 (B2+) (LV 611380-0 17S)
DESCRIPTION:Lehrveranstaltung 611380 17S, Gruppe 0\nTitel: Textproduktion Spanisch 4 (B2+)\nOrt: 40112\n\nhttps://lfuonline.uibk.ac.at/public/lfuonline_lv.details?sem_id_in=17S&lvnr_id_in=611380\n
CLASS:PUBLIC
DTSTART:20170508T081500Z
DTEND:20170508T094500Z
DTSTAMP:20260422T043039Z
LOCATION:40112
END:VEVENT
BEGIN:VEVENT
UID:17S_611380_2908675@uibk.ac.at
ORGANIZER;CN="LFU:online Universität Innsbruck":MAILTO:Uni-Innsbruck-noreply@uibk.ac.at
SUMMARY:Textproduktion Spanisch 4 (B2+) (LV 611380-0 17S)
DESCRIPTION:Lehrveranstaltung 611380 17S, Gruppe 0\nTitel: Textproduktion Spanisch 4 (B2+)\nOrt: 40112\n\nhttps://lfuonline.uibk.ac.at/public/lfuonline_lv.details?sem_id_in=17S&lvnr_id_in=611380\n
CLASS:PUBLIC
DTSTART:20170515T081500Z
DTEND:20170515T094500Z
DTSTAMP:20260422T043039Z
LOCATION:40112
END:VEVENT
BEGIN:VEVENT
UID:17S_611380_2908676@uibk.ac.at
ORGANIZER;CN="LFU:online Universität Innsbruck":MAILTO:Uni-Innsbruck-noreply@uibk.ac.at
SUMMARY:Textproduktion Spanisch 4 (B2+) (LV 611380-0 17S)
DESCRIPTION:Lehrveranstaltung 611380 17S, Gruppe 0\nTitel: Textproduktion Spanisch 4 (B2+)\nOrt: 40112\n\nhttps://lfuonline.uibk.ac.at/public/lfuonline_lv.details?sem_id_in=17S&lvnr_id_in=611380\n
CLASS:PUBLIC
DTSTART:20170522T081500Z
DTEND:20170522T094500Z
DTSTAMP:20260422T043039Z
LOCATION:40112
END:VEVENT
END:VCALENDAR