BEGIN:VCALENDAR
VERSION:2.0
PRODID:-//Universität Innsbruck//LFU:online//DE
METHOD:PUBLISH
BEGIN:VEVENT
UID:24W_611901_4626513@uibk.ac.at
ORGANIZER;CN="LFU:online Universität Innsbruck":MAILTO:Uni-Innsbruck-noreply@uibk.ac.at
SUMMARY:SE Wissenschaftliche Grundlagen/Kernkompetenzen zum Dissertationsthema: Grenzen und Räume - Kulturwissenschaftliche und linguistische Ansätze (LV 611901-0 24W)
DESCRIPTION:Lehrveranstaltung 611901 24W, Gruppe 0\nTitel: SE Wissenschaftliche Grundlagen/Kernkompetenzen zum Dissertationsthema: Grenzen und Räume - Kulturwissenschaftliche und linguistische Ansätze\nOrt: 50113 SR\n\nhttps://lfuonline.uibk.ac.at/public/lfuonline_lv.details?sem_id_in=24W&lvnr_id_in=611901\n
CLASS:PUBLIC
DTSTART:20241002T063000Z
DTEND:20241002T094500Z
DTSTAMP:20260425T233126Z
LOCATION:50113 SR
END:VEVENT
BEGIN:VEVENT
UID:24W_611901_4626535@uibk.ac.at
ORGANIZER;CN="LFU:online Universität Innsbruck":MAILTO:Uni-Innsbruck-noreply@uibk.ac.at
SUMMARY:SE Wissenschaftliche Grundlagen/Kernkompetenzen zum Dissertationsthema: Grenzen und Räume - Kulturwissenschaftliche und linguistische Ansätze (LV 611901-0 24W)
DESCRIPTION:Lehrveranstaltung 611901 24W, Gruppe 0\nTitel: SE Wissenschaftliche Grundlagen/Kernkompetenzen zum Dissertationsthema: Grenzen und Räume - Kulturwissenschaftliche und linguistische Ansätze\nOrt: 50113 SR\n\nhttps://lfuonline.uibk.ac.at/public/lfuonline_lv.details?sem_id_in=24W&lvnr_id_in=611901\n
CLASS:PUBLIC
DTSTART:20241023T063000Z
DTEND:20241023T094500Z
DTSTAMP:20260425T233126Z
LOCATION:50113 SR
END:VEVENT
BEGIN:VEVENT
UID:24W_611901_4626536@uibk.ac.at
ORGANIZER;CN="LFU:online Universität Innsbruck":MAILTO:Uni-Innsbruck-noreply@uibk.ac.at
SUMMARY:SE Wissenschaftliche Grundlagen/Kernkompetenzen zum Dissertationsthema: Grenzen und Räume - Kulturwissenschaftliche und linguistische Ansätze (LV 611901-0 24W)
DESCRIPTION:Lehrveranstaltung 611901 24W, Gruppe 0\nTitel: SE Wissenschaftliche Grundlagen/Kernkompetenzen zum Dissertationsthema: Grenzen und Räume - Kulturwissenschaftliche und linguistische Ansätze\nOrt: 50113 SR\n\nhttps://lfuonline.uibk.ac.at/public/lfuonline_lv.details?sem_id_in=24W&lvnr_id_in=611901\n
CLASS:PUBLIC
DTSTART:20241106T073000Z
DTEND:20241106T104500Z
DTSTAMP:20260425T233126Z
LOCATION:50113 SR
END:VEVENT
BEGIN:VEVENT
UID:24W_611901_4626545@uibk.ac.at
ORGANIZER;CN="LFU:online Universität Innsbruck":MAILTO:Uni-Innsbruck-noreply@uibk.ac.at
SUMMARY:SE Wissenschaftliche Grundlagen/Kernkompetenzen zum Dissertationsthema: Grenzen und Räume - Kulturwissenschaftliche und linguistische Ansätze (LV 611901-0 24W)
DESCRIPTION:Lehrveranstaltung 611901 24W, Gruppe 0\nTitel: SE Wissenschaftliche Grundlagen/Kernkompetenzen zum Dissertationsthema: Grenzen und Räume - Kulturwissenschaftliche und linguistische Ansätze\nOrt: 50113 SR\n\nhttps://lfuonline.uibk.ac.at/public/lfuonline_lv.details?sem_id_in=24W&lvnr_id_in=611901\n
CLASS:PUBLIC
DTSTART:20241120T073000Z
DTEND:20241120T104500Z
DTSTAMP:20260425T233126Z
LOCATION:50113 SR
END:VEVENT
BEGIN:VEVENT
UID:24W_611901_4626549@uibk.ac.at
ORGANIZER;CN="LFU:online Universität Innsbruck":MAILTO:Uni-Innsbruck-noreply@uibk.ac.at
SUMMARY:SE Wissenschaftliche Grundlagen/Kernkompetenzen zum Dissertationsthema: Grenzen und Räume - Kulturwissenschaftliche und linguistische Ansätze (LV 611901-0 24W)
DESCRIPTION:Lehrveranstaltung 611901 24W, Gruppe 0\nTitel: SE Wissenschaftliche Grundlagen/Kernkompetenzen zum Dissertationsthema: Grenzen und Räume - Kulturwissenschaftliche und linguistische Ansätze\nOrt: 50113 SR\n\nhttps://lfuonline.uibk.ac.at/public/lfuonline_lv.details?sem_id_in=24W&lvnr_id_in=611901\n
CLASS:PUBLIC
DTSTART:20241204T073000Z
DTEND:20241204T104500Z
DTSTAMP:20260425T233126Z
LOCATION:50113 SR
END:VEVENT
BEGIN:VEVENT
UID:24W_611901_4626585@uibk.ac.at
ORGANIZER;CN="LFU:online Universität Innsbruck":MAILTO:Uni-Innsbruck-noreply@uibk.ac.at
SUMMARY:SE Wissenschaftliche Grundlagen/Kernkompetenzen zum Dissertationsthema: Grenzen und Räume - Kulturwissenschaftliche und linguistische Ansätze (LV 611901-0 24W)
DESCRIPTION:Lehrveranstaltung 611901 24W, Gruppe 0\nTitel: SE Wissenschaftliche Grundlagen/Kernkompetenzen zum Dissertationsthema: Grenzen und Räume - Kulturwissenschaftliche und linguistische Ansätze\nOrt: 50113 SR\n\nhttps://lfuonline.uibk.ac.at/public/lfuonline_lv.details?sem_id_in=24W&lvnr_id_in=611901\n
CLASS:PUBLIC
DTSTART:20250108T073000Z
DTEND:20250108T104500Z
DTSTAMP:20260425T233126Z
LOCATION:50113 SR
END:VEVENT
BEGIN:VEVENT
UID:24W_611901_4626586@uibk.ac.at
ORGANIZER;CN="LFU:online Universität Innsbruck":MAILTO:Uni-Innsbruck-noreply@uibk.ac.at
SUMMARY:SE Wissenschaftliche Grundlagen/Kernkompetenzen zum Dissertationsthema: Grenzen und Räume - Kulturwissenschaftliche und linguistische Ansätze (LV 611901-0 24W)
DESCRIPTION:Lehrveranstaltung 611901 24W, Gruppe 0\nTitel: SE Wissenschaftliche Grundlagen/Kernkompetenzen zum Dissertationsthema: Grenzen und Räume - Kulturwissenschaftliche und linguistische Ansätze\nOrt: 50113 SR\n\nhttps://lfuonline.uibk.ac.at/public/lfuonline_lv.details?sem_id_in=24W&lvnr_id_in=611901\n
CLASS:PUBLIC
DTSTART:20250122T073000Z
DTEND:20250122T104500Z
DTSTAMP:20260425T233126Z
LOCATION:50113 SR
END:VEVENT
END:VCALENDAR