BEGIN:VCALENDAR
VERSION:2.0
PRODID:-//Universität Innsbruck//LFU:online//DE
METHOD:PUBLISH
BEGIN:VEVENT
UID:16W_612040_2760841@uibk.ac.at
ORGANIZER;CN="LFU:online Universität Innsbruck":MAILTO:Uni-Innsbruck-noreply@uibk.ac.at
SUMMARY:Linguistische Methoden und Korpusanalyse (LV 612040-0 16W)
DESCRIPTION:Lehrveranstaltung 612040 16W, Gruppe 0\nTitel: Linguistische Methoden und Korpusanalyse\nOrt: 40406\n\nhttps://lfuonline.uibk.ac.at/public/lfuonline_lv.details?sem_id_in=16W&lvnr_id_in=612040\n
CLASS:PUBLIC
DTSTART:20161004T114500Z
DTEND:20161004T131500Z
DTSTAMP:20260419T194218Z
LOCATION:40406
END:VEVENT
BEGIN:VEVENT
UID:16W_612040_2760842@uibk.ac.at
ORGANIZER;CN="LFU:online Universität Innsbruck":MAILTO:Uni-Innsbruck-noreply@uibk.ac.at
SUMMARY:Linguistische Methoden und Korpusanalyse (LV 612040-0 16W)
DESCRIPTION:Lehrveranstaltung 612040 16W, Gruppe 0\nTitel: Linguistische Methoden und Korpusanalyse\nOrt: 40406\n\nhttps://lfuonline.uibk.ac.at/public/lfuonline_lv.details?sem_id_in=16W&lvnr_id_in=612040\n
CLASS:PUBLIC
DTSTART:20161011T114500Z
DTEND:20161011T131500Z
DTSTAMP:20260419T194218Z
LOCATION:40406
END:VEVENT
BEGIN:VEVENT
UID:16W_612040_2760843@uibk.ac.at
ORGANIZER;CN="LFU:online Universität Innsbruck":MAILTO:Uni-Innsbruck-noreply@uibk.ac.at
SUMMARY:Linguistische Methoden und Korpusanalyse (LV 612040-0 16W)
DESCRIPTION:Lehrveranstaltung 612040 16W, Gruppe 0\nTitel: Linguistische Methoden und Korpusanalyse\nOrt: 40406\n\nhttps://lfuonline.uibk.ac.at/public/lfuonline_lv.details?sem_id_in=16W&lvnr_id_in=612040\n
CLASS:PUBLIC
DTSTART:20161018T114500Z
DTEND:20161018T131500Z
DTSTAMP:20260419T194218Z
LOCATION:40406
END:VEVENT
BEGIN:VEVENT
UID:16W_612040_2760844@uibk.ac.at
ORGANIZER;CN="LFU:online Universität Innsbruck":MAILTO:Uni-Innsbruck-noreply@uibk.ac.at
SUMMARY:Linguistische Methoden und Korpusanalyse (LV 612040-0 16W)
DESCRIPTION:Lehrveranstaltung 612040 16W, Gruppe 0\nTitel: Linguistische Methoden und Korpusanalyse\nOrt: 40406\n\nhttps://lfuonline.uibk.ac.at/public/lfuonline_lv.details?sem_id_in=16W&lvnr_id_in=612040\n
CLASS:PUBLIC
DTSTART:20161025T114500Z
DTEND:20161025T131500Z
DTSTAMP:20260419T194218Z
LOCATION:40406
END:VEVENT
BEGIN:VEVENT
UID:16W_612040_2760845@uibk.ac.at
ORGANIZER;CN="LFU:online Universität Innsbruck":MAILTO:Uni-Innsbruck-noreply@uibk.ac.at
SUMMARY:Linguistische Methoden und Korpusanalyse (LV 612040-0 16W)
DESCRIPTION:Lehrveranstaltung 612040 16W, Gruppe 0\nTitel: Linguistische Methoden und Korpusanalyse\nOrt: 40406\n\nhttps://lfuonline.uibk.ac.at/public/lfuonline_lv.details?sem_id_in=16W&lvnr_id_in=612040\n
CLASS:PUBLIC
DTSTART:20161108T124500Z
DTEND:20161108T141500Z
DTSTAMP:20260419T194218Z
LOCATION:40406
END:VEVENT
BEGIN:VEVENT
UID:16W_612040_2760846@uibk.ac.at
ORGANIZER;CN="LFU:online Universität Innsbruck":MAILTO:Uni-Innsbruck-noreply@uibk.ac.at
SUMMARY:Linguistische Methoden und Korpusanalyse (LV 612040-0 16W)
DESCRIPTION:Lehrveranstaltung 612040 16W, Gruppe 0\nTitel: Linguistische Methoden und Korpusanalyse\nOrt: 40406\n\nhttps://lfuonline.uibk.ac.at/public/lfuonline_lv.details?sem_id_in=16W&lvnr_id_in=612040\n
CLASS:PUBLIC
DTSTART:20161115T124500Z
DTEND:20161115T141500Z
DTSTAMP:20260419T194218Z
LOCATION:40406
END:VEVENT
BEGIN:VEVENT
UID:16W_612040_2760847@uibk.ac.at
ORGANIZER;CN="LFU:online Universität Innsbruck":MAILTO:Uni-Innsbruck-noreply@uibk.ac.at
SUMMARY:Linguistische Methoden und Korpusanalyse (LV 612040-0 16W)
DESCRIPTION:Lehrveranstaltung 612040 16W, Gruppe 0\nTitel: Linguistische Methoden und Korpusanalyse\nOrt: 40406\n\nhttps://lfuonline.uibk.ac.at/public/lfuonline_lv.details?sem_id_in=16W&lvnr_id_in=612040\n
CLASS:PUBLIC
DTSTART:20161122T124500Z
DTEND:20161122T141500Z
DTSTAMP:20260419T194218Z
LOCATION:40406
END:VEVENT
BEGIN:VEVENT
UID:16W_612040_2760848@uibk.ac.at
ORGANIZER;CN="LFU:online Universität Innsbruck":MAILTO:Uni-Innsbruck-noreply@uibk.ac.at
SUMMARY:Linguistische Methoden und Korpusanalyse (LV 612040-0 16W)
DESCRIPTION:Lehrveranstaltung 612040 16W, Gruppe 0\nTitel: Linguistische Methoden und Korpusanalyse\nOrt: 40406\n\nhttps://lfuonline.uibk.ac.at/public/lfuonline_lv.details?sem_id_in=16W&lvnr_id_in=612040\n
CLASS:PUBLIC
DTSTART:20161129T124500Z
DTEND:20161129T141500Z
DTSTAMP:20260419T194218Z
LOCATION:40406
END:VEVENT
BEGIN:VEVENT
UID:16W_612040_2760849@uibk.ac.at
ORGANIZER;CN="LFU:online Universität Innsbruck":MAILTO:Uni-Innsbruck-noreply@uibk.ac.at
SUMMARY:Linguistische Methoden und Korpusanalyse (LV 612040-0 16W)
DESCRIPTION:Lehrveranstaltung 612040 16W, Gruppe 0\nTitel: Linguistische Methoden und Korpusanalyse\nOrt: 40406\n\nhttps://lfuonline.uibk.ac.at/public/lfuonline_lv.details?sem_id_in=16W&lvnr_id_in=612040\n
CLASS:PUBLIC
DTSTART:20161206T124500Z
DTEND:20161206T141500Z
DTSTAMP:20260419T194218Z
LOCATION:40406
END:VEVENT
BEGIN:VEVENT
UID:16W_612040_2760850@uibk.ac.at
ORGANIZER;CN="LFU:online Universität Innsbruck":MAILTO:Uni-Innsbruck-noreply@uibk.ac.at
SUMMARY:Linguistische Methoden und Korpusanalyse (LV 612040-0 16W)
DESCRIPTION:Lehrveranstaltung 612040 16W, Gruppe 0\nTitel: Linguistische Methoden und Korpusanalyse\nOrt: 40406\n\nhttps://lfuonline.uibk.ac.at/public/lfuonline_lv.details?sem_id_in=16W&lvnr_id_in=612040\n
CLASS:PUBLIC
DTSTART:20161213T124500Z
DTEND:20161213T141500Z
DTSTAMP:20260419T194218Z
LOCATION:40406
END:VEVENT
BEGIN:VEVENT
UID:16W_612040_2760851@uibk.ac.at
ORGANIZER;CN="LFU:online Universität Innsbruck":MAILTO:Uni-Innsbruck-noreply@uibk.ac.at
SUMMARY:Linguistische Methoden und Korpusanalyse (LV 612040-0 16W)
DESCRIPTION:Lehrveranstaltung 612040 16W, Gruppe 0\nTitel: Linguistische Methoden und Korpusanalyse\nOrt: 40406\n\nhttps://lfuonline.uibk.ac.at/public/lfuonline_lv.details?sem_id_in=16W&lvnr_id_in=612040\n
CLASS:PUBLIC
DTSTART:20170110T124500Z
DTEND:20170110T141500Z
DTSTAMP:20260419T194218Z
LOCATION:40406
END:VEVENT
BEGIN:VEVENT
UID:16W_612040_2760852@uibk.ac.at
ORGANIZER;CN="LFU:online Universität Innsbruck":MAILTO:Uni-Innsbruck-noreply@uibk.ac.at
SUMMARY:Linguistische Methoden und Korpusanalyse (LV 612040-0 16W)
DESCRIPTION:Lehrveranstaltung 612040 16W, Gruppe 0\nTitel: Linguistische Methoden und Korpusanalyse\nOrt: 40406\n\nhttps://lfuonline.uibk.ac.at/public/lfuonline_lv.details?sem_id_in=16W&lvnr_id_in=612040\n
CLASS:PUBLIC
DTSTART:20170117T124500Z
DTEND:20170117T141500Z
DTSTAMP:20260419T194218Z
LOCATION:40406
END:VEVENT
BEGIN:VEVENT
UID:16W_612040_2760853@uibk.ac.at
ORGANIZER;CN="LFU:online Universität Innsbruck":MAILTO:Uni-Innsbruck-noreply@uibk.ac.at
SUMMARY:Linguistische Methoden und Korpusanalyse (LV 612040-0 16W)
DESCRIPTION:Lehrveranstaltung 612040 16W, Gruppe 0\nTitel: Linguistische Methoden und Korpusanalyse\nOrt: 40406\n\nhttps://lfuonline.uibk.ac.at/public/lfuonline_lv.details?sem_id_in=16W&lvnr_id_in=612040\n
CLASS:PUBLIC
DTSTART:20170124T124500Z
DTEND:20170124T141500Z
DTSTAMP:20260419T194218Z
LOCATION:40406
END:VEVENT
BEGIN:VEVENT
UID:16W_612040_2760854@uibk.ac.at
ORGANIZER;CN="LFU:online Universität Innsbruck":MAILTO:Uni-Innsbruck-noreply@uibk.ac.at
SUMMARY:Linguistische Methoden und Korpusanalyse (LV 612040-0 16W)
DESCRIPTION:Lehrveranstaltung 612040 16W, Gruppe 0\nTitel: Linguistische Methoden und Korpusanalyse\nOrt: 40406\n\nhttps://lfuonline.uibk.ac.at/public/lfuonline_lv.details?sem_id_in=16W&lvnr_id_in=612040\n
CLASS:PUBLIC
DTSTART:20170131T124500Z
DTEND:20170131T141500Z
DTSTAMP:20260419T194218Z
LOCATION:40406
END:VEVENT
END:VCALENDAR