BEGIN:VCALENDAR
VERSION:2.0
PRODID:-//Universität Innsbruck//LFU:online//DE
METHOD:PUBLISH
BEGIN:VEVENT
UID:18W_613387_3198647@uibk.ac.at
ORGANIZER;CN="LFU:online Universität Innsbruck":MAILTO:Uni-Innsbruck-noreply@uibk.ac.at
SUMMARY:Konsekutivdolmetschen I A-Sprache / B-Sprache: Deutsch - Italienisch (LV 613387-0 18W)
DESCRIPTION:Lehrveranstaltung 613387 18W, Gruppe 0\nTitel: Konsekutivdolmetschen I A-Sprache / B-Sprache: Deutsch - Italienisch\nOrt: Dolmetschtrainingsanlage\n\nhttps://lfuonline.uibk.ac.at/public/lfuonline_lv.details?sem_id_in=18W&lvnr_id_in=613387\n
CLASS:PUBLIC
DTSTART:20181001T100000Z
DTEND:20181001T113000Z
DTSTAMP:20260425T105746Z
LOCATION:Dolmetschtrainingsanlage
END:VEVENT
BEGIN:VEVENT
UID:18W_613387_3198648@uibk.ac.at
ORGANIZER;CN="LFU:online Universität Innsbruck":MAILTO:Uni-Innsbruck-noreply@uibk.ac.at
SUMMARY:Konsekutivdolmetschen I A-Sprache / B-Sprache: Deutsch - Italienisch (LV 613387-0 18W)
DESCRIPTION:Lehrveranstaltung 613387 18W, Gruppe 0\nTitel: Konsekutivdolmetschen I A-Sprache / B-Sprache: Deutsch - Italienisch\nOrt: Dolmetschtrainingsanlage\n\nhttps://lfuonline.uibk.ac.at/public/lfuonline_lv.details?sem_id_in=18W&lvnr_id_in=613387\n
CLASS:PUBLIC
DTSTART:20181008T100000Z
DTEND:20181008T113000Z
DTSTAMP:20260425T105746Z
LOCATION:Dolmetschtrainingsanlage
END:VEVENT
BEGIN:VEVENT
UID:18W_613387_3198649@uibk.ac.at
ORGANIZER;CN="LFU:online Universität Innsbruck":MAILTO:Uni-Innsbruck-noreply@uibk.ac.at
SUMMARY:Konsekutivdolmetschen I A-Sprache / B-Sprache: Deutsch - Italienisch (LV 613387-0 18W)
DESCRIPTION:Lehrveranstaltung 613387 18W, Gruppe 0\nTitel: Konsekutivdolmetschen I A-Sprache / B-Sprache: Deutsch - Italienisch\nOrt: Dolmetschtrainingsanlage\n\nhttps://lfuonline.uibk.ac.at/public/lfuonline_lv.details?sem_id_in=18W&lvnr_id_in=613387\n
CLASS:PUBLIC
DTSTART:20181015T100000Z
DTEND:20181015T113000Z
DTSTAMP:20260425T105746Z
LOCATION:Dolmetschtrainingsanlage
END:VEVENT
BEGIN:VEVENT
UID:18W_613387_3198650@uibk.ac.at
ORGANIZER;CN="LFU:online Universität Innsbruck":MAILTO:Uni-Innsbruck-noreply@uibk.ac.at
SUMMARY:Konsekutivdolmetschen I A-Sprache / B-Sprache: Deutsch - Italienisch (LV 613387-0 18W)
DESCRIPTION:Lehrveranstaltung 613387 18W, Gruppe 0\nTitel: Konsekutivdolmetschen I A-Sprache / B-Sprache: Deutsch - Italienisch\nOrt: Dolmetschtrainingsanlage\n\nhttps://lfuonline.uibk.ac.at/public/lfuonline_lv.details?sem_id_in=18W&lvnr_id_in=613387\n
CLASS:PUBLIC
DTSTART:20181022T100000Z
DTEND:20181022T113000Z
DTSTAMP:20260425T105746Z
LOCATION:Dolmetschtrainingsanlage
END:VEVENT
BEGIN:VEVENT
UID:18W_613387_3198651@uibk.ac.at
ORGANIZER;CN="LFU:online Universität Innsbruck":MAILTO:Uni-Innsbruck-noreply@uibk.ac.at
SUMMARY:Konsekutivdolmetschen I A-Sprache / B-Sprache: Deutsch - Italienisch (LV 613387-0 18W)
DESCRIPTION:Lehrveranstaltung 613387 18W, Gruppe 0\nTitel: Konsekutivdolmetschen I A-Sprache / B-Sprache: Deutsch - Italienisch\nOrt: Dolmetschtrainingsanlage\n\nhttps://lfuonline.uibk.ac.at/public/lfuonline_lv.details?sem_id_in=18W&lvnr_id_in=613387\n
CLASS:PUBLIC
DTSTART:20181029T110000Z
DTEND:20181029T123000Z
DTSTAMP:20260425T105746Z
LOCATION:Dolmetschtrainingsanlage
END:VEVENT
BEGIN:VEVENT
UID:18W_613387_3198652@uibk.ac.at
ORGANIZER;CN="LFU:online Universität Innsbruck":MAILTO:Uni-Innsbruck-noreply@uibk.ac.at
SUMMARY:Konsekutivdolmetschen I A-Sprache / B-Sprache: Deutsch - Italienisch (LV 613387-0 18W)
DESCRIPTION:Lehrveranstaltung 613387 18W, Gruppe 0\nTitel: Konsekutivdolmetschen I A-Sprache / B-Sprache: Deutsch - Italienisch\nOrt: Dolmetschtrainingsanlage\n\nhttps://lfuonline.uibk.ac.at/public/lfuonline_lv.details?sem_id_in=18W&lvnr_id_in=613387\n
CLASS:PUBLIC
DTSTART:20181105T110000Z
DTEND:20181105T123000Z
DTSTAMP:20260425T105746Z
LOCATION:Dolmetschtrainingsanlage
END:VEVENT
BEGIN:VEVENT
UID:18W_613387_3198653@uibk.ac.at
ORGANIZER;CN="LFU:online Universität Innsbruck":MAILTO:Uni-Innsbruck-noreply@uibk.ac.at
SUMMARY:Konsekutivdolmetschen I A-Sprache / B-Sprache: Deutsch - Italienisch (LV 613387-0 18W)
DESCRIPTION:Lehrveranstaltung 613387 18W, Gruppe 0\nTitel: Konsekutivdolmetschen I A-Sprache / B-Sprache: Deutsch - Italienisch\nOrt: Dolmetschtrainingsanlage\n\nhttps://lfuonline.uibk.ac.at/public/lfuonline_lv.details?sem_id_in=18W&lvnr_id_in=613387\n
CLASS:PUBLIC
DTSTART:20181112T110000Z
DTEND:20181112T123000Z
DTSTAMP:20260425T105746Z
LOCATION:Dolmetschtrainingsanlage
END:VEVENT
BEGIN:VEVENT
UID:18W_613387_3198654@uibk.ac.at
ORGANIZER;CN="LFU:online Universität Innsbruck":MAILTO:Uni-Innsbruck-noreply@uibk.ac.at
SUMMARY:Konsekutivdolmetschen I A-Sprache / B-Sprache: Deutsch - Italienisch (LV 613387-0 18W)
DESCRIPTION:Lehrveranstaltung 613387 18W, Gruppe 0\nTitel: Konsekutivdolmetschen I A-Sprache / B-Sprache: Deutsch - Italienisch\nOrt: Dolmetschtrainingsanlage\n\nhttps://lfuonline.uibk.ac.at/public/lfuonline_lv.details?sem_id_in=18W&lvnr_id_in=613387\n
CLASS:PUBLIC
DTSTART:20181119T110000Z
DTEND:20181119T123000Z
DTSTAMP:20260425T105746Z
LOCATION:Dolmetschtrainingsanlage
END:VEVENT
BEGIN:VEVENT
UID:18W_613387_3198655@uibk.ac.at
ORGANIZER;CN="LFU:online Universität Innsbruck":MAILTO:Uni-Innsbruck-noreply@uibk.ac.at
SUMMARY:Konsekutivdolmetschen I A-Sprache / B-Sprache: Deutsch - Italienisch (LV 613387-0 18W)
DESCRIPTION:Lehrveranstaltung 613387 18W, Gruppe 0\nTitel: Konsekutivdolmetschen I A-Sprache / B-Sprache: Deutsch - Italienisch\nOrt: Dolmetschtrainingsanlage\n\nhttps://lfuonline.uibk.ac.at/public/lfuonline_lv.details?sem_id_in=18W&lvnr_id_in=613387\n
CLASS:PUBLIC
DTSTART:20181126T110000Z
DTEND:20181126T123000Z
DTSTAMP:20260425T105746Z
LOCATION:Dolmetschtrainingsanlage
END:VEVENT
BEGIN:VEVENT
UID:18W_613387_3198656@uibk.ac.at
ORGANIZER;CN="LFU:online Universität Innsbruck":MAILTO:Uni-Innsbruck-noreply@uibk.ac.at
SUMMARY:Konsekutivdolmetschen I A-Sprache / B-Sprache: Deutsch - Italienisch (LV 613387-0 18W)
DESCRIPTION:Lehrveranstaltung 613387 18W, Gruppe 0\nTitel: Konsekutivdolmetschen I A-Sprache / B-Sprache: Deutsch - Italienisch\nOrt: Dolmetschtrainingsanlage\n\nhttps://lfuonline.uibk.ac.at/public/lfuonline_lv.details?sem_id_in=18W&lvnr_id_in=613387\n
CLASS:PUBLIC
DTSTART:20181203T110000Z
DTEND:20181203T123000Z
DTSTAMP:20260425T105746Z
LOCATION:Dolmetschtrainingsanlage
END:VEVENT
BEGIN:VEVENT
UID:18W_613387_3198657@uibk.ac.at
ORGANIZER;CN="LFU:online Universität Innsbruck":MAILTO:Uni-Innsbruck-noreply@uibk.ac.at
SUMMARY:Konsekutivdolmetschen I A-Sprache / B-Sprache: Deutsch - Italienisch (LV 613387-0 18W)
DESCRIPTION:Lehrveranstaltung 613387 18W, Gruppe 0\nTitel: Konsekutivdolmetschen I A-Sprache / B-Sprache: Deutsch - Italienisch\nOrt: Dolmetschtrainingsanlage\n\nhttps://lfuonline.uibk.ac.at/public/lfuonline_lv.details?sem_id_in=18W&lvnr_id_in=613387\n
CLASS:PUBLIC
DTSTART:20181210T110000Z
DTEND:20181210T123000Z
DTSTAMP:20260425T105746Z
LOCATION:Dolmetschtrainingsanlage
END:VEVENT
BEGIN:VEVENT
UID:18W_613387_3198658@uibk.ac.at
ORGANIZER;CN="LFU:online Universität Innsbruck":MAILTO:Uni-Innsbruck-noreply@uibk.ac.at
SUMMARY:Konsekutivdolmetschen I A-Sprache / B-Sprache: Deutsch - Italienisch (LV 613387-0 18W)
DESCRIPTION:Lehrveranstaltung 613387 18W, Gruppe 0\nTitel: Konsekutivdolmetschen I A-Sprache / B-Sprache: Deutsch - Italienisch\nOrt: Dolmetschtrainingsanlage\n\nhttps://lfuonline.uibk.ac.at/public/lfuonline_lv.details?sem_id_in=18W&lvnr_id_in=613387\n
CLASS:PUBLIC
DTSTART:20190107T110000Z
DTEND:20190107T123000Z
DTSTAMP:20260425T105746Z
LOCATION:Dolmetschtrainingsanlage
END:VEVENT
BEGIN:VEVENT
UID:18W_613387_3198659@uibk.ac.at
ORGANIZER;CN="LFU:online Universität Innsbruck":MAILTO:Uni-Innsbruck-noreply@uibk.ac.at
SUMMARY:Konsekutivdolmetschen I A-Sprache / B-Sprache: Deutsch - Italienisch (LV 613387-0 18W)
DESCRIPTION:Lehrveranstaltung 613387 18W, Gruppe 0\nTitel: Konsekutivdolmetschen I A-Sprache / B-Sprache: Deutsch - Italienisch\nOrt: Dolmetschtrainingsanlage\n\nhttps://lfuonline.uibk.ac.at/public/lfuonline_lv.details?sem_id_in=18W&lvnr_id_in=613387\n
CLASS:PUBLIC
DTSTART:20190114T110000Z
DTEND:20190114T123000Z
DTSTAMP:20260425T105746Z
LOCATION:Dolmetschtrainingsanlage
END:VEVENT
BEGIN:VEVENT
UID:18W_613387_3198660@uibk.ac.at
ORGANIZER;CN="LFU:online Universität Innsbruck":MAILTO:Uni-Innsbruck-noreply@uibk.ac.at
SUMMARY:Konsekutivdolmetschen I A-Sprache / B-Sprache: Deutsch - Italienisch (LV 613387-0 18W)
DESCRIPTION:Lehrveranstaltung 613387 18W, Gruppe 0\nTitel: Konsekutivdolmetschen I A-Sprache / B-Sprache: Deutsch - Italienisch\nOrt: Dolmetschtrainingsanlage\n\nhttps://lfuonline.uibk.ac.at/public/lfuonline_lv.details?sem_id_in=18W&lvnr_id_in=613387\n
CLASS:PUBLIC
DTSTART:20190121T110000Z
DTEND:20190121T123000Z
DTSTAMP:20260425T105746Z
LOCATION:Dolmetschtrainingsanlage
END:VEVENT
BEGIN:VEVENT
UID:18W_613387_3198661@uibk.ac.at
ORGANIZER;CN="LFU:online Universität Innsbruck":MAILTO:Uni-Innsbruck-noreply@uibk.ac.at
SUMMARY:Konsekutivdolmetschen I A-Sprache / B-Sprache: Deutsch - Italienisch (LV 613387-0 18W)
DESCRIPTION:Lehrveranstaltung 613387 18W, Gruppe 0\nTitel: Konsekutivdolmetschen I A-Sprache / B-Sprache: Deutsch - Italienisch\nOrt: Dolmetschtrainingsanlage\n\nhttps://lfuonline.uibk.ac.at/public/lfuonline_lv.details?sem_id_in=18W&lvnr_id_in=613387\n
CLASS:PUBLIC
DTSTART:20190128T110000Z
DTEND:20190128T123000Z
DTSTAMP:20260425T105746Z
LOCATION:Dolmetschtrainingsanlage
END:VEVENT
END:VCALENDAR