BEGIN:VCALENDAR
VERSION:2.0
PRODID:-//Universität Innsbruck//LFU:online//DE
METHOD:PUBLISH
BEGIN:VEVENT
UID:16W_613402_2777684@uibk.ac.at
ORGANIZER;CN="LFU:online Universität Innsbruck":MAILTO:Uni-Innsbruck-noreply@uibk.ac.at
SUMMARY:Grundkurs Russisch I, Gr. a (LV 613402-0 16W)
DESCRIPTION:Lehrveranstaltung 613402 16W, Gruppe 0\nTitel: Grundkurs Russisch I, Gr. a\nOrt: SR  1 Transl.\n\nhttps://lfuonline.uibk.ac.at/public/lfuonline_lv.details?sem_id_in=16W&lvnr_id_in=613402\n
CLASS:PUBLIC
DTSTART:20161003T081500Z
DTEND:20161003T094500Z
DTSTAMP:20260420T164530Z
LOCATION:SR  1 Transl.
END:VEVENT
BEGIN:VEVENT
UID:16W_613402_2777671@uibk.ac.at
ORGANIZER;CN="LFU:online Universität Innsbruck":MAILTO:Uni-Innsbruck-noreply@uibk.ac.at
SUMMARY:Grundkurs Russisch I, Gr. a (LV 613402-0 16W)
DESCRIPTION:Lehrveranstaltung 613402 16W, Gruppe 0\nTitel: Grundkurs Russisch I, Gr. a\nOrt: SR  2 Transl.\n\nhttps://lfuonline.uibk.ac.at/public/lfuonline_lv.details?sem_id_in=16W&lvnr_id_in=613402\n
CLASS:PUBLIC
DTSTART:20161005T170000Z
DTEND:20161005T183000Z
DTSTAMP:20260420T164530Z
LOCATION:SR  2 Transl.
END:VEVENT
BEGIN:VEVENT
UID:16W_613402_2777685@uibk.ac.at
ORGANIZER;CN="LFU:online Universität Innsbruck":MAILTO:Uni-Innsbruck-noreply@uibk.ac.at
SUMMARY:Grundkurs Russisch I, Gr. a (LV 613402-0 16W)
DESCRIPTION:Lehrveranstaltung 613402 16W, Gruppe 0\nTitel: Grundkurs Russisch I, Gr. a\nOrt: SR  1 Transl.\n\nhttps://lfuonline.uibk.ac.at/public/lfuonline_lv.details?sem_id_in=16W&lvnr_id_in=613402\n
CLASS:PUBLIC
DTSTART:20161010T081500Z
DTEND:20161010T094500Z
DTSTAMP:20260420T164530Z
LOCATION:SR  1 Transl.
END:VEVENT
BEGIN:VEVENT
UID:16W_613402_2777672@uibk.ac.at
ORGANIZER;CN="LFU:online Universität Innsbruck":MAILTO:Uni-Innsbruck-noreply@uibk.ac.at
SUMMARY:Grundkurs Russisch I, Gr. a (LV 613402-0 16W)
DESCRIPTION:Lehrveranstaltung 613402 16W, Gruppe 0\nTitel: Grundkurs Russisch I, Gr. a\nOrt: SR  2 Transl.\n\nhttps://lfuonline.uibk.ac.at/public/lfuonline_lv.details?sem_id_in=16W&lvnr_id_in=613402\n
CLASS:PUBLIC
DTSTART:20161012T170000Z
DTEND:20161012T183000Z
DTSTAMP:20260420T164530Z
LOCATION:SR  2 Transl.
END:VEVENT
BEGIN:VEVENT
UID:16W_613402_2777686@uibk.ac.at
ORGANIZER;CN="LFU:online Universität Innsbruck":MAILTO:Uni-Innsbruck-noreply@uibk.ac.at
SUMMARY:Grundkurs Russisch I, Gr. a (LV 613402-0 16W)
DESCRIPTION:Lehrveranstaltung 613402 16W, Gruppe 0\nTitel: Grundkurs Russisch I, Gr. a\nOrt: SR  1 Transl.\n\nhttps://lfuonline.uibk.ac.at/public/lfuonline_lv.details?sem_id_in=16W&lvnr_id_in=613402\n
CLASS:PUBLIC
DTSTART:20161017T081500Z
DTEND:20161017T094500Z
DTSTAMP:20260420T164530Z
LOCATION:SR  1 Transl.
END:VEVENT
BEGIN:VEVENT
UID:16W_613402_2777673@uibk.ac.at
ORGANIZER;CN="LFU:online Universität Innsbruck":MAILTO:Uni-Innsbruck-noreply@uibk.ac.at
SUMMARY:Grundkurs Russisch I, Gr. a (LV 613402-0 16W)
DESCRIPTION:Lehrveranstaltung 613402 16W, Gruppe 0\nTitel: Grundkurs Russisch I, Gr. a\nOrt: SR  2 Transl.\n\nhttps://lfuonline.uibk.ac.at/public/lfuonline_lv.details?sem_id_in=16W&lvnr_id_in=613402\n
CLASS:PUBLIC
DTSTART:20161019T170000Z
DTEND:20161019T183000Z
DTSTAMP:20260420T164530Z
LOCATION:SR  2 Transl.
END:VEVENT
BEGIN:VEVENT
UID:16W_613402_2777687@uibk.ac.at
ORGANIZER;CN="LFU:online Universität Innsbruck":MAILTO:Uni-Innsbruck-noreply@uibk.ac.at
SUMMARY:Grundkurs Russisch I, Gr. a (LV 613402-0 16W)
DESCRIPTION:Lehrveranstaltung 613402 16W, Gruppe 0\nTitel: Grundkurs Russisch I, Gr. a\nOrt: SR  1 Transl.\n\nhttps://lfuonline.uibk.ac.at/public/lfuonline_lv.details?sem_id_in=16W&lvnr_id_in=613402\n
CLASS:PUBLIC
DTSTART:20161024T081500Z
DTEND:20161024T094500Z
DTSTAMP:20260420T164530Z
LOCATION:SR  1 Transl.
END:VEVENT
BEGIN:VEVENT
UID:16W_613402_2777688@uibk.ac.at
ORGANIZER;CN="LFU:online Universität Innsbruck":MAILTO:Uni-Innsbruck-noreply@uibk.ac.at
SUMMARY:Grundkurs Russisch I, Gr. a (LV 613402-0 16W)
DESCRIPTION:Lehrveranstaltung 613402 16W, Gruppe 0\nTitel: Grundkurs Russisch I, Gr. a\nOrt: SR  1 Transl.\n\nhttps://lfuonline.uibk.ac.at/public/lfuonline_lv.details?sem_id_in=16W&lvnr_id_in=613402\n
CLASS:PUBLIC
DTSTART:20161031T091500Z
DTEND:20161031T104500Z
DTSTAMP:20260420T164530Z
LOCATION:SR  1 Transl.
END:VEVENT
BEGIN:VEVENT
UID:16W_613402_2777689@uibk.ac.at
ORGANIZER;CN="LFU:online Universität Innsbruck":MAILTO:Uni-Innsbruck-noreply@uibk.ac.at
SUMMARY:Grundkurs Russisch I, Gr. a (LV 613402-0 16W)
DESCRIPTION:Lehrveranstaltung 613402 16W, Gruppe 0\nTitel: Grundkurs Russisch I, Gr. a\nOrt: SR  1 Transl.\n\nhttps://lfuonline.uibk.ac.at/public/lfuonline_lv.details?sem_id_in=16W&lvnr_id_in=613402\n
CLASS:PUBLIC
DTSTART:20161107T091500Z
DTEND:20161107T104500Z
DTSTAMP:20260420T164530Z
LOCATION:SR  1 Transl.
END:VEVENT
BEGIN:VEVENT
UID:16W_613402_2777674@uibk.ac.at
ORGANIZER;CN="LFU:online Universität Innsbruck":MAILTO:Uni-Innsbruck-noreply@uibk.ac.at
SUMMARY:Grundkurs Russisch I, Gr. a (LV 613402-0 16W)
DESCRIPTION:Lehrveranstaltung 613402 16W, Gruppe 0\nTitel: Grundkurs Russisch I, Gr. a\nOrt: SR  2 Transl.\n\nhttps://lfuonline.uibk.ac.at/public/lfuonline_lv.details?sem_id_in=16W&lvnr_id_in=613402\n
CLASS:PUBLIC
DTSTART:20161109T180000Z
DTEND:20161109T193000Z
DTSTAMP:20260420T164530Z
LOCATION:SR  2 Transl.
END:VEVENT
BEGIN:VEVENT
UID:16W_613402_2777690@uibk.ac.at
ORGANIZER;CN="LFU:online Universität Innsbruck":MAILTO:Uni-Innsbruck-noreply@uibk.ac.at
SUMMARY:Grundkurs Russisch I, Gr. a (LV 613402-0 16W)
DESCRIPTION:Lehrveranstaltung 613402 16W, Gruppe 0\nTitel: Grundkurs Russisch I, Gr. a\nOrt: SR  1 Transl.\n\nhttps://lfuonline.uibk.ac.at/public/lfuonline_lv.details?sem_id_in=16W&lvnr_id_in=613402\n
CLASS:PUBLIC
DTSTART:20161114T091500Z
DTEND:20161114T104500Z
DTSTAMP:20260420T164530Z
LOCATION:SR  1 Transl.
END:VEVENT
BEGIN:VEVENT
UID:16W_613402_2777675@uibk.ac.at
ORGANIZER;CN="LFU:online Universität Innsbruck":MAILTO:Uni-Innsbruck-noreply@uibk.ac.at
SUMMARY:Grundkurs Russisch I, Gr. a (LV 613402-0 16W)
DESCRIPTION:Lehrveranstaltung 613402 16W, Gruppe 0\nTitel: Grundkurs Russisch I, Gr. a\nOrt: SR  2 Transl.\n\nhttps://lfuonline.uibk.ac.at/public/lfuonline_lv.details?sem_id_in=16W&lvnr_id_in=613402\n
CLASS:PUBLIC
DTSTART:20161116T180000Z
DTEND:20161116T193000Z
DTSTAMP:20260420T164530Z
LOCATION:SR  2 Transl.
END:VEVENT
BEGIN:VEVENT
UID:16W_613402_2777691@uibk.ac.at
ORGANIZER;CN="LFU:online Universität Innsbruck":MAILTO:Uni-Innsbruck-noreply@uibk.ac.at
SUMMARY:Grundkurs Russisch I, Gr. a (LV 613402-0 16W)
DESCRIPTION:Lehrveranstaltung 613402 16W, Gruppe 0\nTitel: Grundkurs Russisch I, Gr. a\nOrt: SR  1 Transl.\n\nhttps://lfuonline.uibk.ac.at/public/lfuonline_lv.details?sem_id_in=16W&lvnr_id_in=613402\n
CLASS:PUBLIC
DTSTART:20161121T091500Z
DTEND:20161121T104500Z
DTSTAMP:20260420T164530Z
LOCATION:SR  1 Transl.
END:VEVENT
BEGIN:VEVENT
UID:16W_613402_2777676@uibk.ac.at
ORGANIZER;CN="LFU:online Universität Innsbruck":MAILTO:Uni-Innsbruck-noreply@uibk.ac.at
SUMMARY:Grundkurs Russisch I, Gr. a (LV 613402-0 16W)
DESCRIPTION:Lehrveranstaltung 613402 16W, Gruppe 0\nTitel: Grundkurs Russisch I, Gr. a\nOrt: SR  2 Transl.\n\nhttps://lfuonline.uibk.ac.at/public/lfuonline_lv.details?sem_id_in=16W&lvnr_id_in=613402\n
CLASS:PUBLIC
DTSTART:20161123T180000Z
DTEND:20161123T193000Z
DTSTAMP:20260420T164530Z
LOCATION:SR  2 Transl.
END:VEVENT
BEGIN:VEVENT
UID:16W_613402_2777692@uibk.ac.at
ORGANIZER;CN="LFU:online Universität Innsbruck":MAILTO:Uni-Innsbruck-noreply@uibk.ac.at
SUMMARY:Grundkurs Russisch I, Gr. a (LV 613402-0 16W)
DESCRIPTION:Lehrveranstaltung 613402 16W, Gruppe 0\nTitel: Grundkurs Russisch I, Gr. a\nOrt: SR  1 Transl.\n\nhttps://lfuonline.uibk.ac.at/public/lfuonline_lv.details?sem_id_in=16W&lvnr_id_in=613402\n
CLASS:PUBLIC
DTSTART:20161128T091500Z
DTEND:20161128T104500Z
DTSTAMP:20260420T164530Z
LOCATION:SR  1 Transl.
END:VEVENT
BEGIN:VEVENT
UID:16W_613402_2777677@uibk.ac.at
ORGANIZER;CN="LFU:online Universität Innsbruck":MAILTO:Uni-Innsbruck-noreply@uibk.ac.at
SUMMARY:Grundkurs Russisch I, Gr. a (LV 613402-0 16W)
DESCRIPTION:Lehrveranstaltung 613402 16W, Gruppe 0\nTitel: Grundkurs Russisch I, Gr. a\nOrt: SR  2 Transl.\n\nhttps://lfuonline.uibk.ac.at/public/lfuonline_lv.details?sem_id_in=16W&lvnr_id_in=613402\n
CLASS:PUBLIC
DTSTART:20161130T180000Z
DTEND:20161130T193000Z
DTSTAMP:20260420T164530Z
LOCATION:SR  2 Transl.
END:VEVENT
BEGIN:VEVENT
UID:16W_613402_2777693@uibk.ac.at
ORGANIZER;CN="LFU:online Universität Innsbruck":MAILTO:Uni-Innsbruck-noreply@uibk.ac.at
SUMMARY:Grundkurs Russisch I, Gr. a (LV 613402-0 16W)
DESCRIPTION:Lehrveranstaltung 613402 16W, Gruppe 0\nTitel: Grundkurs Russisch I, Gr. a\nOrt: SR  1 Transl.\n\nhttps://lfuonline.uibk.ac.at/public/lfuonline_lv.details?sem_id_in=16W&lvnr_id_in=613402\n
CLASS:PUBLIC
DTSTART:20161205T091500Z
DTEND:20161205T104500Z
DTSTAMP:20260420T164530Z
LOCATION:SR  1 Transl.
END:VEVENT
BEGIN:VEVENT
UID:16W_613402_2777678@uibk.ac.at
ORGANIZER;CN="LFU:online Universität Innsbruck":MAILTO:Uni-Innsbruck-noreply@uibk.ac.at
SUMMARY:Grundkurs Russisch I, Gr. a (LV 613402-0 16W)
DESCRIPTION:Lehrveranstaltung 613402 16W, Gruppe 0\nTitel: Grundkurs Russisch I, Gr. a\nOrt: SR  2 Transl.\n\nhttps://lfuonline.uibk.ac.at/public/lfuonline_lv.details?sem_id_in=16W&lvnr_id_in=613402\n
CLASS:PUBLIC
DTSTART:20161207T180000Z
DTEND:20161207T193000Z
DTSTAMP:20260420T164530Z
LOCATION:SR  2 Transl.
END:VEVENT
BEGIN:VEVENT
UID:16W_613402_2777694@uibk.ac.at
ORGANIZER;CN="LFU:online Universität Innsbruck":MAILTO:Uni-Innsbruck-noreply@uibk.ac.at
SUMMARY:Grundkurs Russisch I, Gr. a (LV 613402-0 16W)
DESCRIPTION:Lehrveranstaltung 613402 16W, Gruppe 0\nTitel: Grundkurs Russisch I, Gr. a\nOrt: SR  1 Transl.\n\nhttps://lfuonline.uibk.ac.at/public/lfuonline_lv.details?sem_id_in=16W&lvnr_id_in=613402\n
CLASS:PUBLIC
DTSTART:20161212T091500Z
DTEND:20161212T104500Z
DTSTAMP:20260420T164530Z
LOCATION:SR  1 Transl.
END:VEVENT
BEGIN:VEVENT
UID:16W_613402_2777679@uibk.ac.at
ORGANIZER;CN="LFU:online Universität Innsbruck":MAILTO:Uni-Innsbruck-noreply@uibk.ac.at
SUMMARY:Grundkurs Russisch I, Gr. a (LV 613402-0 16W)
DESCRIPTION:Lehrveranstaltung 613402 16W, Gruppe 0\nTitel: Grundkurs Russisch I, Gr. a\nOrt: SR  2 Transl.\n\nhttps://lfuonline.uibk.ac.at/public/lfuonline_lv.details?sem_id_in=16W&lvnr_id_in=613402\n
CLASS:PUBLIC
DTSTART:20161214T180000Z
DTEND:20161214T193000Z
DTSTAMP:20260420T164530Z
LOCATION:SR  2 Transl.
END:VEVENT
BEGIN:VEVENT
UID:16W_613402_2777695@uibk.ac.at
ORGANIZER;CN="LFU:online Universität Innsbruck":MAILTO:Uni-Innsbruck-noreply@uibk.ac.at
SUMMARY:Grundkurs Russisch I, Gr. a (LV 613402-0 16W)
DESCRIPTION:Lehrveranstaltung 613402 16W, Gruppe 0\nTitel: Grundkurs Russisch I, Gr. a\nOrt: SR  1 Transl.\n\nhttps://lfuonline.uibk.ac.at/public/lfuonline_lv.details?sem_id_in=16W&lvnr_id_in=613402\n
CLASS:PUBLIC
DTSTART:20170109T091500Z
DTEND:20170109T104500Z
DTSTAMP:20260420T164530Z
LOCATION:SR  1 Transl.
END:VEVENT
BEGIN:VEVENT
UID:16W_613402_2777680@uibk.ac.at
ORGANIZER;CN="LFU:online Universität Innsbruck":MAILTO:Uni-Innsbruck-noreply@uibk.ac.at
SUMMARY:Grundkurs Russisch I, Gr. a (LV 613402-0 16W)
DESCRIPTION:Lehrveranstaltung 613402 16W, Gruppe 0\nTitel: Grundkurs Russisch I, Gr. a\nOrt: SR  2 Transl.\n\nhttps://lfuonline.uibk.ac.at/public/lfuonline_lv.details?sem_id_in=16W&lvnr_id_in=613402\n
CLASS:PUBLIC
DTSTART:20170111T180000Z
DTEND:20170111T193000Z
DTSTAMP:20260420T164530Z
LOCATION:SR  2 Transl.
END:VEVENT
BEGIN:VEVENT
UID:16W_613402_2777696@uibk.ac.at
ORGANIZER;CN="LFU:online Universität Innsbruck":MAILTO:Uni-Innsbruck-noreply@uibk.ac.at
SUMMARY:Grundkurs Russisch I, Gr. a (LV 613402-0 16W)
DESCRIPTION:Lehrveranstaltung 613402 16W, Gruppe 0\nTitel: Grundkurs Russisch I, Gr. a\nOrt: SR  1 Transl.\n\nhttps://lfuonline.uibk.ac.at/public/lfuonline_lv.details?sem_id_in=16W&lvnr_id_in=613402\n
CLASS:PUBLIC
DTSTART:20170116T091500Z
DTEND:20170116T104500Z
DTSTAMP:20260420T164530Z
LOCATION:SR  1 Transl.
END:VEVENT
BEGIN:VEVENT
UID:16W_613402_2777681@uibk.ac.at
ORGANIZER;CN="LFU:online Universität Innsbruck":MAILTO:Uni-Innsbruck-noreply@uibk.ac.at
SUMMARY:Grundkurs Russisch I, Gr. a (LV 613402-0 16W)
DESCRIPTION:Lehrveranstaltung 613402 16W, Gruppe 0\nTitel: Grundkurs Russisch I, Gr. a\nOrt: SR  2 Transl.\n\nhttps://lfuonline.uibk.ac.at/public/lfuonline_lv.details?sem_id_in=16W&lvnr_id_in=613402\n
CLASS:PUBLIC
DTSTART:20170118T180000Z
DTEND:20170118T193000Z
DTSTAMP:20260420T164530Z
LOCATION:SR  2 Transl.
END:VEVENT
BEGIN:VEVENT
UID:16W_613402_2777697@uibk.ac.at
ORGANIZER;CN="LFU:online Universität Innsbruck":MAILTO:Uni-Innsbruck-noreply@uibk.ac.at
SUMMARY:Grundkurs Russisch I, Gr. a (LV 613402-0 16W)
DESCRIPTION:Lehrveranstaltung 613402 16W, Gruppe 0\nTitel: Grundkurs Russisch I, Gr. a\nOrt: SR  1 Transl.\n\nhttps://lfuonline.uibk.ac.at/public/lfuonline_lv.details?sem_id_in=16W&lvnr_id_in=613402\n
CLASS:PUBLIC
DTSTART:20170123T091500Z
DTEND:20170123T104500Z
DTSTAMP:20260420T164530Z
LOCATION:SR  1 Transl.
END:VEVENT
BEGIN:VEVENT
UID:16W_613402_2777682@uibk.ac.at
ORGANIZER;CN="LFU:online Universität Innsbruck":MAILTO:Uni-Innsbruck-noreply@uibk.ac.at
SUMMARY:Grundkurs Russisch I, Gr. a (LV 613402-0 16W)
DESCRIPTION:Lehrveranstaltung 613402 16W, Gruppe 0\nTitel: Grundkurs Russisch I, Gr. a\nOrt: SR  2 Transl.\n\nhttps://lfuonline.uibk.ac.at/public/lfuonline_lv.details?sem_id_in=16W&lvnr_id_in=613402\n
CLASS:PUBLIC
DTSTART:20170125T180000Z
DTEND:20170125T193000Z
DTSTAMP:20260420T164530Z
LOCATION:SR  2 Transl.
END:VEVENT
BEGIN:VEVENT
UID:16W_613402_2777698@uibk.ac.at
ORGANIZER;CN="LFU:online Universität Innsbruck":MAILTO:Uni-Innsbruck-noreply@uibk.ac.at
SUMMARY:Grundkurs Russisch I, Gr. a (LV 613402-0 16W)
DESCRIPTION:Lehrveranstaltung 613402 16W, Gruppe 0\nTitel: Grundkurs Russisch I, Gr. a\nOrt: SR  1 Transl.\n\nhttps://lfuonline.uibk.ac.at/public/lfuonline_lv.details?sem_id_in=16W&lvnr_id_in=613402\n
CLASS:PUBLIC
DTSTART:20170130T091500Z
DTEND:20170130T104500Z
DTSTAMP:20260420T164530Z
LOCATION:SR  1 Transl.
END:VEVENT
BEGIN:VEVENT
UID:16W_613402_2777683@uibk.ac.at
ORGANIZER;CN="LFU:online Universität Innsbruck":MAILTO:Uni-Innsbruck-noreply@uibk.ac.at
SUMMARY:Grundkurs Russisch I, Gr. a (LV 613402-0 16W)
DESCRIPTION:Lehrveranstaltung 613402 16W, Gruppe 0\nTitel: Grundkurs Russisch I, Gr. a\nOrt: SR  2 Transl.\n\nhttps://lfuonline.uibk.ac.at/public/lfuonline_lv.details?sem_id_in=16W&lvnr_id_in=613402\n
CLASS:PUBLIC
DTSTART:20170201T180000Z
DTEND:20170201T193000Z
DTSTAMP:20260420T164530Z
LOCATION:SR  2 Transl.
END:VEVENT
END:VCALENDAR