BEGIN:VCALENDAR
VERSION:2.0
PRODID:-//Universität Innsbruck//LFU:online//DE
METHOD:PUBLISH
BEGIN:VEVENT
UID:16W_613408_2773699@uibk.ac.at
ORGANIZER;CN="LFU:online Universität Innsbruck":MAILTO:Uni-Innsbruck-noreply@uibk.ac.at
SUMMARY:Grundkurs Russisch I, Gr. b (LV 613408-0 16W)
DESCRIPTION:Lehrveranstaltung 613408 16W, Gruppe 0\nTitel: Grundkurs Russisch I, Gr. b\nOrt: 52U109 SR\n\nhttps://lfuonline.uibk.ac.at/public/lfuonline_lv.details?sem_id_in=16W&lvnr_id_in=613408\n
CLASS:PUBLIC
DTSTART:20161003T081500Z
DTEND:20161003T094500Z
DTSTAMP:20260420T164530Z
LOCATION:52U109 SR
END:VEVENT
BEGIN:VEVENT
UID:16W_613408_2773727@uibk.ac.at
ORGANIZER;CN="LFU:online Universität Innsbruck":MAILTO:Uni-Innsbruck-noreply@uibk.ac.at
SUMMARY:Grundkurs Russisch I, Gr. b (LV 613408-0 16W)
DESCRIPTION:Lehrveranstaltung 613408 16W, Gruppe 0\nTitel: Grundkurs Russisch I, Gr. b\nOrt: SR  1 Transl.\n\nhttps://lfuonline.uibk.ac.at/public/lfuonline_lv.details?sem_id_in=16W&lvnr_id_in=613408\n
CLASS:PUBLIC
DTSTART:20161004T170000Z
DTEND:20161004T183000Z
DTSTAMP:20260420T164530Z
LOCATION:SR  1 Transl.
END:VEVENT
BEGIN:VEVENT
UID:16W_613408_2773700@uibk.ac.at
ORGANIZER;CN="LFU:online Universität Innsbruck":MAILTO:Uni-Innsbruck-noreply@uibk.ac.at
SUMMARY:Grundkurs Russisch I, Gr. b (LV 613408-0 16W)
DESCRIPTION:Lehrveranstaltung 613408 16W, Gruppe 0\nTitel: Grundkurs Russisch I, Gr. b\nOrt: 52U109 SR\n\nhttps://lfuonline.uibk.ac.at/public/lfuonline_lv.details?sem_id_in=16W&lvnr_id_in=613408\n
CLASS:PUBLIC
DTSTART:20161010T081500Z
DTEND:20161010T094500Z
DTSTAMP:20260420T164530Z
LOCATION:52U109 SR
END:VEVENT
BEGIN:VEVENT
UID:16W_613408_2773728@uibk.ac.at
ORGANIZER;CN="LFU:online Universität Innsbruck":MAILTO:Uni-Innsbruck-noreply@uibk.ac.at
SUMMARY:Grundkurs Russisch I, Gr. b (LV 613408-0 16W)
DESCRIPTION:Lehrveranstaltung 613408 16W, Gruppe 0\nTitel: Grundkurs Russisch I, Gr. b\nOrt: SR  1 Transl.\n\nhttps://lfuonline.uibk.ac.at/public/lfuonline_lv.details?sem_id_in=16W&lvnr_id_in=613408\n
CLASS:PUBLIC
DTSTART:20161011T170000Z
DTEND:20161011T183000Z
DTSTAMP:20260420T164530Z
LOCATION:SR  1 Transl.
END:VEVENT
BEGIN:VEVENT
UID:16W_613408_2773701@uibk.ac.at
ORGANIZER;CN="LFU:online Universität Innsbruck":MAILTO:Uni-Innsbruck-noreply@uibk.ac.at
SUMMARY:Grundkurs Russisch I, Gr. b (LV 613408-0 16W)
DESCRIPTION:Lehrveranstaltung 613408 16W, Gruppe 0\nTitel: Grundkurs Russisch I, Gr. b\nOrt: 52U109 SR\n\nhttps://lfuonline.uibk.ac.at/public/lfuonline_lv.details?sem_id_in=16W&lvnr_id_in=613408\n
CLASS:PUBLIC
DTSTART:20161017T081500Z
DTEND:20161017T094500Z
DTSTAMP:20260420T164530Z
LOCATION:52U109 SR
END:VEVENT
BEGIN:VEVENT
UID:16W_613408_2773729@uibk.ac.at
ORGANIZER;CN="LFU:online Universität Innsbruck":MAILTO:Uni-Innsbruck-noreply@uibk.ac.at
SUMMARY:Grundkurs Russisch I, Gr. b (LV 613408-0 16W)
DESCRIPTION:Lehrveranstaltung 613408 16W, Gruppe 0\nTitel: Grundkurs Russisch I, Gr. b\nOrt: SR  1 Transl.\n\nhttps://lfuonline.uibk.ac.at/public/lfuonline_lv.details?sem_id_in=16W&lvnr_id_in=613408\n
CLASS:PUBLIC
DTSTART:20161018T170000Z
DTEND:20161018T183000Z
DTSTAMP:20260420T164530Z
LOCATION:SR  1 Transl.
END:VEVENT
BEGIN:VEVENT
UID:16W_613408_2773702@uibk.ac.at
ORGANIZER;CN="LFU:online Universität Innsbruck":MAILTO:Uni-Innsbruck-noreply@uibk.ac.at
SUMMARY:Grundkurs Russisch I, Gr. b (LV 613408-0 16W)
DESCRIPTION:Lehrveranstaltung 613408 16W, Gruppe 0\nTitel: Grundkurs Russisch I, Gr. b\nOrt: 52U109 SR\n\nhttps://lfuonline.uibk.ac.at/public/lfuonline_lv.details?sem_id_in=16W&lvnr_id_in=613408\n
CLASS:PUBLIC
DTSTART:20161024T081500Z
DTEND:20161024T094500Z
DTSTAMP:20260420T164530Z
LOCATION:52U109 SR
END:VEVENT
BEGIN:VEVENT
UID:16W_613408_2773730@uibk.ac.at
ORGANIZER;CN="LFU:online Universität Innsbruck":MAILTO:Uni-Innsbruck-noreply@uibk.ac.at
SUMMARY:Grundkurs Russisch I, Gr. b (LV 613408-0 16W)
DESCRIPTION:Lehrveranstaltung 613408 16W, Gruppe 0\nTitel: Grundkurs Russisch I, Gr. b\nOrt: SR  1 Transl.\n\nhttps://lfuonline.uibk.ac.at/public/lfuonline_lv.details?sem_id_in=16W&lvnr_id_in=613408\n
CLASS:PUBLIC
DTSTART:20161025T170000Z
DTEND:20161025T183000Z
DTSTAMP:20260420T164530Z
LOCATION:SR  1 Transl.
END:VEVENT
BEGIN:VEVENT
UID:16W_613408_2773703@uibk.ac.at
ORGANIZER;CN="LFU:online Universität Innsbruck":MAILTO:Uni-Innsbruck-noreply@uibk.ac.at
SUMMARY:Grundkurs Russisch I, Gr. b (LV 613408-0 16W)
DESCRIPTION:Lehrveranstaltung 613408 16W, Gruppe 0\nTitel: Grundkurs Russisch I, Gr. b\nOrt: 52U109 SR\n\nhttps://lfuonline.uibk.ac.at/public/lfuonline_lv.details?sem_id_in=16W&lvnr_id_in=613408\n
CLASS:PUBLIC
DTSTART:20161031T091500Z
DTEND:20161031T104500Z
DTSTAMP:20260420T164530Z
LOCATION:52U109 SR
END:VEVENT
BEGIN:VEVENT
UID:16W_613408_2773704@uibk.ac.at
ORGANIZER;CN="LFU:online Universität Innsbruck":MAILTO:Uni-Innsbruck-noreply@uibk.ac.at
SUMMARY:Grundkurs Russisch I, Gr. b (LV 613408-0 16W)
DESCRIPTION:Lehrveranstaltung 613408 16W, Gruppe 0\nTitel: Grundkurs Russisch I, Gr. b\nOrt: 52U109 SR\n\nhttps://lfuonline.uibk.ac.at/public/lfuonline_lv.details?sem_id_in=16W&lvnr_id_in=613408\n
CLASS:PUBLIC
DTSTART:20161107T091500Z
DTEND:20161107T104500Z
DTSTAMP:20260420T164530Z
LOCATION:52U109 SR
END:VEVENT
BEGIN:VEVENT
UID:16W_613408_2773731@uibk.ac.at
ORGANIZER;CN="LFU:online Universität Innsbruck":MAILTO:Uni-Innsbruck-noreply@uibk.ac.at
SUMMARY:Grundkurs Russisch I, Gr. b (LV 613408-0 16W)
DESCRIPTION:Lehrveranstaltung 613408 16W, Gruppe 0\nTitel: Grundkurs Russisch I, Gr. b\nOrt: SR  1 Transl.\n\nhttps://lfuonline.uibk.ac.at/public/lfuonline_lv.details?sem_id_in=16W&lvnr_id_in=613408\n
CLASS:PUBLIC
DTSTART:20161108T180000Z
DTEND:20161108T193000Z
DTSTAMP:20260420T164530Z
LOCATION:SR  1 Transl.
END:VEVENT
BEGIN:VEVENT
UID:16W_613408_2773705@uibk.ac.at
ORGANIZER;CN="LFU:online Universität Innsbruck":MAILTO:Uni-Innsbruck-noreply@uibk.ac.at
SUMMARY:Grundkurs Russisch I, Gr. b (LV 613408-0 16W)
DESCRIPTION:Lehrveranstaltung 613408 16W, Gruppe 0\nTitel: Grundkurs Russisch I, Gr. b\nOrt: 52U109 SR\n\nhttps://lfuonline.uibk.ac.at/public/lfuonline_lv.details?sem_id_in=16W&lvnr_id_in=613408\n
CLASS:PUBLIC
DTSTART:20161114T091500Z
DTEND:20161114T104500Z
DTSTAMP:20260420T164530Z
LOCATION:52U109 SR
END:VEVENT
BEGIN:VEVENT
UID:16W_613408_2773732@uibk.ac.at
ORGANIZER;CN="LFU:online Universität Innsbruck":MAILTO:Uni-Innsbruck-noreply@uibk.ac.at
SUMMARY:Grundkurs Russisch I, Gr. b (LV 613408-0 16W)
DESCRIPTION:Lehrveranstaltung 613408 16W, Gruppe 0\nTitel: Grundkurs Russisch I, Gr. b\nOrt: SR  1 Transl.\n\nhttps://lfuonline.uibk.ac.at/public/lfuonline_lv.details?sem_id_in=16W&lvnr_id_in=613408\n
CLASS:PUBLIC
DTSTART:20161115T180000Z
DTEND:20161115T193000Z
DTSTAMP:20260420T164530Z
LOCATION:SR  1 Transl.
END:VEVENT
BEGIN:VEVENT
UID:16W_613408_2773706@uibk.ac.at
ORGANIZER;CN="LFU:online Universität Innsbruck":MAILTO:Uni-Innsbruck-noreply@uibk.ac.at
SUMMARY:Grundkurs Russisch I, Gr. b (LV 613408-0 16W)
DESCRIPTION:Lehrveranstaltung 613408 16W, Gruppe 0\nTitel: Grundkurs Russisch I, Gr. b\nOrt: 52U109 SR\n\nhttps://lfuonline.uibk.ac.at/public/lfuonline_lv.details?sem_id_in=16W&lvnr_id_in=613408\n
CLASS:PUBLIC
DTSTART:20161121T091500Z
DTEND:20161121T104500Z
DTSTAMP:20260420T164530Z
LOCATION:52U109 SR
END:VEVENT
BEGIN:VEVENT
UID:16W_613408_2773733@uibk.ac.at
ORGANIZER;CN="LFU:online Universität Innsbruck":MAILTO:Uni-Innsbruck-noreply@uibk.ac.at
SUMMARY:Grundkurs Russisch I, Gr. b (LV 613408-0 16W)
DESCRIPTION:Lehrveranstaltung 613408 16W, Gruppe 0\nTitel: Grundkurs Russisch I, Gr. b\nOrt: SR  1 Transl.\n\nhttps://lfuonline.uibk.ac.at/public/lfuonline_lv.details?sem_id_in=16W&lvnr_id_in=613408\n
CLASS:PUBLIC
DTSTART:20161122T180000Z
DTEND:20161122T193000Z
DTSTAMP:20260420T164530Z
LOCATION:SR  1 Transl.
END:VEVENT
BEGIN:VEVENT
UID:16W_613408_2773707@uibk.ac.at
ORGANIZER;CN="LFU:online Universität Innsbruck":MAILTO:Uni-Innsbruck-noreply@uibk.ac.at
SUMMARY:Grundkurs Russisch I, Gr. b (LV 613408-0 16W)
DESCRIPTION:Lehrveranstaltung 613408 16W, Gruppe 0\nTitel: Grundkurs Russisch I, Gr. b\nOrt: 52U109 SR\n\nhttps://lfuonline.uibk.ac.at/public/lfuonline_lv.details?sem_id_in=16W&lvnr_id_in=613408\n
CLASS:PUBLIC
DTSTART:20161128T091500Z
DTEND:20161128T104500Z
DTSTAMP:20260420T164530Z
LOCATION:52U109 SR
END:VEVENT
BEGIN:VEVENT
UID:16W_613408_2773734@uibk.ac.at
ORGANIZER;CN="LFU:online Universität Innsbruck":MAILTO:Uni-Innsbruck-noreply@uibk.ac.at
SUMMARY:Grundkurs Russisch I, Gr. b (LV 613408-0 16W)
DESCRIPTION:Lehrveranstaltung 613408 16W, Gruppe 0\nTitel: Grundkurs Russisch I, Gr. b\nOrt: SR  1 Transl.\n\nhttps://lfuonline.uibk.ac.at/public/lfuonline_lv.details?sem_id_in=16W&lvnr_id_in=613408\n
CLASS:PUBLIC
DTSTART:20161129T180000Z
DTEND:20161129T193000Z
DTSTAMP:20260420T164530Z
LOCATION:SR  1 Transl.
END:VEVENT
BEGIN:VEVENT
UID:16W_613408_2773708@uibk.ac.at
ORGANIZER;CN="LFU:online Universität Innsbruck":MAILTO:Uni-Innsbruck-noreply@uibk.ac.at
SUMMARY:Grundkurs Russisch I, Gr. b (LV 613408-0 16W)
DESCRIPTION:Lehrveranstaltung 613408 16W, Gruppe 0\nTitel: Grundkurs Russisch I, Gr. b\nOrt: 52U109 SR\n\nhttps://lfuonline.uibk.ac.at/public/lfuonline_lv.details?sem_id_in=16W&lvnr_id_in=613408\n
CLASS:PUBLIC
DTSTART:20161205T091500Z
DTEND:20161205T104500Z
DTSTAMP:20260420T164530Z
LOCATION:52U109 SR
END:VEVENT
BEGIN:VEVENT
UID:16W_613408_2773735@uibk.ac.at
ORGANIZER;CN="LFU:online Universität Innsbruck":MAILTO:Uni-Innsbruck-noreply@uibk.ac.at
SUMMARY:Grundkurs Russisch I, Gr. b (LV 613408-0 16W)
DESCRIPTION:Lehrveranstaltung 613408 16W, Gruppe 0\nTitel: Grundkurs Russisch I, Gr. b\nOrt: SR  1 Transl.\n\nhttps://lfuonline.uibk.ac.at/public/lfuonline_lv.details?sem_id_in=16W&lvnr_id_in=613408\n
CLASS:PUBLIC
DTSTART:20161206T180000Z
DTEND:20161206T193000Z
DTSTAMP:20260420T164530Z
LOCATION:SR  1 Transl.
END:VEVENT
BEGIN:VEVENT
UID:16W_613408_2773709@uibk.ac.at
ORGANIZER;CN="LFU:online Universität Innsbruck":MAILTO:Uni-Innsbruck-noreply@uibk.ac.at
SUMMARY:Grundkurs Russisch I, Gr. b (LV 613408-0 16W)
DESCRIPTION:Lehrveranstaltung 613408 16W, Gruppe 0\nTitel: Grundkurs Russisch I, Gr. b\nOrt: 52U109 SR\n\nhttps://lfuonline.uibk.ac.at/public/lfuonline_lv.details?sem_id_in=16W&lvnr_id_in=613408\n
CLASS:PUBLIC
DTSTART:20161212T091500Z
DTEND:20161212T104500Z
DTSTAMP:20260420T164530Z
LOCATION:52U109 SR
END:VEVENT
BEGIN:VEVENT
UID:16W_613408_2773736@uibk.ac.at
ORGANIZER;CN="LFU:online Universität Innsbruck":MAILTO:Uni-Innsbruck-noreply@uibk.ac.at
SUMMARY:Grundkurs Russisch I, Gr. b (LV 613408-0 16W)
DESCRIPTION:Lehrveranstaltung 613408 16W, Gruppe 0\nTitel: Grundkurs Russisch I, Gr. b\nOrt: SR  1 Transl.\n\nhttps://lfuonline.uibk.ac.at/public/lfuonline_lv.details?sem_id_in=16W&lvnr_id_in=613408\n
CLASS:PUBLIC
DTSTART:20161213T180000Z
DTEND:20161213T193000Z
DTSTAMP:20260420T164530Z
LOCATION:SR  1 Transl.
END:VEVENT
BEGIN:VEVENT
UID:16W_613408_2773710@uibk.ac.at
ORGANIZER;CN="LFU:online Universität Innsbruck":MAILTO:Uni-Innsbruck-noreply@uibk.ac.at
SUMMARY:Grundkurs Russisch I, Gr. b (LV 613408-0 16W)
DESCRIPTION:Lehrveranstaltung 613408 16W, Gruppe 0\nTitel: Grundkurs Russisch I, Gr. b\nOrt: 52U109 SR\n\nhttps://lfuonline.uibk.ac.at/public/lfuonline_lv.details?sem_id_in=16W&lvnr_id_in=613408\n
CLASS:PUBLIC
DTSTART:20170109T091500Z
DTEND:20170109T104500Z
DTSTAMP:20260420T164530Z
LOCATION:52U109 SR
END:VEVENT
BEGIN:VEVENT
UID:16W_613408_2773737@uibk.ac.at
ORGANIZER;CN="LFU:online Universität Innsbruck":MAILTO:Uni-Innsbruck-noreply@uibk.ac.at
SUMMARY:Grundkurs Russisch I, Gr. b (LV 613408-0 16W)
DESCRIPTION:Lehrveranstaltung 613408 16W, Gruppe 0\nTitel: Grundkurs Russisch I, Gr. b\nOrt: SR  1 Transl.\n\nhttps://lfuonline.uibk.ac.at/public/lfuonline_lv.details?sem_id_in=16W&lvnr_id_in=613408\n
CLASS:PUBLIC
DTSTART:20170110T180000Z
DTEND:20170110T193000Z
DTSTAMP:20260420T164530Z
LOCATION:SR  1 Transl.
END:VEVENT
BEGIN:VEVENT
UID:16W_613408_2773711@uibk.ac.at
ORGANIZER;CN="LFU:online Universität Innsbruck":MAILTO:Uni-Innsbruck-noreply@uibk.ac.at
SUMMARY:Grundkurs Russisch I, Gr. b (LV 613408-0 16W)
DESCRIPTION:Lehrveranstaltung 613408 16W, Gruppe 0\nTitel: Grundkurs Russisch I, Gr. b\nOrt: 52U109 SR\n\nhttps://lfuonline.uibk.ac.at/public/lfuonline_lv.details?sem_id_in=16W&lvnr_id_in=613408\n
CLASS:PUBLIC
DTSTART:20170116T091500Z
DTEND:20170116T104500Z
DTSTAMP:20260420T164530Z
LOCATION:52U109 SR
END:VEVENT
BEGIN:VEVENT
UID:16W_613408_2773738@uibk.ac.at
ORGANIZER;CN="LFU:online Universität Innsbruck":MAILTO:Uni-Innsbruck-noreply@uibk.ac.at
SUMMARY:Grundkurs Russisch I, Gr. b (LV 613408-0 16W)
DESCRIPTION:Lehrveranstaltung 613408 16W, Gruppe 0\nTitel: Grundkurs Russisch I, Gr. b\nOrt: SR  1 Transl.\n\nhttps://lfuonline.uibk.ac.at/public/lfuonline_lv.details?sem_id_in=16W&lvnr_id_in=613408\n
CLASS:PUBLIC
DTSTART:20170117T180000Z
DTEND:20170117T193000Z
DTSTAMP:20260420T164530Z
LOCATION:SR  1 Transl.
END:VEVENT
BEGIN:VEVENT
UID:16W_613408_2773712@uibk.ac.at
ORGANIZER;CN="LFU:online Universität Innsbruck":MAILTO:Uni-Innsbruck-noreply@uibk.ac.at
SUMMARY:Grundkurs Russisch I, Gr. b (LV 613408-0 16W)
DESCRIPTION:Lehrveranstaltung 613408 16W, Gruppe 0\nTitel: Grundkurs Russisch I, Gr. b\nOrt: 52U109 SR\n\nhttps://lfuonline.uibk.ac.at/public/lfuonline_lv.details?sem_id_in=16W&lvnr_id_in=613408\n
CLASS:PUBLIC
DTSTART:20170123T091500Z
DTEND:20170123T104500Z
DTSTAMP:20260420T164530Z
LOCATION:52U109 SR
END:VEVENT
BEGIN:VEVENT
UID:16W_613408_2773739@uibk.ac.at
ORGANIZER;CN="LFU:online Universität Innsbruck":MAILTO:Uni-Innsbruck-noreply@uibk.ac.at
SUMMARY:Grundkurs Russisch I, Gr. b (LV 613408-0 16W)
DESCRIPTION:Lehrveranstaltung 613408 16W, Gruppe 0\nTitel: Grundkurs Russisch I, Gr. b\nOrt: SR  1 Transl.\n\nhttps://lfuonline.uibk.ac.at/public/lfuonline_lv.details?sem_id_in=16W&lvnr_id_in=613408\n
CLASS:PUBLIC
DTSTART:20170124T180000Z
DTEND:20170124T193000Z
DTSTAMP:20260420T164530Z
LOCATION:SR  1 Transl.
END:VEVENT
BEGIN:VEVENT
UID:16W_613408_2773713@uibk.ac.at
ORGANIZER;CN="LFU:online Universität Innsbruck":MAILTO:Uni-Innsbruck-noreply@uibk.ac.at
SUMMARY:Grundkurs Russisch I, Gr. b (LV 613408-0 16W)
DESCRIPTION:Lehrveranstaltung 613408 16W, Gruppe 0\nTitel: Grundkurs Russisch I, Gr. b\nOrt: 52U109 SR\n\nhttps://lfuonline.uibk.ac.at/public/lfuonline_lv.details?sem_id_in=16W&lvnr_id_in=613408\n
CLASS:PUBLIC
DTSTART:20170130T091500Z
DTEND:20170130T104500Z
DTSTAMP:20260420T164530Z
LOCATION:52U109 SR
END:VEVENT
BEGIN:VEVENT
UID:16W_613408_2773740@uibk.ac.at
ORGANIZER;CN="LFU:online Universität Innsbruck":MAILTO:Uni-Innsbruck-noreply@uibk.ac.at
SUMMARY:Grundkurs Russisch I, Gr. b (LV 613408-0 16W)
DESCRIPTION:Lehrveranstaltung 613408 16W, Gruppe 0\nTitel: Grundkurs Russisch I, Gr. b\nOrt: SR  1 Transl.\n\nhttps://lfuonline.uibk.ac.at/public/lfuonline_lv.details?sem_id_in=16W&lvnr_id_in=613408\n
CLASS:PUBLIC
DTSTART:20170131T180000Z
DTEND:20170131T193000Z
DTSTAMP:20260420T164530Z
LOCATION:SR  1 Transl.
END:VEVENT
END:VCALENDAR