BEGIN:VCALENDAR
VERSION:2.0
PRODID:-//Universität Innsbruck//LFU:online//DE
METHOD:PUBLISH
BEGIN:VEVENT
UID:25W_613900_4916484@uibk.ac.at
ORGANIZER;CN="LFU:online Universität Innsbruck":MAILTO:Uni-Innsbruck-noreply@uibk.ac.at
SUMMARY:SE Wissenschaftliche Grundlagen/Kernkompetenzen zum Dissertationsthema (LV 613900-0 25W)
DESCRIPTION:Lehrveranstaltung 613900 25W, Gruppe 0\nTitel: SE Wissenschaftliche Grundlagen/Kernkompetenzen zum Dissertationsthema\nOrt: 60408 SR\n\nhttps://lfuonline.uibk.ac.at/public/lfuonline_lv.details?sem_id_in=25W&lvnr_id_in=613900\n
CLASS:PUBLIC
DTSTART:20251001T081500Z
DTEND:20251001T094500Z
DTSTAMP:20260425T233313Z
LOCATION:60408 SR
END:VEVENT
BEGIN:VEVENT
UID:25W_613900_4916485@uibk.ac.at
ORGANIZER;CN="LFU:online Universität Innsbruck":MAILTO:Uni-Innsbruck-noreply@uibk.ac.at
SUMMARY:SE Wissenschaftliche Grundlagen/Kernkompetenzen zum Dissertationsthema (LV 613900-0 25W)
DESCRIPTION:Lehrveranstaltung 613900 25W, Gruppe 0\nTitel: SE Wissenschaftliche Grundlagen/Kernkompetenzen zum Dissertationsthema\nOrt: 60408 SR\n\nhttps://lfuonline.uibk.ac.at/public/lfuonline_lv.details?sem_id_in=25W&lvnr_id_in=613900\n
CLASS:PUBLIC
DTSTART:20251008T081500Z
DTEND:20251008T094500Z
DTSTAMP:20260425T233313Z
LOCATION:60408 SR
END:VEVENT
BEGIN:VEVENT
UID:25W_613900_4916486@uibk.ac.at
ORGANIZER;CN="LFU:online Universität Innsbruck":MAILTO:Uni-Innsbruck-noreply@uibk.ac.at
SUMMARY:SE Wissenschaftliche Grundlagen/Kernkompetenzen zum Dissertationsthema (LV 613900-0 25W)
DESCRIPTION:Lehrveranstaltung 613900 25W, Gruppe 0\nTitel: SE Wissenschaftliche Grundlagen/Kernkompetenzen zum Dissertationsthema\nOrt: 60408 SR\n\nhttps://lfuonline.uibk.ac.at/public/lfuonline_lv.details?sem_id_in=25W&lvnr_id_in=613900\n
CLASS:PUBLIC
DTSTART:20251015T081500Z
DTEND:20251015T094500Z
DTSTAMP:20260425T233313Z
LOCATION:60408 SR
END:VEVENT
BEGIN:VEVENT
UID:25W_613900_4916487@uibk.ac.at
ORGANIZER;CN="LFU:online Universität Innsbruck":MAILTO:Uni-Innsbruck-noreply@uibk.ac.at
SUMMARY:SE Wissenschaftliche Grundlagen/Kernkompetenzen zum Dissertationsthema (LV 613900-0 25W)
DESCRIPTION:Lehrveranstaltung 613900 25W, Gruppe 0\nTitel: SE Wissenschaftliche Grundlagen/Kernkompetenzen zum Dissertationsthema\nOrt: 60408 SR\n\nhttps://lfuonline.uibk.ac.at/public/lfuonline_lv.details?sem_id_in=25W&lvnr_id_in=613900\n
CLASS:PUBLIC
DTSTART:20251022T081500Z
DTEND:20251022T094500Z
DTSTAMP:20260425T233313Z
LOCATION:60408 SR
END:VEVENT
BEGIN:VEVENT
UID:25W_613900_4916488@uibk.ac.at
ORGANIZER;CN="LFU:online Universität Innsbruck":MAILTO:Uni-Innsbruck-noreply@uibk.ac.at
SUMMARY:SE Wissenschaftliche Grundlagen/Kernkompetenzen zum Dissertationsthema (LV 613900-0 25W)
DESCRIPTION:Lehrveranstaltung 613900 25W, Gruppe 0\nTitel: SE Wissenschaftliche Grundlagen/Kernkompetenzen zum Dissertationsthema\nOrt: 60408 SR\n\nhttps://lfuonline.uibk.ac.at/public/lfuonline_lv.details?sem_id_in=25W&lvnr_id_in=613900\n
CLASS:PUBLIC
DTSTART:20251029T091500Z
DTEND:20251029T104500Z
DTSTAMP:20260425T233313Z
LOCATION:60408 SR
END:VEVENT
BEGIN:VEVENT
UID:25W_613900_4916489@uibk.ac.at
ORGANIZER;CN="LFU:online Universität Innsbruck":MAILTO:Uni-Innsbruck-noreply@uibk.ac.at
SUMMARY:SE Wissenschaftliche Grundlagen/Kernkompetenzen zum Dissertationsthema (LV 613900-0 25W)
DESCRIPTION:Lehrveranstaltung 613900 25W, Gruppe 0\nTitel: SE Wissenschaftliche Grundlagen/Kernkompetenzen zum Dissertationsthema\nOrt: 60408 SR\n\nhttps://lfuonline.uibk.ac.at/public/lfuonline_lv.details?sem_id_in=25W&lvnr_id_in=613900\n
CLASS:PUBLIC
DTSTART:20251105T080000Z
DTEND:20251105T104500Z
DTSTAMP:20260425T233313Z
LOCATION:60408 SR
END:VEVENT
BEGIN:VEVENT
UID:25W_613900_4916490@uibk.ac.at
ORGANIZER;CN="LFU:online Universität Innsbruck":MAILTO:Uni-Innsbruck-noreply@uibk.ac.at
SUMMARY:ABGESAGT: SE Wissenschaftliche Grundlagen/Kernkompetenzen zum Dissertationsthema (LV 613900-0 25W)
DESCRIPTION:Lehrveranstaltung 613900 25W, Gruppe 0\nTitel: SE Wissenschaftliche Grundlagen/Kernkompetenzen zum Dissertationsthema\nOrt: 60408 SR\n\nhttps://lfuonline.uibk.ac.at/public/lfuonline_lv.details?sem_id_in=25W&lvnr_id_in=613900\n
CLASS:PUBLIC
DTSTART:20251112T091500Z
DTEND:20251112T104500Z
DTSTAMP:20260425T233313Z
LOCATION:60408 SR
END:VEVENT
BEGIN:VEVENT
UID:25W_613900_4916491@uibk.ac.at
ORGANIZER;CN="LFU:online Universität Innsbruck":MAILTO:Uni-Innsbruck-noreply@uibk.ac.at
SUMMARY:SE Wissenschaftliche Grundlagen/Kernkompetenzen zum Dissertationsthema (LV 613900-0 25W)
DESCRIPTION:Lehrveranstaltung 613900 25W, Gruppe 0\nTitel: SE Wissenschaftliche Grundlagen/Kernkompetenzen zum Dissertationsthema\nOrt: 60408 SR\n\nhttps://lfuonline.uibk.ac.at/public/lfuonline_lv.details?sem_id_in=25W&lvnr_id_in=613900\n
CLASS:PUBLIC
DTSTART:20251119T091500Z
DTEND:20251119T104500Z
DTSTAMP:20260425T233313Z
LOCATION:60408 SR
END:VEVENT
BEGIN:VEVENT
UID:25W_613900_4916492@uibk.ac.at
ORGANIZER;CN="LFU:online Universität Innsbruck":MAILTO:Uni-Innsbruck-noreply@uibk.ac.at
SUMMARY:SE Wissenschaftliche Grundlagen/Kernkompetenzen zum Dissertationsthema (LV 613900-0 25W)
DESCRIPTION:Lehrveranstaltung 613900 25W, Gruppe 0\nTitel: SE Wissenschaftliche Grundlagen/Kernkompetenzen zum Dissertationsthema\nOrt: 60408 SR\n\nhttps://lfuonline.uibk.ac.at/public/lfuonline_lv.details?sem_id_in=25W&lvnr_id_in=613900\n
CLASS:PUBLIC
DTSTART:20251126T091500Z
DTEND:20251126T104500Z
DTSTAMP:20260425T233313Z
LOCATION:60408 SR
END:VEVENT
BEGIN:VEVENT
UID:25W_613900_4916493@uibk.ac.at
ORGANIZER;CN="LFU:online Universität Innsbruck":MAILTO:Uni-Innsbruck-noreply@uibk.ac.at
SUMMARY:SE Wissenschaftliche Grundlagen/Kernkompetenzen zum Dissertationsthema (LV 613900-0 25W)
DESCRIPTION:Lehrveranstaltung 613900 25W, Gruppe 0\nTitel: SE Wissenschaftliche Grundlagen/Kernkompetenzen zum Dissertationsthema\nOrt: 60408 SR\n\nhttps://lfuonline.uibk.ac.at/public/lfuonline_lv.details?sem_id_in=25W&lvnr_id_in=613900\n
CLASS:PUBLIC
DTSTART:20251203T091500Z
DTEND:20251203T104500Z
DTSTAMP:20260425T233313Z
LOCATION:60408 SR
END:VEVENT
BEGIN:VEVENT
UID:25W_613900_4978888@uibk.ac.at
ORGANIZER;CN="LFU:online Universität Innsbruck":MAILTO:Uni-Innsbruck-noreply@uibk.ac.at
SUMMARY:SE Wissenschaftliche Grundlagen/Kernkompetenzen zum Dissertationsthema (LV 613900-0 25W)
DESCRIPTION:Lehrveranstaltung 613900 25W, Gruppe 0\nTitel: SE Wissenschaftliche Grundlagen/Kernkompetenzen zum Dissertationsthema\nOrt: SR  7 Transl.\n\nhttps://lfuonline.uibk.ac.at/public/lfuonline_lv.details?sem_id_in=25W&lvnr_id_in=613900\n
CLASS:PUBLIC
DTSTART:20251209T143000Z
DTEND:20251209T160000Z
DTSTAMP:20260425T233313Z
LOCATION:SR  7 Transl.
COMMENT:Ersatztermin für 12.11.2025
END:VEVENT
BEGIN:VEVENT
UID:25W_613900_4916494@uibk.ac.at
ORGANIZER;CN="LFU:online Universität Innsbruck":MAILTO:Uni-Innsbruck-noreply@uibk.ac.at
SUMMARY:SE Wissenschaftliche Grundlagen/Kernkompetenzen zum Dissertationsthema (LV 613900-0 25W)
DESCRIPTION:Lehrveranstaltung 613900 25W, Gruppe 0\nTitel: SE Wissenschaftliche Grundlagen/Kernkompetenzen zum Dissertationsthema\nOrt: 60408 SR\n\nhttps://lfuonline.uibk.ac.at/public/lfuonline_lv.details?sem_id_in=25W&lvnr_id_in=613900\n
CLASS:PUBLIC
DTSTART:20251210T091500Z
DTEND:20251210T104500Z
DTSTAMP:20260425T233313Z
LOCATION:60408 SR
END:VEVENT
BEGIN:VEVENT
UID:25W_613900_4916495@uibk.ac.at
ORGANIZER;CN="LFU:online Universität Innsbruck":MAILTO:Uni-Innsbruck-noreply@uibk.ac.at
SUMMARY:SE Wissenschaftliche Grundlagen/Kernkompetenzen zum Dissertationsthema (LV 613900-0 25W)
DESCRIPTION:Lehrveranstaltung 613900 25W, Gruppe 0\nTitel: SE Wissenschaftliche Grundlagen/Kernkompetenzen zum Dissertationsthema\nOrt: 60408 SR\n\nhttps://lfuonline.uibk.ac.at/public/lfuonline_lv.details?sem_id_in=25W&lvnr_id_in=613900\n
CLASS:PUBLIC
DTSTART:20260107T091500Z
DTEND:20260107T104500Z
DTSTAMP:20260425T233313Z
LOCATION:60408 SR
END:VEVENT
BEGIN:VEVENT
UID:25W_613900_4916496@uibk.ac.at
ORGANIZER;CN="LFU:online Universität Innsbruck":MAILTO:Uni-Innsbruck-noreply@uibk.ac.at
SUMMARY:SE Wissenschaftliche Grundlagen/Kernkompetenzen zum Dissertationsthema (LV 613900-0 25W)
DESCRIPTION:Lehrveranstaltung 613900 25W, Gruppe 0\nTitel: SE Wissenschaftliche Grundlagen/Kernkompetenzen zum Dissertationsthema\nOrt: 60408 SR\n\nhttps://lfuonline.uibk.ac.at/public/lfuonline_lv.details?sem_id_in=25W&lvnr_id_in=613900\n
CLASS:PUBLIC
DTSTART:20260114T091500Z
DTEND:20260114T104500Z
DTSTAMP:20260425T233313Z
LOCATION:60408 SR
END:VEVENT
BEGIN:VEVENT
UID:25W_613900_4916497@uibk.ac.at
ORGANIZER;CN="LFU:online Universität Innsbruck":MAILTO:Uni-Innsbruck-noreply@uibk.ac.at
SUMMARY:SE Wissenschaftliche Grundlagen/Kernkompetenzen zum Dissertationsthema (LV 613900-0 25W)
DESCRIPTION:Lehrveranstaltung 613900 25W, Gruppe 0\nTitel: SE Wissenschaftliche Grundlagen/Kernkompetenzen zum Dissertationsthema\nOrt: 60408 SR\n\nhttps://lfuonline.uibk.ac.at/public/lfuonline_lv.details?sem_id_in=25W&lvnr_id_in=613900\n
CLASS:PUBLIC
DTSTART:20260121T091500Z
DTEND:20260121T104500Z
DTSTAMP:20260425T233313Z
LOCATION:60408 SR
END:VEVENT
BEGIN:VEVENT
UID:25W_613900_4916498@uibk.ac.at
ORGANIZER;CN="LFU:online Universität Innsbruck":MAILTO:Uni-Innsbruck-noreply@uibk.ac.at
SUMMARY:SE Wissenschaftliche Grundlagen/Kernkompetenzen zum Dissertationsthema (LV 613900-0 25W)
DESCRIPTION:Lehrveranstaltung 613900 25W, Gruppe 0\nTitel: SE Wissenschaftliche Grundlagen/Kernkompetenzen zum Dissertationsthema\nOrt: 60408 SR\n\nhttps://lfuonline.uibk.ac.at/public/lfuonline_lv.details?sem_id_in=25W&lvnr_id_in=613900\n
CLASS:PUBLIC
DTSTART:20260128T091500Z
DTEND:20260128T104500Z
DTSTAMP:20260425T233313Z
LOCATION:60408 SR
END:VEVENT
END:VCALENDAR