BEGIN:VCALENDAR
VERSION:2.0
PRODID:-//Universität Innsbruck//LFU:online//DE
METHOD:PUBLISH
BEGIN:VEVENT
UID:13W_618003_2112245@uibk.ac.at
ORGANIZER;CN="LFU:online Universität Innsbruck":MAILTO:Uni-Innsbruck-noreply@uibk.ac.at
SUMMARY:Kunstgattungen IV: Hauptwerke der Architektur des 20. Jahrhunderts (LV 618003-0 13W)
DESCRIPTION:Lehrveranstaltung 618003 13W, Gruppe 0\nTitel: Kunstgattungen IV: Hauptwerke der Architektur des 20. Jahrhunderts\nOrt: 41031 UR\n\nhttps://lfuonline.uibk.ac.at/public/lfuonline_lv.details?sem_id_in=13W&lvnr_id_in=618003\n
CLASS:PUBLIC
DTSTART:20131015T123000Z
DTEND:20131015T140000Z
DTSTAMP:20260419T123858Z
LOCATION:41031 UR
END:VEVENT
BEGIN:VEVENT
UID:13W_618003_2112246@uibk.ac.at
ORGANIZER;CN="LFU:online Universität Innsbruck":MAILTO:Uni-Innsbruck-noreply@uibk.ac.at
SUMMARY:Kunstgattungen IV: Hauptwerke der Architektur des 20. Jahrhunderts (LV 618003-0 13W)
DESCRIPTION:Lehrveranstaltung 618003 13W, Gruppe 0\nTitel: Kunstgattungen IV: Hauptwerke der Architektur des 20. Jahrhunderts\nOrt: 41031 UR\n\nhttps://lfuonline.uibk.ac.at/public/lfuonline_lv.details?sem_id_in=13W&lvnr_id_in=618003\n
CLASS:PUBLIC
DTSTART:20131022T123000Z
DTEND:20131022T140000Z
DTSTAMP:20260419T123858Z
LOCATION:41031 UR
END:VEVENT
BEGIN:VEVENT
UID:13W_618003_2112247@uibk.ac.at
ORGANIZER;CN="LFU:online Universität Innsbruck":MAILTO:Uni-Innsbruck-noreply@uibk.ac.at
SUMMARY:Kunstgattungen IV: Hauptwerke der Architektur des 20. Jahrhunderts (LV 618003-0 13W)
DESCRIPTION:Lehrveranstaltung 618003 13W, Gruppe 0\nTitel: Kunstgattungen IV: Hauptwerke der Architektur des 20. Jahrhunderts\nOrt: 41031 UR\n\nhttps://lfuonline.uibk.ac.at/public/lfuonline_lv.details?sem_id_in=13W&lvnr_id_in=618003\n
CLASS:PUBLIC
DTSTART:20131029T133000Z
DTEND:20131029T150000Z
DTSTAMP:20260419T123858Z
LOCATION:41031 UR
END:VEVENT
BEGIN:VEVENT
UID:13W_618003_2112248@uibk.ac.at
ORGANIZER;CN="LFU:online Universität Innsbruck":MAILTO:Uni-Innsbruck-noreply@uibk.ac.at
SUMMARY:Kunstgattungen IV: Hauptwerke der Architektur des 20. Jahrhunderts (LV 618003-0 13W)
DESCRIPTION:Lehrveranstaltung 618003 13W, Gruppe 0\nTitel: Kunstgattungen IV: Hauptwerke der Architektur des 20. Jahrhunderts\nOrt: 41031 UR\n\nhttps://lfuonline.uibk.ac.at/public/lfuonline_lv.details?sem_id_in=13W&lvnr_id_in=618003\n
CLASS:PUBLIC
DTSTART:20131105T133000Z
DTEND:20131105T150000Z
DTSTAMP:20260419T123858Z
LOCATION:41031 UR
END:VEVENT
BEGIN:VEVENT
UID:13W_618003_2112249@uibk.ac.at
ORGANIZER;CN="LFU:online Universität Innsbruck":MAILTO:Uni-Innsbruck-noreply@uibk.ac.at
SUMMARY:Kunstgattungen IV: Hauptwerke der Architektur des 20. Jahrhunderts (LV 618003-0 13W)
DESCRIPTION:Lehrveranstaltung 618003 13W, Gruppe 0\nTitel: Kunstgattungen IV: Hauptwerke der Architektur des 20. Jahrhunderts\nOrt: 41031 UR\n\nhttps://lfuonline.uibk.ac.at/public/lfuonline_lv.details?sem_id_in=13W&lvnr_id_in=618003\n
CLASS:PUBLIC
DTSTART:20131112T133000Z
DTEND:20131112T150000Z
DTSTAMP:20260419T123858Z
LOCATION:41031 UR
END:VEVENT
BEGIN:VEVENT
UID:13W_618003_2112250@uibk.ac.at
ORGANIZER;CN="LFU:online Universität Innsbruck":MAILTO:Uni-Innsbruck-noreply@uibk.ac.at
SUMMARY:Kunstgattungen IV: Hauptwerke der Architektur des 20. Jahrhunderts (LV 618003-0 13W)
DESCRIPTION:Lehrveranstaltung 618003 13W, Gruppe 0\nTitel: Kunstgattungen IV: Hauptwerke der Architektur des 20. Jahrhunderts\nOrt: 41031 UR\n\nhttps://lfuonline.uibk.ac.at/public/lfuonline_lv.details?sem_id_in=13W&lvnr_id_in=618003\n
CLASS:PUBLIC
DTSTART:20131119T133000Z
DTEND:20131119T150000Z
DTSTAMP:20260419T123858Z
LOCATION:41031 UR
END:VEVENT
BEGIN:VEVENT
UID:13W_618003_2112251@uibk.ac.at
ORGANIZER;CN="LFU:online Universität Innsbruck":MAILTO:Uni-Innsbruck-noreply@uibk.ac.at
SUMMARY:Kunstgattungen IV: Hauptwerke der Architektur des 20. Jahrhunderts (LV 618003-0 13W)
DESCRIPTION:Lehrveranstaltung 618003 13W, Gruppe 0\nTitel: Kunstgattungen IV: Hauptwerke der Architektur des 20. Jahrhunderts\nOrt: 41031 UR\n\nhttps://lfuonline.uibk.ac.at/public/lfuonline_lv.details?sem_id_in=13W&lvnr_id_in=618003\n
CLASS:PUBLIC
DTSTART:20131126T133000Z
DTEND:20131126T150000Z
DTSTAMP:20260419T123858Z
LOCATION:41031 UR
END:VEVENT
BEGIN:VEVENT
UID:13W_618003_2112252@uibk.ac.at
ORGANIZER;CN="LFU:online Universität Innsbruck":MAILTO:Uni-Innsbruck-noreply@uibk.ac.at
SUMMARY:Kunstgattungen IV: Hauptwerke der Architektur des 20. Jahrhunderts (LV 618003-0 13W)
DESCRIPTION:Lehrveranstaltung 618003 13W, Gruppe 0\nTitel: Kunstgattungen IV: Hauptwerke der Architektur des 20. Jahrhunderts\nOrt: 41031 UR\n\nhttps://lfuonline.uibk.ac.at/public/lfuonline_lv.details?sem_id_in=13W&lvnr_id_in=618003\n
CLASS:PUBLIC
DTSTART:20131203T133000Z
DTEND:20131203T150000Z
DTSTAMP:20260419T123858Z
LOCATION:41031 UR
END:VEVENT
BEGIN:VEVENT
UID:13W_618003_2112253@uibk.ac.at
ORGANIZER;CN="LFU:online Universität Innsbruck":MAILTO:Uni-Innsbruck-noreply@uibk.ac.at
SUMMARY:Kunstgattungen IV: Hauptwerke der Architektur des 20. Jahrhunderts (LV 618003-0 13W)
DESCRIPTION:Lehrveranstaltung 618003 13W, Gruppe 0\nTitel: Kunstgattungen IV: Hauptwerke der Architektur des 20. Jahrhunderts\nOrt: 41031 UR\n\nhttps://lfuonline.uibk.ac.at/public/lfuonline_lv.details?sem_id_in=13W&lvnr_id_in=618003\n
CLASS:PUBLIC
DTSTART:20131210T133000Z
DTEND:20131210T150000Z
DTSTAMP:20260419T123858Z
LOCATION:41031 UR
END:VEVENT
BEGIN:VEVENT
UID:13W_618003_2112254@uibk.ac.at
ORGANIZER;CN="LFU:online Universität Innsbruck":MAILTO:Uni-Innsbruck-noreply@uibk.ac.at
SUMMARY:Kunstgattungen IV: Hauptwerke der Architektur des 20. Jahrhunderts (LV 618003-0 13W)
DESCRIPTION:Lehrveranstaltung 618003 13W, Gruppe 0\nTitel: Kunstgattungen IV: Hauptwerke der Architektur des 20. Jahrhunderts\nOrt: 41031 UR\n\nhttps://lfuonline.uibk.ac.at/public/lfuonline_lv.details?sem_id_in=13W&lvnr_id_in=618003\n
CLASS:PUBLIC
DTSTART:20140107T133000Z
DTEND:20140107T150000Z
DTSTAMP:20260419T123858Z
LOCATION:41031 UR
END:VEVENT
BEGIN:VEVENT
UID:13W_618003_2112255@uibk.ac.at
ORGANIZER;CN="LFU:online Universität Innsbruck":MAILTO:Uni-Innsbruck-noreply@uibk.ac.at
SUMMARY:Kunstgattungen IV: Hauptwerke der Architektur des 20. Jahrhunderts (LV 618003-0 13W)
DESCRIPTION:Lehrveranstaltung 618003 13W, Gruppe 0\nTitel: Kunstgattungen IV: Hauptwerke der Architektur des 20. Jahrhunderts\nOrt: 41031 UR\n\nhttps://lfuonline.uibk.ac.at/public/lfuonline_lv.details?sem_id_in=13W&lvnr_id_in=618003\n
CLASS:PUBLIC
DTSTART:20140114T133000Z
DTEND:20140114T150000Z
DTSTAMP:20260419T123858Z
LOCATION:41031 UR
END:VEVENT
BEGIN:VEVENT
UID:13W_618003_2112256@uibk.ac.at
ORGANIZER;CN="LFU:online Universität Innsbruck":MAILTO:Uni-Innsbruck-noreply@uibk.ac.at
SUMMARY:Kunstgattungen IV: Hauptwerke der Architektur des 20. Jahrhunderts (LV 618003-0 13W)
DESCRIPTION:Lehrveranstaltung 618003 13W, Gruppe 0\nTitel: Kunstgattungen IV: Hauptwerke der Architektur des 20. Jahrhunderts\nOrt: 41031 UR\n\nhttps://lfuonline.uibk.ac.at/public/lfuonline_lv.details?sem_id_in=13W&lvnr_id_in=618003\n
CLASS:PUBLIC
DTSTART:20140121T133000Z
DTEND:20140121T150000Z
DTSTAMP:20260419T123858Z
LOCATION:41031 UR
END:VEVENT
BEGIN:VEVENT
UID:13W_618003_2112257@uibk.ac.at
ORGANIZER;CN="LFU:online Universität Innsbruck":MAILTO:Uni-Innsbruck-noreply@uibk.ac.at
SUMMARY:Kunstgattungen IV: Hauptwerke der Architektur des 20. Jahrhunderts (LV 618003-0 13W)
DESCRIPTION:Lehrveranstaltung 618003 13W, Gruppe 0\nTitel: Kunstgattungen IV: Hauptwerke der Architektur des 20. Jahrhunderts\nOrt: 41031 UR\n\nhttps://lfuonline.uibk.ac.at/public/lfuonline_lv.details?sem_id_in=13W&lvnr_id_in=618003\n
CLASS:PUBLIC
DTSTART:20140128T133000Z
DTEND:20140128T150000Z
DTSTAMP:20260419T123858Z
LOCATION:41031 UR
END:VEVENT
END:VCALENDAR