BEGIN:VCALENDAR
VERSION:2.0
PRODID:-//Universität Innsbruck//LFU:online//DE
METHOD:PUBLISH
BEGIN:VEVENT
UID:20S_619002_3555264@uibk.ac.at
ORGANIZER;CN="LFU:online Universität Innsbruck":MAILTO:Uni-Innsbruck-noreply@uibk.ac.at
SUMMARY:VU Grundkenntnisse I (LV 619002-0 20S)
DESCRIPTION:Lehrveranstaltung 619002 20S, Gruppe 0\nTitel: VU Grundkenntnisse I\nOrt: Seminarraum Haus der Musik LFUI - 04.06.46\n\nhttps://lfuonline.uibk.ac.at/public/lfuonline_lv.details?sem_id_in=20S&lvnr_id_in=619002\n
CLASS:PUBLIC
DTSTART:20200304T103000Z
DTEND:20200304T110000Z
DTSTAMP:20260419T181131Z
LOCATION:Seminarraum Haus der Musik LFUI - 04.06.46
COMMENT:Vorbesprechung
END:VEVENT
END:VCALENDAR