BEGIN:VCALENDAR
VERSION:2.0
PRODID:-//Universität Innsbruck//LFU:online//DE
METHOD:PUBLISH
BEGIN:VEVENT
UID:19S_619023_3346583@uibk.ac.at
ORGANIZER;CN="LFU:online Universität Innsbruck":MAILTO:Uni-Innsbruck-noreply@uibk.ac.at
SUMMARY:Entwicklungsgeschichte der Popularmusik: Critical Study of Popular Music (LV 619023-0 19S)
DESCRIPTION:Lehrveranstaltung 619023 19S, Gruppe 0\nTitel: Entwicklungsgeschichte der Popularmusik: Critical Study of Popular Music\nOrt: Seminarraum Haus der Musik MOZ/LFUI - 04.07.10\n\nhttps://lfuonline.uibk.ac.at/public/lfuonline_lv.details?sem_id_in=19S&lvnr_id_in=619023\n
CLASS:PUBLIC
DTSTART:20190506T113000Z
DTEND:20190506T140000Z
DTSTAMP:20260421T055907Z
LOCATION:Seminarraum Haus der Musik MOZ/LFUI - 04.07.10
END:VEVENT
BEGIN:VEVENT
UID:19S_619023_3346591@uibk.ac.at
ORGANIZER;CN="LFU:online Universität Innsbruck":MAILTO:Uni-Innsbruck-noreply@uibk.ac.at
SUMMARY:Entwicklungsgeschichte der Popularmusik: Critical Study of Popular Music (LV 619023-0 19S)
DESCRIPTION:Lehrveranstaltung 619023 19S, Gruppe 0\nTitel: Entwicklungsgeschichte der Popularmusik: Critical Study of Popular Music\nOrt: Seminarraum Haus der Musik MOZ/LFUI - 04.07.10\n\nhttps://lfuonline.uibk.ac.at/public/lfuonline_lv.details?sem_id_in=19S&lvnr_id_in=619023\n
CLASS:PUBLIC
DTSTART:20190507T113000Z
DTEND:20190507T140000Z
DTSTAMP:20260421T055907Z
LOCATION:Seminarraum Haus der Musik MOZ/LFUI - 04.07.10
END:VEVENT
BEGIN:VEVENT
UID:19S_619023_3346584@uibk.ac.at
ORGANIZER;CN="LFU:online Universität Innsbruck":MAILTO:Uni-Innsbruck-noreply@uibk.ac.at
SUMMARY:Entwicklungsgeschichte der Popularmusik: Critical Study of Popular Music (LV 619023-0 19S)
DESCRIPTION:Lehrveranstaltung 619023 19S, Gruppe 0\nTitel: Entwicklungsgeschichte der Popularmusik: Critical Study of Popular Music\nOrt: Seminarraum Haus der Musik MOZ/LFUI - 04.07.10\n\nhttps://lfuonline.uibk.ac.at/public/lfuonline_lv.details?sem_id_in=19S&lvnr_id_in=619023\n
CLASS:PUBLIC
DTSTART:20190513T113000Z
DTEND:20190513T140000Z
DTSTAMP:20260421T055907Z
LOCATION:Seminarraum Haus der Musik MOZ/LFUI - 04.07.10
END:VEVENT
BEGIN:VEVENT
UID:19S_619023_3346592@uibk.ac.at
ORGANIZER;CN="LFU:online Universität Innsbruck":MAILTO:Uni-Innsbruck-noreply@uibk.ac.at
SUMMARY:Entwicklungsgeschichte der Popularmusik: Critical Study of Popular Music (LV 619023-0 19S)
DESCRIPTION:Lehrveranstaltung 619023 19S, Gruppe 0\nTitel: Entwicklungsgeschichte der Popularmusik: Critical Study of Popular Music\nOrt: Seminarraum Haus der Musik MOZ/LFUI - 04.07.10\n\nhttps://lfuonline.uibk.ac.at/public/lfuonline_lv.details?sem_id_in=19S&lvnr_id_in=619023\n
CLASS:PUBLIC
DTSTART:20190514T113000Z
DTEND:20190514T140000Z
DTSTAMP:20260421T055907Z
LOCATION:Seminarraum Haus der Musik MOZ/LFUI - 04.07.10
END:VEVENT
BEGIN:VEVENT
UID:19S_619023_3346585@uibk.ac.at
ORGANIZER;CN="LFU:online Universität Innsbruck":MAILTO:Uni-Innsbruck-noreply@uibk.ac.at
SUMMARY:Entwicklungsgeschichte der Popularmusik: Critical Study of Popular Music (LV 619023-0 19S)
DESCRIPTION:Lehrveranstaltung 619023 19S, Gruppe 0\nTitel: Entwicklungsgeschichte der Popularmusik: Critical Study of Popular Music\nOrt: Seminarraum Haus der Musik MOZ/LFUI - 04.07.10\n\nhttps://lfuonline.uibk.ac.at/public/lfuonline_lv.details?sem_id_in=19S&lvnr_id_in=619023\n
CLASS:PUBLIC
DTSTART:20190520T113000Z
DTEND:20190520T140000Z
DTSTAMP:20260421T055907Z
LOCATION:Seminarraum Haus der Musik MOZ/LFUI - 04.07.10
END:VEVENT
BEGIN:VEVENT
UID:19S_619023_3346593@uibk.ac.at
ORGANIZER;CN="LFU:online Universität Innsbruck":MAILTO:Uni-Innsbruck-noreply@uibk.ac.at
SUMMARY:Entwicklungsgeschichte der Popularmusik: Critical Study of Popular Music (LV 619023-0 19S)
DESCRIPTION:Lehrveranstaltung 619023 19S, Gruppe 0\nTitel: Entwicklungsgeschichte der Popularmusik: Critical Study of Popular Music\nOrt: Seminarraum Haus der Musik MOZ/LFUI - 04.07.10\n\nhttps://lfuonline.uibk.ac.at/public/lfuonline_lv.details?sem_id_in=19S&lvnr_id_in=619023\n
CLASS:PUBLIC
DTSTART:20190521T113000Z
DTEND:20190521T140000Z
DTSTAMP:20260421T055907Z
LOCATION:Seminarraum Haus der Musik MOZ/LFUI - 04.07.10
END:VEVENT
BEGIN:VEVENT
UID:19S_619023_3346586@uibk.ac.at
ORGANIZER;CN="LFU:online Universität Innsbruck":MAILTO:Uni-Innsbruck-noreply@uibk.ac.at
SUMMARY:Entwicklungsgeschichte der Popularmusik: Critical Study of Popular Music (LV 619023-0 19S)
DESCRIPTION:Lehrveranstaltung 619023 19S, Gruppe 0\nTitel: Entwicklungsgeschichte der Popularmusik: Critical Study of Popular Music\nOrt: Seminarraum Haus der Musik MOZ/LFUI - 04.07.10\n\nhttps://lfuonline.uibk.ac.at/public/lfuonline_lv.details?sem_id_in=19S&lvnr_id_in=619023\n
CLASS:PUBLIC
DTSTART:20190527T113000Z
DTEND:20190527T140000Z
DTSTAMP:20260421T055907Z
LOCATION:Seminarraum Haus der Musik MOZ/LFUI - 04.07.10
END:VEVENT
BEGIN:VEVENT
UID:19S_619023_3346594@uibk.ac.at
ORGANIZER;CN="LFU:online Universität Innsbruck":MAILTO:Uni-Innsbruck-noreply@uibk.ac.at
SUMMARY:Entwicklungsgeschichte der Popularmusik: Critical Study of Popular Music (LV 619023-0 19S)
DESCRIPTION:Lehrveranstaltung 619023 19S, Gruppe 0\nTitel: Entwicklungsgeschichte der Popularmusik: Critical Study of Popular Music\nOrt: Seminarraum Haus der Musik MOZ/LFUI - 04.07.10\n\nhttps://lfuonline.uibk.ac.at/public/lfuonline_lv.details?sem_id_in=19S&lvnr_id_in=619023\n
CLASS:PUBLIC
DTSTART:20190528T113000Z
DTEND:20190528T140000Z
DTSTAMP:20260421T055907Z
LOCATION:Seminarraum Haus der Musik MOZ/LFUI - 04.07.10
END:VEVENT
END:VCALENDAR