BEGIN:VCALENDAR
VERSION:2.0
PRODID:-//Universität Innsbruck//LFU:online//DE
METHOD:PUBLISH
BEGIN:VEVENT
UID:17W_621001_3015771@uibk.ac.at
ORGANIZER;CN="LFU:online Universität Innsbruck":MAILTO:Uni-Innsbruck-noreply@uibk.ac.at
SUMMARY:Sportpädagogik (LV 621001-0 17W)
DESCRIPTION:Lehrveranstaltung 621001 17W, Gruppe 0\nTitel: Sportpädagogik\nOrt: S01\n\nhttps://lfuonline.uibk.ac.at/public/lfuonline_lv.details?sem_id_in=17W&lvnr_id_in=621001\n
CLASS:PUBLIC
DTSTART:20171002T144500Z
DTEND:20171002T161500Z
DTSTAMP:20260423T031258Z
LOCATION:S01
END:VEVENT
BEGIN:VEVENT
UID:17W_621001_3015772@uibk.ac.at
ORGANIZER;CN="LFU:online Universität Innsbruck":MAILTO:Uni-Innsbruck-noreply@uibk.ac.at
SUMMARY:Sportpädagogik (LV 621001-0 17W)
DESCRIPTION:Lehrveranstaltung 621001 17W, Gruppe 0\nTitel: Sportpädagogik\nOrt: S01\n\nhttps://lfuonline.uibk.ac.at/public/lfuonline_lv.details?sem_id_in=17W&lvnr_id_in=621001\n
CLASS:PUBLIC
DTSTART:20171009T144500Z
DTEND:20171009T161500Z
DTSTAMP:20260423T031258Z
LOCATION:S01
END:VEVENT
BEGIN:VEVENT
UID:17W_621001_3015773@uibk.ac.at
ORGANIZER;CN="LFU:online Universität Innsbruck":MAILTO:Uni-Innsbruck-noreply@uibk.ac.at
SUMMARY:Sportpädagogik (LV 621001-0 17W)
DESCRIPTION:Lehrveranstaltung 621001 17W, Gruppe 0\nTitel: Sportpädagogik\nOrt: S01\n\nhttps://lfuonline.uibk.ac.at/public/lfuonline_lv.details?sem_id_in=17W&lvnr_id_in=621001\n
CLASS:PUBLIC
DTSTART:20171016T144500Z
DTEND:20171016T161500Z
DTSTAMP:20260423T031258Z
LOCATION:S01
END:VEVENT
BEGIN:VEVENT
UID:17W_621001_3015774@uibk.ac.at
ORGANIZER;CN="LFU:online Universität Innsbruck":MAILTO:Uni-Innsbruck-noreply@uibk.ac.at
SUMMARY:Sportpädagogik (LV 621001-0 17W)
DESCRIPTION:Lehrveranstaltung 621001 17W, Gruppe 0\nTitel: Sportpädagogik\nOrt: S01\n\nhttps://lfuonline.uibk.ac.at/public/lfuonline_lv.details?sem_id_in=17W&lvnr_id_in=621001\n
CLASS:PUBLIC
DTSTART:20171023T144500Z
DTEND:20171023T161500Z
DTSTAMP:20260423T031258Z
LOCATION:S01
END:VEVENT
BEGIN:VEVENT
UID:17W_621001_3015775@uibk.ac.at
ORGANIZER;CN="LFU:online Universität Innsbruck":MAILTO:Uni-Innsbruck-noreply@uibk.ac.at
SUMMARY:Sportpädagogik (LV 621001-0 17W)
DESCRIPTION:Lehrveranstaltung 621001 17W, Gruppe 0\nTitel: Sportpädagogik\nOrt: S01\n\nhttps://lfuonline.uibk.ac.at/public/lfuonline_lv.details?sem_id_in=17W&lvnr_id_in=621001\n
CLASS:PUBLIC
DTSTART:20171030T154500Z
DTEND:20171030T171500Z
DTSTAMP:20260423T031258Z
LOCATION:S01
END:VEVENT
BEGIN:VEVENT
UID:17W_621001_3015776@uibk.ac.at
ORGANIZER;CN="LFU:online Universität Innsbruck":MAILTO:Uni-Innsbruck-noreply@uibk.ac.at
SUMMARY:Sportpädagogik (LV 621001-0 17W)
DESCRIPTION:Lehrveranstaltung 621001 17W, Gruppe 0\nTitel: Sportpädagogik\nOrt: S01\n\nhttps://lfuonline.uibk.ac.at/public/lfuonline_lv.details?sem_id_in=17W&lvnr_id_in=621001\n
CLASS:PUBLIC
DTSTART:20171106T154500Z
DTEND:20171106T171500Z
DTSTAMP:20260423T031258Z
LOCATION:S01
END:VEVENT
BEGIN:VEVENT
UID:17W_621001_3015777@uibk.ac.at
ORGANIZER;CN="LFU:online Universität Innsbruck":MAILTO:Uni-Innsbruck-noreply@uibk.ac.at
SUMMARY:Sportpädagogik (LV 621001-0 17W)
DESCRIPTION:Lehrveranstaltung 621001 17W, Gruppe 0\nTitel: Sportpädagogik\nOrt: S01\n\nhttps://lfuonline.uibk.ac.at/public/lfuonline_lv.details?sem_id_in=17W&lvnr_id_in=621001\n
CLASS:PUBLIC
DTSTART:20171113T154500Z
DTEND:20171113T171500Z
DTSTAMP:20260423T031258Z
LOCATION:S01
END:VEVENT
BEGIN:VEVENT
UID:17W_621001_3015778@uibk.ac.at
ORGANIZER;CN="LFU:online Universität Innsbruck":MAILTO:Uni-Innsbruck-noreply@uibk.ac.at
SUMMARY:Sportpädagogik (LV 621001-0 17W)
DESCRIPTION:Lehrveranstaltung 621001 17W, Gruppe 0\nTitel: Sportpädagogik\nOrt: S01\n\nhttps://lfuonline.uibk.ac.at/public/lfuonline_lv.details?sem_id_in=17W&lvnr_id_in=621001\n
CLASS:PUBLIC
DTSTART:20171120T154500Z
DTEND:20171120T171500Z
DTSTAMP:20260423T031258Z
LOCATION:S01
END:VEVENT
BEGIN:VEVENT
UID:17W_621001_3015779@uibk.ac.at
ORGANIZER;CN="LFU:online Universität Innsbruck":MAILTO:Uni-Innsbruck-noreply@uibk.ac.at
SUMMARY:Sportpädagogik (LV 621001-0 17W)
DESCRIPTION:Lehrveranstaltung 621001 17W, Gruppe 0\nTitel: Sportpädagogik\nOrt: S01\n\nhttps://lfuonline.uibk.ac.at/public/lfuonline_lv.details?sem_id_in=17W&lvnr_id_in=621001\n
CLASS:PUBLIC
DTSTART:20171127T154500Z
DTEND:20171127T171500Z
DTSTAMP:20260423T031258Z
LOCATION:S01
END:VEVENT
BEGIN:VEVENT
UID:17W_621001_3015780@uibk.ac.at
ORGANIZER;CN="LFU:online Universität Innsbruck":MAILTO:Uni-Innsbruck-noreply@uibk.ac.at
SUMMARY:Sportpädagogik (LV 621001-0 17W)
DESCRIPTION:Lehrveranstaltung 621001 17W, Gruppe 0\nTitel: Sportpädagogik\nOrt: S01\n\nhttps://lfuonline.uibk.ac.at/public/lfuonline_lv.details?sem_id_in=17W&lvnr_id_in=621001\n
CLASS:PUBLIC
DTSTART:20171204T154500Z
DTEND:20171204T171500Z
DTSTAMP:20260423T031258Z
LOCATION:S01
END:VEVENT
BEGIN:VEVENT
UID:17W_621001_3015781@uibk.ac.at
ORGANIZER;CN="LFU:online Universität Innsbruck":MAILTO:Uni-Innsbruck-noreply@uibk.ac.at
SUMMARY:Sportpädagogik (LV 621001-0 17W)
DESCRIPTION:Lehrveranstaltung 621001 17W, Gruppe 0\nTitel: Sportpädagogik\nOrt: S01\n\nhttps://lfuonline.uibk.ac.at/public/lfuonline_lv.details?sem_id_in=17W&lvnr_id_in=621001\n
CLASS:PUBLIC
DTSTART:20171211T154500Z
DTEND:20171211T171500Z
DTSTAMP:20260423T031258Z
LOCATION:S01
END:VEVENT
BEGIN:VEVENT
UID:17W_621001_3015782@uibk.ac.at
ORGANIZER;CN="LFU:online Universität Innsbruck":MAILTO:Uni-Innsbruck-noreply@uibk.ac.at
SUMMARY:Sportpädagogik (LV 621001-0 17W)
DESCRIPTION:Lehrveranstaltung 621001 17W, Gruppe 0\nTitel: Sportpädagogik\nOrt: S01\n\nhttps://lfuonline.uibk.ac.at/public/lfuonline_lv.details?sem_id_in=17W&lvnr_id_in=621001\n
CLASS:PUBLIC
DTSTART:20180108T154500Z
DTEND:20180108T171500Z
DTSTAMP:20260423T031258Z
LOCATION:S01
END:VEVENT
BEGIN:VEVENT
UID:17W_621001_3015783@uibk.ac.at
ORGANIZER;CN="LFU:online Universität Innsbruck":MAILTO:Uni-Innsbruck-noreply@uibk.ac.at
SUMMARY:Sportpädagogik (LV 621001-0 17W)
DESCRIPTION:Lehrveranstaltung 621001 17W, Gruppe 0\nTitel: Sportpädagogik\nOrt: S01\n\nhttps://lfuonline.uibk.ac.at/public/lfuonline_lv.details?sem_id_in=17W&lvnr_id_in=621001\n
CLASS:PUBLIC
DTSTART:20180115T154500Z
DTEND:20180115T171500Z
DTSTAMP:20260423T031258Z
LOCATION:S01
END:VEVENT
BEGIN:VEVENT
UID:17W_621001_3015784@uibk.ac.at
ORGANIZER;CN="LFU:online Universität Innsbruck":MAILTO:Uni-Innsbruck-noreply@uibk.ac.at
SUMMARY:Sportpädagogik (LV 621001-0 17W)
DESCRIPTION:Lehrveranstaltung 621001 17W, Gruppe 0\nTitel: Sportpädagogik\nOrt: S01\n\nhttps://lfuonline.uibk.ac.at/public/lfuonline_lv.details?sem_id_in=17W&lvnr_id_in=621001\n
CLASS:PUBLIC
DTSTART:20180122T154500Z
DTEND:20180122T171500Z
DTSTAMP:20260423T031258Z
LOCATION:S01
END:VEVENT
BEGIN:VEVENT
UID:17W_621001_3112611@uibk.ac.at
ORGANIZER;CN="LFU:online Universität Innsbruck":MAILTO:Uni-Innsbruck-noreply@uibk.ac.at
SUMMARY:Sportpädagogik (LV 621001-0 17W)
DESCRIPTION:Lehrveranstaltung 621001 17W, Gruppe 0\nTitel: Sportpädagogik\nOrt: S02\n\nhttps://lfuonline.uibk.ac.at/public/lfuonline_lv.details?sem_id_in=17W&lvnr_id_in=621001\n
CLASS:PUBLIC
DTSTART:20180129T160000Z
DTEND:20180129T170000Z
DTSTAMP:20260423T031258Z
LOCATION:S02
COMMENT:Prüfung
END:VEVENT
BEGIN:VEVENT
UID:17W_621001_3015785@uibk.ac.at
ORGANIZER;CN="LFU:online Universität Innsbruck":MAILTO:Uni-Innsbruck-noreply@uibk.ac.at
SUMMARY:Sportpädagogik (LV 621001-0 17W)
DESCRIPTION:Lehrveranstaltung 621001 17W, Gruppe 0\nTitel: Sportpädagogik\nOrt: S01\n\nhttps://lfuonline.uibk.ac.at/public/lfuonline_lv.details?sem_id_in=17W&lvnr_id_in=621001\n
CLASS:PUBLIC
DTSTART:20180129T160000Z
DTEND:20180129T171500Z
DTSTAMP:20260423T031258Z
LOCATION:S01
COMMENT:1. Prüfung
END:VEVENT
BEGIN:VEVENT
UID:17W_621001_3109071@uibk.ac.at
ORGANIZER;CN="LFU:online Universität Innsbruck":MAILTO:Uni-Innsbruck-noreply@uibk.ac.at
SUMMARY:Sportpädagogik (LV 621001-0 17W)
DESCRIPTION:Lehrveranstaltung 621001 17W, Gruppe 0\nTitel: Sportpädagogik\nOrt: S01\n\nhttps://lfuonline.uibk.ac.at/public/lfuonline_lv.details?sem_id_in=17W&lvnr_id_in=621001\n
CLASS:PUBLIC
DTSTART:20180416T143000Z
DTEND:20180416T154500Z
DTSTAMP:20260423T031258Z
LOCATION:S01
COMMENT:2. Prüfung
END:VEVENT
BEGIN:VEVENT
UID:17W_621001_3133306@uibk.ac.at
ORGANIZER;CN="LFU:online Universität Innsbruck":MAILTO:Uni-Innsbruck-noreply@uibk.ac.at
SUMMARY:Sportpädagogik (LV 621001-0 17W)
DESCRIPTION:Lehrveranstaltung 621001 17W, Gruppe 0\nTitel: Sportpädagogik\nOrt: S01\n\nhttps://lfuonline.uibk.ac.at/public/lfuonline_lv.details?sem_id_in=17W&lvnr_id_in=621001\n
CLASS:PUBLIC
DTSTART:20180604T140000Z
DTEND:20180604T150000Z
DTSTAMP:20260423T031258Z
LOCATION:S01
COMMENT:3. Prüfung
END:VEVENT
BEGIN:VEVENT
UID:17W_621001_3251568@uibk.ac.at
ORGANIZER;CN="LFU:online Universität Innsbruck":MAILTO:Uni-Innsbruck-noreply@uibk.ac.at
SUMMARY:Sportpädagogik (LV 621001-0 17W)
DESCRIPTION:Lehrveranstaltung 621001 17W, Gruppe 0\nTitel: Sportpädagogik\nOrt: S01\n\nhttps://lfuonline.uibk.ac.at/public/lfuonline_lv.details?sem_id_in=17W&lvnr_id_in=621001\n
CLASS:PUBLIC
DTSTART:20181119T160000Z
DTEND:20181119T170000Z
DTSTAMP:20260423T031258Z
LOCATION:S01
COMMENT:4.Prüfung
END:VEVENT
END:VCALENDAR