BEGIN:VCALENDAR
VERSION:2.0
PRODID:-//Universität Innsbruck//LFU:online//DE
METHOD:PUBLISH
BEGIN:VEVENT
UID:16S_621045_2677995@uibk.ac.at
ORGANIZER;CN="LFU:online Universität Innsbruck":MAILTO:Uni-Innsbruck-noreply@uibk.ac.at
SUMMARY:Seminar Sportdidaktik (LV 621045-0 16S)
DESCRIPTION:Lehrveranstaltung 621045 16S, Gruppe 0\nTitel: Seminar Sportdidaktik\nOrt: S02\n\nhttps://lfuonline.uibk.ac.at/public/lfuonline_lv.details?sem_id_in=16S&lvnr_id_in=621045\n
CLASS:PUBLIC
DTSTART:20160316T140000Z
DTEND:20160316T160000Z
DTSTAMP:20260424T153010Z
LOCATION:S02
END:VEVENT
BEGIN:VEVENT
UID:16S_621045_2677997@uibk.ac.at
ORGANIZER;CN="LFU:online Universität Innsbruck":MAILTO:Uni-Innsbruck-noreply@uibk.ac.at
SUMMARY:Seminar Sportdidaktik (LV 621045-0 16S)
DESCRIPTION:Lehrveranstaltung 621045 16S, Gruppe 0\nTitel: Seminar Sportdidaktik\nOrt: S02\n\nhttps://lfuonline.uibk.ac.at/public/lfuonline_lv.details?sem_id_in=16S&lvnr_id_in=621045\n
CLASS:PUBLIC
DTSTART:20160413T130000Z
DTEND:20160413T150000Z
DTSTAMP:20260424T153010Z
LOCATION:S02
END:VEVENT
BEGIN:VEVENT
UID:16S_621045_2678001@uibk.ac.at
ORGANIZER;CN="LFU:online Universität Innsbruck":MAILTO:Uni-Innsbruck-noreply@uibk.ac.at
SUMMARY:Seminar Sportdidaktik (LV 621045-0 16S)
DESCRIPTION:Lehrveranstaltung 621045 16S, Gruppe 0\nTitel: Seminar Sportdidaktik\nOrt: S02\n\nhttps://lfuonline.uibk.ac.at/public/lfuonline_lv.details?sem_id_in=16S&lvnr_id_in=621045\n
CLASS:PUBLIC
DTSTART:20160511T130000Z
DTEND:20160511T150000Z
DTSTAMP:20260424T153010Z
LOCATION:S02
END:VEVENT
BEGIN:VEVENT
UID:16S_621045_2678007@uibk.ac.at
ORGANIZER;CN="LFU:online Universität Innsbruck":MAILTO:Uni-Innsbruck-noreply@uibk.ac.at
SUMMARY:Seminar Sportdidaktik (LV 621045-0 16S)
DESCRIPTION:Lehrveranstaltung 621045 16S, Gruppe 0\nTitel: Seminar Sportdidaktik\nOrt: S02\n\nhttps://lfuonline.uibk.ac.at/public/lfuonline_lv.details?sem_id_in=16S&lvnr_id_in=621045\n
CLASS:PUBLIC
DTSTART:20160622T130000Z
DTEND:20160622T180000Z
DTSTAMP:20260424T153010Z
LOCATION:S02
END:VEVENT
END:VCALENDAR