BEGIN:VCALENDAR
VERSION:2.0
PRODID:-//Universität Innsbruck//LFU:online//DE
METHOD:PUBLISH
BEGIN:VEVENT
UID:16S_621047_2686889@uibk.ac.at
ORGANIZER;CN="LFU:online Universität Innsbruck":MAILTO:Uni-Innsbruck-noreply@uibk.ac.at
SUMMARY:Seminar Sportpädagogik (LV 621047-0 16S)
DESCRIPTION:Lehrveranstaltung 621047 16S, Gruppe 0\nTitel: Seminar Sportpädagogik\nOrt: S14\n\nhttps://lfuonline.uibk.ac.at/public/lfuonline_lv.details?sem_id_in=16S&lvnr_id_in=621047\n
CLASS:PUBLIC
DTSTART:20160308T080000Z
DTEND:20160308T093000Z
DTSTAMP:20260424T153102Z
LOCATION:S14
END:VEVENT
BEGIN:VEVENT
UID:16S_621047_2686890@uibk.ac.at
ORGANIZER;CN="LFU:online Universität Innsbruck":MAILTO:Uni-Innsbruck-noreply@uibk.ac.at
SUMMARY:Seminar Sportpädagogik (LV 621047-0 16S)
DESCRIPTION:Lehrveranstaltung 621047 16S, Gruppe 0\nTitel: Seminar Sportpädagogik\nOrt: S14\n\nhttps://lfuonline.uibk.ac.at/public/lfuonline_lv.details?sem_id_in=16S&lvnr_id_in=621047\n
CLASS:PUBLIC
DTSTART:20160315T080000Z
DTEND:20160315T093000Z
DTSTAMP:20260424T153102Z
LOCATION:S14
END:VEVENT
BEGIN:VEVENT
UID:16S_621047_2686891@uibk.ac.at
ORGANIZER;CN="LFU:online Universität Innsbruck":MAILTO:Uni-Innsbruck-noreply@uibk.ac.at
SUMMARY:Seminar Sportpädagogik (LV 621047-0 16S)
DESCRIPTION:Lehrveranstaltung 621047 16S, Gruppe 0\nTitel: Seminar Sportpädagogik\nOrt: S14\n\nhttps://lfuonline.uibk.ac.at/public/lfuonline_lv.details?sem_id_in=16S&lvnr_id_in=621047\n
CLASS:PUBLIC
DTSTART:20160405T070000Z
DTEND:20160405T083000Z
DTSTAMP:20260424T153102Z
LOCATION:S14
END:VEVENT
BEGIN:VEVENT
UID:16S_621047_2717413@uibk.ac.at
ORGANIZER;CN="LFU:online Universität Innsbruck":MAILTO:Uni-Innsbruck-noreply@uibk.ac.at
SUMMARY:Seminar Sportpädagogik (LV 621047-0 16S)
DESCRIPTION:Lehrveranstaltung 621047 16S, Gruppe 0\nTitel: Seminar Sportpädagogik\nOrt: H07\n\nhttps://lfuonline.uibk.ac.at/public/lfuonline_lv.details?sem_id_in=16S&lvnr_id_in=621047\n
CLASS:PUBLIC
DTSTART:20160405T073000Z
DTEND:20160405T083000Z
DTSTAMP:20260424T153102Z
LOCATION:H07
END:VEVENT
BEGIN:VEVENT
UID:16S_621047_2686892@uibk.ac.at
ORGANIZER;CN="LFU:online Universität Innsbruck":MAILTO:Uni-Innsbruck-noreply@uibk.ac.at
SUMMARY:Seminar Sportpädagogik (LV 621047-0 16S)
DESCRIPTION:Lehrveranstaltung 621047 16S, Gruppe 0\nTitel: Seminar Sportpädagogik\nOrt: S14\n\nhttps://lfuonline.uibk.ac.at/public/lfuonline_lv.details?sem_id_in=16S&lvnr_id_in=621047\n
CLASS:PUBLIC
DTSTART:20160412T070000Z
DTEND:20160412T083000Z
DTSTAMP:20260424T153102Z
LOCATION:S14
END:VEVENT
BEGIN:VEVENT
UID:16S_621047_2686893@uibk.ac.at
ORGANIZER;CN="LFU:online Universität Innsbruck":MAILTO:Uni-Innsbruck-noreply@uibk.ac.at
SUMMARY:Seminar Sportpädagogik (LV 621047-0 16S)
DESCRIPTION:Lehrveranstaltung 621047 16S, Gruppe 0\nTitel: Seminar Sportpädagogik\nOrt: S14\n\nhttps://lfuonline.uibk.ac.at/public/lfuonline_lv.details?sem_id_in=16S&lvnr_id_in=621047\n
CLASS:PUBLIC
DTSTART:20160419T070000Z
DTEND:20160419T083000Z
DTSTAMP:20260424T153102Z
LOCATION:S14
END:VEVENT
BEGIN:VEVENT
UID:16S_621047_2686894@uibk.ac.at
ORGANIZER;CN="LFU:online Universität Innsbruck":MAILTO:Uni-Innsbruck-noreply@uibk.ac.at
SUMMARY:Seminar Sportpädagogik (LV 621047-0 16S)
DESCRIPTION:Lehrveranstaltung 621047 16S, Gruppe 0\nTitel: Seminar Sportpädagogik\nOrt: S14\n\nhttps://lfuonline.uibk.ac.at/public/lfuonline_lv.details?sem_id_in=16S&lvnr_id_in=621047\n
CLASS:PUBLIC
DTSTART:20160426T070000Z
DTEND:20160426T083000Z
DTSTAMP:20260424T153102Z
LOCATION:S14
END:VEVENT
BEGIN:VEVENT
UID:16S_621047_2686895@uibk.ac.at
ORGANIZER;CN="LFU:online Universität Innsbruck":MAILTO:Uni-Innsbruck-noreply@uibk.ac.at
SUMMARY:Seminar Sportpädagogik (LV 621047-0 16S)
DESCRIPTION:Lehrveranstaltung 621047 16S, Gruppe 0\nTitel: Seminar Sportpädagogik\nOrt: S14\n\nhttps://lfuonline.uibk.ac.at/public/lfuonline_lv.details?sem_id_in=16S&lvnr_id_in=621047\n
CLASS:PUBLIC
DTSTART:20160503T070000Z
DTEND:20160503T083000Z
DTSTAMP:20260424T153102Z
LOCATION:S14
END:VEVENT
BEGIN:VEVENT
UID:16S_621047_2686896@uibk.ac.at
ORGANIZER;CN="LFU:online Universität Innsbruck":MAILTO:Uni-Innsbruck-noreply@uibk.ac.at
SUMMARY:Seminar Sportpädagogik (LV 621047-0 16S)
DESCRIPTION:Lehrveranstaltung 621047 16S, Gruppe 0\nTitel: Seminar Sportpädagogik\nOrt: S14\n\nhttps://lfuonline.uibk.ac.at/public/lfuonline_lv.details?sem_id_in=16S&lvnr_id_in=621047\n
CLASS:PUBLIC
DTSTART:20160510T070000Z
DTEND:20160510T083000Z
DTSTAMP:20260424T153102Z
LOCATION:S14
END:VEVENT
BEGIN:VEVENT
UID:16S_621047_2686897@uibk.ac.at
ORGANIZER;CN="LFU:online Universität Innsbruck":MAILTO:Uni-Innsbruck-noreply@uibk.ac.at
SUMMARY:Seminar Sportpädagogik (LV 621047-0 16S)
DESCRIPTION:Lehrveranstaltung 621047 16S, Gruppe 0\nTitel: Seminar Sportpädagogik\nOrt: S14\n\nhttps://lfuonline.uibk.ac.at/public/lfuonline_lv.details?sem_id_in=16S&lvnr_id_in=621047\n
CLASS:PUBLIC
DTSTART:20160517T070000Z
DTEND:20160517T083000Z
DTSTAMP:20260424T153102Z
LOCATION:S14
END:VEVENT
BEGIN:VEVENT
UID:16S_621047_2686898@uibk.ac.at
ORGANIZER;CN="LFU:online Universität Innsbruck":MAILTO:Uni-Innsbruck-noreply@uibk.ac.at
SUMMARY:Seminar Sportpädagogik (LV 621047-0 16S)
DESCRIPTION:Lehrveranstaltung 621047 16S, Gruppe 0\nTitel: Seminar Sportpädagogik\nOrt: S14\n\nhttps://lfuonline.uibk.ac.at/public/lfuonline_lv.details?sem_id_in=16S&lvnr_id_in=621047\n
CLASS:PUBLIC
DTSTART:20160524T070000Z
DTEND:20160524T083000Z
DTSTAMP:20260424T153102Z
LOCATION:S14
END:VEVENT
BEGIN:VEVENT
UID:16S_621047_2686899@uibk.ac.at
ORGANIZER;CN="LFU:online Universität Innsbruck":MAILTO:Uni-Innsbruck-noreply@uibk.ac.at
SUMMARY:Seminar Sportpädagogik (LV 621047-0 16S)
DESCRIPTION:Lehrveranstaltung 621047 16S, Gruppe 0\nTitel: Seminar Sportpädagogik\nOrt: S14\n\nhttps://lfuonline.uibk.ac.at/public/lfuonline_lv.details?sem_id_in=16S&lvnr_id_in=621047\n
CLASS:PUBLIC
DTSTART:20160531T070000Z
DTEND:20160531T083000Z
DTSTAMP:20260424T153102Z
LOCATION:S14
END:VEVENT
BEGIN:VEVENT
UID:16S_621047_2686900@uibk.ac.at
ORGANIZER;CN="LFU:online Universität Innsbruck":MAILTO:Uni-Innsbruck-noreply@uibk.ac.at
SUMMARY:Seminar Sportpädagogik (LV 621047-0 16S)
DESCRIPTION:Lehrveranstaltung 621047 16S, Gruppe 0\nTitel: Seminar Sportpädagogik\nOrt: S14\n\nhttps://lfuonline.uibk.ac.at/public/lfuonline_lv.details?sem_id_in=16S&lvnr_id_in=621047\n
CLASS:PUBLIC
DTSTART:20160607T070000Z
DTEND:20160607T083000Z
DTSTAMP:20260424T153102Z
LOCATION:S14
END:VEVENT
BEGIN:VEVENT
UID:16S_621047_2686901@uibk.ac.at
ORGANIZER;CN="LFU:online Universität Innsbruck":MAILTO:Uni-Innsbruck-noreply@uibk.ac.at
SUMMARY:Seminar Sportpädagogik (LV 621047-0 16S)
DESCRIPTION:Lehrveranstaltung 621047 16S, Gruppe 0\nTitel: Seminar Sportpädagogik\nOrt: S14\n\nhttps://lfuonline.uibk.ac.at/public/lfuonline_lv.details?sem_id_in=16S&lvnr_id_in=621047\n
CLASS:PUBLIC
DTSTART:20160614T070000Z
DTEND:20160614T083000Z
DTSTAMP:20260424T153102Z
LOCATION:S14
END:VEVENT
BEGIN:VEVENT
UID:16S_621047_2686902@uibk.ac.at
ORGANIZER;CN="LFU:online Universität Innsbruck":MAILTO:Uni-Innsbruck-noreply@uibk.ac.at
SUMMARY:Seminar Sportpädagogik (LV 621047-0 16S)
DESCRIPTION:Lehrveranstaltung 621047 16S, Gruppe 0\nTitel: Seminar Sportpädagogik\nOrt: S14\n\nhttps://lfuonline.uibk.ac.at/public/lfuonline_lv.details?sem_id_in=16S&lvnr_id_in=621047\n
CLASS:PUBLIC
DTSTART:20160621T070000Z
DTEND:20160621T083000Z
DTSTAMP:20260424T153102Z
LOCATION:S14
END:VEVENT
BEGIN:VEVENT
UID:16S_621047_2686903@uibk.ac.at
ORGANIZER;CN="LFU:online Universität Innsbruck":MAILTO:Uni-Innsbruck-noreply@uibk.ac.at
SUMMARY:Seminar Sportpädagogik (LV 621047-0 16S)
DESCRIPTION:Lehrveranstaltung 621047 16S, Gruppe 0\nTitel: Seminar Sportpädagogik\nOrt: S14\n\nhttps://lfuonline.uibk.ac.at/public/lfuonline_lv.details?sem_id_in=16S&lvnr_id_in=621047\n
CLASS:PUBLIC
DTSTART:20160628T070000Z
DTEND:20160628T083000Z
DTSTAMP:20260424T153102Z
LOCATION:S14
END:VEVENT
END:VCALENDAR