BEGIN:VCALENDAR
VERSION:2.0
PRODID:-//Universität Innsbruck//LFU:online//DE
METHOD:PUBLISH
BEGIN:VEVENT
UID:18W_621122_3231123@uibk.ac.at
ORGANIZER;CN="LFU:online Universität Innsbruck":MAILTO:Uni-Innsbruck-noreply@uibk.ac.at
SUMMARY:PR Fachpraktikum (LV 621122-0 18W)
DESCRIPTION:Lehrveranstaltung 621122 18W, Gruppe 0\nTitel: PR Fachpraktikum\nOrt: S14\n\nhttps://lfuonline.uibk.ac.at/public/lfuonline_lv.details?sem_id_in=18W&lvnr_id_in=621122\n
CLASS:PUBLIC
DTSTART:20181009T150000Z
DTEND:20181009T170000Z
DTSTAMP:20260423T103021Z
LOCATION:S14
END:VEVENT
BEGIN:VEVENT
UID:18W_621122_3231124@uibk.ac.at
ORGANIZER;CN="LFU:online Universität Innsbruck":MAILTO:Uni-Innsbruck-noreply@uibk.ac.at
SUMMARY:PR Fachpraktikum (LV 621122-0 18W)
DESCRIPTION:Lehrveranstaltung 621122 18W, Gruppe 0\nTitel: PR Fachpraktikum\nOrt: S14\n\nhttps://lfuonline.uibk.ac.at/public/lfuonline_lv.details?sem_id_in=18W&lvnr_id_in=621122\n
CLASS:PUBLIC
DTSTART:20181113T160000Z
DTEND:20181113T180000Z
DTSTAMP:20260423T103021Z
LOCATION:S14
END:VEVENT
BEGIN:VEVENT
UID:18W_621122_3231125@uibk.ac.at
ORGANIZER;CN="LFU:online Universität Innsbruck":MAILTO:Uni-Innsbruck-noreply@uibk.ac.at
SUMMARY:PR Fachpraktikum (LV 621122-0 18W)
DESCRIPTION:Lehrveranstaltung 621122 18W, Gruppe 0\nTitel: PR Fachpraktikum\nOrt: S14\n\nhttps://lfuonline.uibk.ac.at/public/lfuonline_lv.details?sem_id_in=18W&lvnr_id_in=621122\n
CLASS:PUBLIC
DTSTART:20181211T160000Z
DTEND:20181211T180000Z
DTSTAMP:20260423T103021Z
LOCATION:S14
END:VEVENT
BEGIN:VEVENT
UID:18W_621122_3231126@uibk.ac.at
ORGANIZER;CN="LFU:online Universität Innsbruck":MAILTO:Uni-Innsbruck-noreply@uibk.ac.at
SUMMARY:PR Fachpraktikum (LV 621122-0 18W)
DESCRIPTION:Lehrveranstaltung 621122 18W, Gruppe 0\nTitel: PR Fachpraktikum\nOrt: S14\n\nhttps://lfuonline.uibk.ac.at/public/lfuonline_lv.details?sem_id_in=18W&lvnr_id_in=621122\n
CLASS:PUBLIC
DTSTART:20190122T160000Z
DTEND:20190122T183000Z
DTSTAMP:20260423T103021Z
LOCATION:S14
END:VEVENT
BEGIN:VEVENT
UID:18W_621122_3231127@uibk.ac.at
ORGANIZER;CN="LFU:online Universität Innsbruck":MAILTO:Uni-Innsbruck-noreply@uibk.ac.at
SUMMARY:PR Fachpraktikum (LV 621122-0 18W)
DESCRIPTION:Lehrveranstaltung 621122 18W, Gruppe 0\nTitel: PR Fachpraktikum\nOrt: S14\n\nhttps://lfuonline.uibk.ac.at/public/lfuonline_lv.details?sem_id_in=18W&lvnr_id_in=621122\n
CLASS:PUBLIC
DTSTART:20190129T160000Z
DTEND:20190129T183000Z
DTSTAMP:20260423T103021Z
LOCATION:S14
END:VEVENT
END:VCALENDAR