BEGIN:VCALENDAR
VERSION:2.0
PRODID:-//Universität Innsbruck//LFU:online//DE
METHOD:PUBLISH
BEGIN:VEVENT
UID:21S_621156_3782747@uibk.ac.at
ORGANIZER;CN="LFU:online Universität Innsbruck":MAILTO:Uni-Innsbruck-noreply@uibk.ac.at
SUMMARY:UE Gymnastik in der Trainingstherapie (LV 621156-0 21S)
DESCRIPTION:Lehrveranstaltung 621156 21S, Gruppe 0\nTitel: UE Gymnastik in der Trainingstherapie\nOrt: H06\n\nhttps://lfuonline.uibk.ac.at/public/lfuonline_lv.details?sem_id_in=21S&lvnr_id_in=621156\n
CLASS:PUBLIC
DTSTART:20210308T103000Z
DTEND:20210308T120000Z
DTSTAMP:20260421T165654Z
LOCATION:H06
END:VEVENT
BEGIN:VEVENT
UID:21S_621156_3782748@uibk.ac.at
ORGANIZER;CN="LFU:online Universität Innsbruck":MAILTO:Uni-Innsbruck-noreply@uibk.ac.at
SUMMARY:UE Gymnastik in der Trainingstherapie (LV 621156-0 21S)
DESCRIPTION:Lehrveranstaltung 621156 21S, Gruppe 0\nTitel: UE Gymnastik in der Trainingstherapie\nOrt: H06\n\nhttps://lfuonline.uibk.ac.at/public/lfuonline_lv.details?sem_id_in=21S&lvnr_id_in=621156\n
CLASS:PUBLIC
DTSTART:20210315T103000Z
DTEND:20210315T120000Z
DTSTAMP:20260421T165654Z
LOCATION:H06
END:VEVENT
BEGIN:VEVENT
UID:21S_621156_3782749@uibk.ac.at
ORGANIZER;CN="LFU:online Universität Innsbruck":MAILTO:Uni-Innsbruck-noreply@uibk.ac.at
SUMMARY:UE Gymnastik in der Trainingstherapie (LV 621156-0 21S)
DESCRIPTION:Lehrveranstaltung 621156 21S, Gruppe 0\nTitel: UE Gymnastik in der Trainingstherapie\nOrt: H06\n\nhttps://lfuonline.uibk.ac.at/public/lfuonline_lv.details?sem_id_in=21S&lvnr_id_in=621156\n
CLASS:PUBLIC
DTSTART:20210322T103000Z
DTEND:20210322T120000Z
DTSTAMP:20260421T165654Z
LOCATION:H06
END:VEVENT
BEGIN:VEVENT
UID:21S_621156_3782750@uibk.ac.at
ORGANIZER;CN="LFU:online Universität Innsbruck":MAILTO:Uni-Innsbruck-noreply@uibk.ac.at
SUMMARY:UE Gymnastik in der Trainingstherapie (LV 621156-0 21S)
DESCRIPTION:Lehrveranstaltung 621156 21S, Gruppe 0\nTitel: UE Gymnastik in der Trainingstherapie\nOrt: H06\n\nhttps://lfuonline.uibk.ac.at/public/lfuonline_lv.details?sem_id_in=21S&lvnr_id_in=621156\n
CLASS:PUBLIC
DTSTART:20210412T093000Z
DTEND:20210412T110000Z
DTSTAMP:20260421T165654Z
LOCATION:H06
END:VEVENT
BEGIN:VEVENT
UID:21S_621156_3782751@uibk.ac.at
ORGANIZER;CN="LFU:online Universität Innsbruck":MAILTO:Uni-Innsbruck-noreply@uibk.ac.at
SUMMARY:UE Gymnastik in der Trainingstherapie (LV 621156-0 21S)
DESCRIPTION:Lehrveranstaltung 621156 21S, Gruppe 0\nTitel: UE Gymnastik in der Trainingstherapie\nOrt: H06\n\nhttps://lfuonline.uibk.ac.at/public/lfuonline_lv.details?sem_id_in=21S&lvnr_id_in=621156\n
CLASS:PUBLIC
DTSTART:20210419T093000Z
DTEND:20210419T110000Z
DTSTAMP:20260421T165654Z
LOCATION:H06
END:VEVENT
BEGIN:VEVENT
UID:21S_621156_3782752@uibk.ac.at
ORGANIZER;CN="LFU:online Universität Innsbruck":MAILTO:Uni-Innsbruck-noreply@uibk.ac.at
SUMMARY:UE Gymnastik in der Trainingstherapie (LV 621156-0 21S)
DESCRIPTION:Lehrveranstaltung 621156 21S, Gruppe 0\nTitel: UE Gymnastik in der Trainingstherapie\nOrt: H06\n\nhttps://lfuonline.uibk.ac.at/public/lfuonline_lv.details?sem_id_in=21S&lvnr_id_in=621156\n
CLASS:PUBLIC
DTSTART:20210426T093000Z
DTEND:20210426T110000Z
DTSTAMP:20260421T165654Z
LOCATION:H06
END:VEVENT
BEGIN:VEVENT
UID:21S_621156_3782753@uibk.ac.at
ORGANIZER;CN="LFU:online Universität Innsbruck":MAILTO:Uni-Innsbruck-noreply@uibk.ac.at
SUMMARY:UE Gymnastik in der Trainingstherapie (LV 621156-0 21S)
DESCRIPTION:Lehrveranstaltung 621156 21S, Gruppe 0\nTitel: UE Gymnastik in der Trainingstherapie\nOrt: H02\n\nhttps://lfuonline.uibk.ac.at/public/lfuonline_lv.details?sem_id_in=21S&lvnr_id_in=621156\n
CLASS:PUBLIC
DTSTART:20210503T053000Z
DTEND:20210503T093000Z
DTSTAMP:20260421T165654Z
LOCATION:H02
END:VEVENT
BEGIN:VEVENT
UID:21S_621156_3835845@uibk.ac.at
ORGANIZER;CN="LFU:online Universität Innsbruck":MAILTO:Uni-Innsbruck-noreply@uibk.ac.at
SUMMARY:UE Gymnastik in der Trainingstherapie (LV 621156-0 21S)
DESCRIPTION:Lehrveranstaltung 621156 21S, Gruppe 0\nTitel: UE Gymnastik in der Trainingstherapie\nOrt: H06\n\nhttps://lfuonline.uibk.ac.at/public/lfuonline_lv.details?sem_id_in=21S&lvnr_id_in=621156\n
CLASS:PUBLIC
DTSTART:20210503T090000Z
DTEND:20210503T110000Z
DTSTAMP:20260421T165654Z
LOCATION:H06
END:VEVENT
END:VCALENDAR