BEGIN:VCALENDAR
VERSION:2.0
PRODID:-//Universität Innsbruck//LFU:online//DE
METHOD:PUBLISH
BEGIN:VEVENT
UID:21S_621169_3762683@uibk.ac.at
ORGANIZER;CN="LFU:online Universität Innsbruck":MAILTO:Uni-Innsbruck-noreply@uibk.ac.at
SUMMARY:UE Trainingstherapie im Wasser (A) (LV 621169-0 21S)
DESCRIPTION:Lehrveranstaltung 621169 21S, Gruppe 0\nTitel: UE Trainingstherapie im Wasser (A)\nOrt: S01\n\nhttps://lfuonline.uibk.ac.at/public/lfuonline_lv.details?sem_id_in=21S&lvnr_id_in=621169\n
CLASS:PUBLIC
DTSTART:20210410T060000Z
DTEND:20210410T160000Z
DTSTAMP:20260421T165654Z
LOCATION:S01
END:VEVENT
BEGIN:VEVENT
UID:21S_621169_3760778@uibk.ac.at
ORGANIZER;CN="LFU:online Universität Innsbruck":MAILTO:Uni-Innsbruck-noreply@uibk.ac.at
SUMMARY:UE Trainingstherapie im Wasser (A) (LV 621169-0 21S)
DESCRIPTION:Lehrveranstaltung 621169 21S, Gruppe 0\nTitel: UE Trainingstherapie im Wasser (A)\nOrt: H03\n\nhttps://lfuonline.uibk.ac.at/public/lfuonline_lv.details?sem_id_in=21S&lvnr_id_in=621169\n
CLASS:PUBLIC
DTSTART:20210410T110000Z
DTEND:20210410T150000Z
DTSTAMP:20260421T165654Z
LOCATION:H03
END:VEVENT
BEGIN:VEVENT
UID:21S_621169_3823538@uibk.ac.at
ORGANIZER;CN="LFU:online Universität Innsbruck":MAILTO:Uni-Innsbruck-noreply@uibk.ac.at
SUMMARY:UE Trainingstherapie im Wasser (A) (LV 621169-0 21S)
DESCRIPTION:Lehrveranstaltung 621169 21S, Gruppe 0\nTitel: UE Trainingstherapie im Wasser (A)\nOrt: S01\n\nhttps://lfuonline.uibk.ac.at/public/lfuonline_lv.details?sem_id_in=21S&lvnr_id_in=621169\n
CLASS:PUBLIC
DTSTART:20210411T060000Z
DTEND:20210411T103000Z
DTSTAMP:20260421T165654Z
LOCATION:S01
END:VEVENT
BEGIN:VEVENT
UID:21S_621169_3760779@uibk.ac.at
ORGANIZER;CN="LFU:online Universität Innsbruck":MAILTO:Uni-Innsbruck-noreply@uibk.ac.at
SUMMARY:UE Trainingstherapie im Wasser (A) (LV 621169-0 21S)
DESCRIPTION:Lehrveranstaltung 621169 21S, Gruppe 0\nTitel: UE Trainingstherapie im Wasser (A)\nOrt: H03\n\nhttps://lfuonline.uibk.ac.at/public/lfuonline_lv.details?sem_id_in=21S&lvnr_id_in=621169\n
CLASS:PUBLIC
DTSTART:20210411T060000Z
DTEND:20210411T103000Z
DTSTAMP:20260421T165654Z
LOCATION:H03
END:VEVENT
BEGIN:VEVENT
UID:21S_621169_3807636@uibk.ac.at
ORGANIZER;CN="LFU:online Universität Innsbruck":MAILTO:Uni-Innsbruck-noreply@uibk.ac.at
SUMMARY:UE Trainingstherapie im Wasser (A) (LV 621169-0 21S)
DESCRIPTION:Lehrveranstaltung 621169 21S, Gruppe 0\nTitel: UE Trainingstherapie im Wasser (A)\nOrt: H06\n\nhttps://lfuonline.uibk.ac.at/public/lfuonline_lv.details?sem_id_in=21S&lvnr_id_in=621169\n
CLASS:PUBLIC
DTSTART:20210411T060000Z
DTEND:20210411T103000Z
DTSTAMP:20260421T165654Z
LOCATION:H06
END:VEVENT
END:VCALENDAR