BEGIN:VCALENDAR
VERSION:2.0
PRODID:-//Universität Innsbruck//LFU:online//DE
METHOD:PUBLISH
BEGIN:VEVENT
UID:21S_621170_3807637@uibk.ac.at
ORGANIZER;CN="LFU:online Universität Innsbruck":MAILTO:Uni-Innsbruck-noreply@uibk.ac.at
SUMMARY:UE Trainingstherapie im Wasser (B) (LV 621170-0 21S)
DESCRIPTION:Lehrveranstaltung 621170 21S, Gruppe 0\nTitel: UE Trainingstherapie im Wasser (B)\nOrt: H06\n\nhttps://lfuonline.uibk.ac.at/public/lfuonline_lv.details?sem_id_in=21S&lvnr_id_in=621170\n
CLASS:PUBLIC
DTSTART:20210413T060000Z
DTEND:20210413T083000Z
DTSTAMP:20260421T165654Z
LOCATION:H06
END:VEVENT
BEGIN:VEVENT
UID:21S_621170_3823545@uibk.ac.at
ORGANIZER;CN="LFU:online Universität Innsbruck":MAILTO:Uni-Innsbruck-noreply@uibk.ac.at
SUMMARY:UE Trainingstherapie im Wasser (B) (LV 621170-0 21S)
DESCRIPTION:Lehrveranstaltung 621170 21S, Gruppe 0\nTitel: UE Trainingstherapie im Wasser (B)\nOrt: S01\n\nhttps://lfuonline.uibk.ac.at/public/lfuonline_lv.details?sem_id_in=21S&lvnr_id_in=621170\n
CLASS:PUBLIC
DTSTART:20210413T060000Z
DTEND:20210413T090000Z
DTSTAMP:20260421T165654Z
LOCATION:S01
END:VEVENT
BEGIN:VEVENT
UID:21S_621170_3825577@uibk.ac.at
ORGANIZER;CN="LFU:online Universität Innsbruck":MAILTO:Uni-Innsbruck-noreply@uibk.ac.at
SUMMARY:UE Trainingstherapie im Wasser (B) (LV 621170-0 21S)
DESCRIPTION:Lehrveranstaltung 621170 21S, Gruppe 0\nTitel: UE Trainingstherapie im Wasser (B)\nOrt: H32\n\nhttps://lfuonline.uibk.ac.at/public/lfuonline_lv.details?sem_id_in=21S&lvnr_id_in=621170\n
CLASS:PUBLIC
DTSTART:20210413T083000Z
DTEND:20210413T103000Z
DTSTAMP:20260421T165654Z
LOCATION:H32
END:VEVENT
BEGIN:VEVENT
UID:21S_621170_3807639@uibk.ac.at
ORGANIZER;CN="LFU:online Universität Innsbruck":MAILTO:Uni-Innsbruck-noreply@uibk.ac.at
SUMMARY:UE Trainingstherapie im Wasser (B) (LV 621170-0 21S)
DESCRIPTION:Lehrveranstaltung 621170 21S, Gruppe 0\nTitel: UE Trainingstherapie im Wasser (B)\nOrt: H06\n\nhttps://lfuonline.uibk.ac.at/public/lfuonline_lv.details?sem_id_in=21S&lvnr_id_in=621170\n
CLASS:PUBLIC
DTSTART:20210427T060000Z
DTEND:20210427T083000Z
DTSTAMP:20260421T165654Z
LOCATION:H06
END:VEVENT
BEGIN:VEVENT
UID:21S_621170_3823546@uibk.ac.at
ORGANIZER;CN="LFU:online Universität Innsbruck":MAILTO:Uni-Innsbruck-noreply@uibk.ac.at
SUMMARY:UE Trainingstherapie im Wasser (B) (LV 621170-0 21S)
DESCRIPTION:Lehrveranstaltung 621170 21S, Gruppe 0\nTitel: UE Trainingstherapie im Wasser (B)\nOrt: S01\n\nhttps://lfuonline.uibk.ac.at/public/lfuonline_lv.details?sem_id_in=21S&lvnr_id_in=621170\n
CLASS:PUBLIC
DTSTART:20210427T060000Z
DTEND:20210427T090000Z
DTSTAMP:20260421T165654Z
LOCATION:S01
END:VEVENT
BEGIN:VEVENT
UID:21S_621170_3825578@uibk.ac.at
ORGANIZER;CN="LFU:online Universität Innsbruck":MAILTO:Uni-Innsbruck-noreply@uibk.ac.at
SUMMARY:UE Trainingstherapie im Wasser (B) (LV 621170-0 21S)
DESCRIPTION:Lehrveranstaltung 621170 21S, Gruppe 0\nTitel: UE Trainingstherapie im Wasser (B)\nOrt: H31\n\nhttps://lfuonline.uibk.ac.at/public/lfuonline_lv.details?sem_id_in=21S&lvnr_id_in=621170\n
CLASS:PUBLIC
DTSTART:20210427T083000Z
DTEND:20210427T103000Z
DTSTAMP:20260421T165654Z
LOCATION:H31
END:VEVENT
BEGIN:VEVENT
UID:21S_621170_3836924@uibk.ac.at
ORGANIZER;CN="LFU:online Universität Innsbruck":MAILTO:Uni-Innsbruck-noreply@uibk.ac.at
SUMMARY:UE Trainingstherapie im Wasser (B) (LV 621170-0 21S)
DESCRIPTION:Lehrveranstaltung 621170 21S, Gruppe 0\nTitel: UE Trainingstherapie im Wasser (B)\nOrt: H06\n\nhttps://lfuonline.uibk.ac.at/public/lfuonline_lv.details?sem_id_in=21S&lvnr_id_in=621170\n
CLASS:PUBLIC
DTSTART:20210427T083000Z
DTEND:20210427T103000Z
DTSTAMP:20260421T165654Z
LOCATION:H06
END:VEVENT
BEGIN:VEVENT
UID:21S_621170_3807642@uibk.ac.at
ORGANIZER;CN="LFU:online Universität Innsbruck":MAILTO:Uni-Innsbruck-noreply@uibk.ac.at
SUMMARY:UE Trainingstherapie im Wasser (B) (LV 621170-0 21S)
DESCRIPTION:Lehrveranstaltung 621170 21S, Gruppe 0\nTitel: UE Trainingstherapie im Wasser (B)\nOrt: H40\n\nhttps://lfuonline.uibk.ac.at/public/lfuonline_lv.details?sem_id_in=21S&lvnr_id_in=621170\n
CLASS:PUBLIC
DTSTART:20210518T060000Z
DTEND:20210518T103000Z
DTSTAMP:20260421T165654Z
LOCATION:H40
END:VEVENT
BEGIN:VEVENT
UID:21S_621170_3823547@uibk.ac.at
ORGANIZER;CN="LFU:online Universität Innsbruck":MAILTO:Uni-Innsbruck-noreply@uibk.ac.at
SUMMARY:UE Trainingstherapie im Wasser (B) (LV 621170-0 21S)
DESCRIPTION:Lehrveranstaltung 621170 21S, Gruppe 0\nTitel: UE Trainingstherapie im Wasser (B)\nOrt: S01\n\nhttps://lfuonline.uibk.ac.at/public/lfuonline_lv.details?sem_id_in=21S&lvnr_id_in=621170\n
CLASS:PUBLIC
DTSTART:20210518T060000Z
DTEND:20210518T103000Z
DTSTAMP:20260421T165654Z
LOCATION:S01
END:VEVENT
BEGIN:VEVENT
UID:21S_621170_3825579@uibk.ac.at
ORGANIZER;CN="LFU:online Universität Innsbruck":MAILTO:Uni-Innsbruck-noreply@uibk.ac.at
SUMMARY:UE Trainingstherapie im Wasser (B) (LV 621170-0 21S)
DESCRIPTION:Lehrveranstaltung 621170 21S, Gruppe 0\nTitel: UE Trainingstherapie im Wasser (B)\nOrt: H32\n\nhttps://lfuonline.uibk.ac.at/public/lfuonline_lv.details?sem_id_in=21S&lvnr_id_in=621170\n
CLASS:PUBLIC
DTSTART:20210518T070000Z
DTEND:20210518T101500Z
DTSTAMP:20260421T165654Z
LOCATION:H32
END:VEVENT
END:VCALENDAR