BEGIN:VCALENDAR
VERSION:2.0
PRODID:-//Universität Innsbruck//LFU:online//DE
METHOD:PUBLISH
BEGIN:VEVENT
UID:22S_622014_3987164@uibk.ac.at
ORGANIZER;CN="LFU:online Universität Innsbruck":MAILTO:Uni-Innsbruck-noreply@uibk.ac.at
SUMMARY:SE Zeitgeschichte: Geschichte und Theorien des Antisemitismus (LV 622014-0 22S)
DESCRIPTION:Lehrveranstaltung 622014 22S, Gruppe 0\nTitel: SE Zeitgeschichte: Geschichte und Theorien des Antisemitismus\nOrt: 52U105\n\nhttps://lfuonline.uibk.ac.at/public/lfuonline_lv.details?sem_id_in=22S&lvnr_id_in=622014\n
CLASS:PUBLIC
DTSTART:20220309T073000Z
DTEND:20220309T090000Z
DTSTAMP:20260425T210447Z
LOCATION:52U105
END:VEVENT
BEGIN:VEVENT
UID:22S_622014_3987165@uibk.ac.at
ORGANIZER;CN="LFU:online Universität Innsbruck":MAILTO:Uni-Innsbruck-noreply@uibk.ac.at
SUMMARY:SE Zeitgeschichte: Geschichte und Theorien des Antisemitismus (LV 622014-0 22S)
DESCRIPTION:Lehrveranstaltung 622014 22S, Gruppe 0\nTitel: SE Zeitgeschichte: Geschichte und Theorien des Antisemitismus\nOrt: 52U105\n\nhttps://lfuonline.uibk.ac.at/public/lfuonline_lv.details?sem_id_in=22S&lvnr_id_in=622014\n
CLASS:PUBLIC
DTSTART:20220316T073000Z
DTEND:20220316T090000Z
DTSTAMP:20260425T210447Z
LOCATION:52U105
END:VEVENT
BEGIN:VEVENT
UID:22S_622014_3987166@uibk.ac.at
ORGANIZER;CN="LFU:online Universität Innsbruck":MAILTO:Uni-Innsbruck-noreply@uibk.ac.at
SUMMARY:SE Zeitgeschichte: Geschichte und Theorien des Antisemitismus (LV 622014-0 22S)
DESCRIPTION:Lehrveranstaltung 622014 22S, Gruppe 0\nTitel: SE Zeitgeschichte: Geschichte und Theorien des Antisemitismus\nOrt: 52U105\n\nhttps://lfuonline.uibk.ac.at/public/lfuonline_lv.details?sem_id_in=22S&lvnr_id_in=622014\n
CLASS:PUBLIC
DTSTART:20220323T073000Z
DTEND:20220323T090000Z
DTSTAMP:20260425T210447Z
LOCATION:52U105
END:VEVENT
BEGIN:VEVENT
UID:22S_622014_3987167@uibk.ac.at
ORGANIZER;CN="LFU:online Universität Innsbruck":MAILTO:Uni-Innsbruck-noreply@uibk.ac.at
SUMMARY:SE Zeitgeschichte: Geschichte und Theorien des Antisemitismus (LV 622014-0 22S)
DESCRIPTION:Lehrveranstaltung 622014 22S, Gruppe 0\nTitel: SE Zeitgeschichte: Geschichte und Theorien des Antisemitismus\nOrt: 52U105\n\nhttps://lfuonline.uibk.ac.at/public/lfuonline_lv.details?sem_id_in=22S&lvnr_id_in=622014\n
CLASS:PUBLIC
DTSTART:20220330T063000Z
DTEND:20220330T080000Z
DTSTAMP:20260425T210447Z
LOCATION:52U105
END:VEVENT
BEGIN:VEVENT
UID:22S_622014_3987168@uibk.ac.at
ORGANIZER;CN="LFU:online Universität Innsbruck":MAILTO:Uni-Innsbruck-noreply@uibk.ac.at
SUMMARY:SE Zeitgeschichte: Geschichte und Theorien des Antisemitismus (LV 622014-0 22S)
DESCRIPTION:Lehrveranstaltung 622014 22S, Gruppe 0\nTitel: SE Zeitgeschichte: Geschichte und Theorien des Antisemitismus\nOrt: 52U105\n\nhttps://lfuonline.uibk.ac.at/public/lfuonline_lv.details?sem_id_in=22S&lvnr_id_in=622014\n
CLASS:PUBLIC
DTSTART:20220406T063000Z
DTEND:20220406T080000Z
DTSTAMP:20260425T210447Z
LOCATION:52U105
END:VEVENT
BEGIN:VEVENT
UID:22S_622014_3987169@uibk.ac.at
ORGANIZER;CN="LFU:online Universität Innsbruck":MAILTO:Uni-Innsbruck-noreply@uibk.ac.at
SUMMARY:SE Zeitgeschichte: Geschichte und Theorien des Antisemitismus (LV 622014-0 22S)
DESCRIPTION:Lehrveranstaltung 622014 22S, Gruppe 0\nTitel: SE Zeitgeschichte: Geschichte und Theorien des Antisemitismus\nOrt: 52U105\n\nhttps://lfuonline.uibk.ac.at/public/lfuonline_lv.details?sem_id_in=22S&lvnr_id_in=622014\n
CLASS:PUBLIC
DTSTART:20220427T063000Z
DTEND:20220427T080000Z
DTSTAMP:20260425T210447Z
LOCATION:52U105
END:VEVENT
BEGIN:VEVENT
UID:22S_622014_3987170@uibk.ac.at
ORGANIZER;CN="LFU:online Universität Innsbruck":MAILTO:Uni-Innsbruck-noreply@uibk.ac.at
SUMMARY:SE Zeitgeschichte: Geschichte und Theorien des Antisemitismus (LV 622014-0 22S)
DESCRIPTION:Lehrveranstaltung 622014 22S, Gruppe 0\nTitel: SE Zeitgeschichte: Geschichte und Theorien des Antisemitismus\nOrt: 52U105\n\nhttps://lfuonline.uibk.ac.at/public/lfuonline_lv.details?sem_id_in=22S&lvnr_id_in=622014\n
CLASS:PUBLIC
DTSTART:20220504T063000Z
DTEND:20220504T080000Z
DTSTAMP:20260425T210447Z
LOCATION:52U105
END:VEVENT
BEGIN:VEVENT
UID:22S_622014_3987171@uibk.ac.at
ORGANIZER;CN="LFU:online Universität Innsbruck":MAILTO:Uni-Innsbruck-noreply@uibk.ac.at
SUMMARY:SE Zeitgeschichte: Geschichte und Theorien des Antisemitismus (LV 622014-0 22S)
DESCRIPTION:Lehrveranstaltung 622014 22S, Gruppe 0\nTitel: SE Zeitgeschichte: Geschichte und Theorien des Antisemitismus\nOrt: 52U105\n\nhttps://lfuonline.uibk.ac.at/public/lfuonline_lv.details?sem_id_in=22S&lvnr_id_in=622014\n
CLASS:PUBLIC
DTSTART:20220511T063000Z
DTEND:20220511T080000Z
DTSTAMP:20260425T210447Z
LOCATION:52U105
END:VEVENT
BEGIN:VEVENT
UID:22S_622014_3987172@uibk.ac.at
ORGANIZER;CN="LFU:online Universität Innsbruck":MAILTO:Uni-Innsbruck-noreply@uibk.ac.at
SUMMARY:SE Zeitgeschichte: Geschichte und Theorien des Antisemitismus (LV 622014-0 22S)
DESCRIPTION:Lehrveranstaltung 622014 22S, Gruppe 0\nTitel: SE Zeitgeschichte: Geschichte und Theorien des Antisemitismus\nOrt: 52U105\n\nhttps://lfuonline.uibk.ac.at/public/lfuonline_lv.details?sem_id_in=22S&lvnr_id_in=622014\n
CLASS:PUBLIC
DTSTART:20220518T063000Z
DTEND:20220518T080000Z
DTSTAMP:20260425T210447Z
LOCATION:52U105
END:VEVENT
BEGIN:VEVENT
UID:22S_622014_3987173@uibk.ac.at
ORGANIZER;CN="LFU:online Universität Innsbruck":MAILTO:Uni-Innsbruck-noreply@uibk.ac.at
SUMMARY:SE Zeitgeschichte: Geschichte und Theorien des Antisemitismus (LV 622014-0 22S)
DESCRIPTION:Lehrveranstaltung 622014 22S, Gruppe 0\nTitel: SE Zeitgeschichte: Geschichte und Theorien des Antisemitismus\nOrt: 52U105\n\nhttps://lfuonline.uibk.ac.at/public/lfuonline_lv.details?sem_id_in=22S&lvnr_id_in=622014\n
CLASS:PUBLIC
DTSTART:20220525T063000Z
DTEND:20220525T080000Z
DTSTAMP:20260425T210447Z
LOCATION:52U105
END:VEVENT
BEGIN:VEVENT
UID:22S_622014_3987174@uibk.ac.at
ORGANIZER;CN="LFU:online Universität Innsbruck":MAILTO:Uni-Innsbruck-noreply@uibk.ac.at
SUMMARY:SE Zeitgeschichte: Geschichte und Theorien des Antisemitismus (LV 622014-0 22S)
DESCRIPTION:Lehrveranstaltung 622014 22S, Gruppe 0\nTitel: SE Zeitgeschichte: Geschichte und Theorien des Antisemitismus\nOrt: 52U105\n\nhttps://lfuonline.uibk.ac.at/public/lfuonline_lv.details?sem_id_in=22S&lvnr_id_in=622014\n
CLASS:PUBLIC
DTSTART:20220601T063000Z
DTEND:20220601T080000Z
DTSTAMP:20260425T210447Z
LOCATION:52U105
END:VEVENT
BEGIN:VEVENT
UID:22S_622014_3987175@uibk.ac.at
ORGANIZER;CN="LFU:online Universität Innsbruck":MAILTO:Uni-Innsbruck-noreply@uibk.ac.at
SUMMARY:ABGESAGT: SE Zeitgeschichte: Geschichte und Theorien des Antisemitismus (LV 622014-0 22S)
DESCRIPTION:Lehrveranstaltung 622014 22S, Gruppe 0\nTitel: SE Zeitgeschichte: Geschichte und Theorien des Antisemitismus\nOrt: 52U105\n\nhttps://lfuonline.uibk.ac.at/public/lfuonline_lv.details?sem_id_in=22S&lvnr_id_in=622014\n
CLASS:PUBLIC
DTSTART:20220608T063000Z
DTEND:20220608T080000Z
DTSTAMP:20260425T210447Z
LOCATION:52U105
COMMENT:ENTFÄLLT
END:VEVENT
BEGIN:VEVENT
UID:22S_622014_3987176@uibk.ac.at
ORGANIZER;CN="LFU:online Universität Innsbruck":MAILTO:Uni-Innsbruck-noreply@uibk.ac.at
SUMMARY:SE Zeitgeschichte: Geschichte und Theorien des Antisemitismus (LV 622014-0 22S)
DESCRIPTION:Lehrveranstaltung 622014 22S, Gruppe 0\nTitel: SE Zeitgeschichte: Geschichte und Theorien des Antisemitismus\nOrt: 52U105\n\nhttps://lfuonline.uibk.ac.at/public/lfuonline_lv.details?sem_id_in=22S&lvnr_id_in=622014\n
CLASS:PUBLIC
DTSTART:20220615T063000Z
DTEND:20220615T080000Z
DTSTAMP:20260425T210447Z
LOCATION:52U105
END:VEVENT
BEGIN:VEVENT
UID:22S_622014_3987177@uibk.ac.at
ORGANIZER;CN="LFU:online Universität Innsbruck":MAILTO:Uni-Innsbruck-noreply@uibk.ac.at
SUMMARY:SE Zeitgeschichte: Geschichte und Theorien des Antisemitismus (LV 622014-0 22S)
DESCRIPTION:Lehrveranstaltung 622014 22S, Gruppe 0\nTitel: SE Zeitgeschichte: Geschichte und Theorien des Antisemitismus\nOrt: 52U105\n\nhttps://lfuonline.uibk.ac.at/public/lfuonline_lv.details?sem_id_in=22S&lvnr_id_in=622014\n
CLASS:PUBLIC
DTSTART:20220622T063000Z
DTEND:20220622T080000Z
DTSTAMP:20260425T210447Z
LOCATION:52U105
END:VEVENT
BEGIN:VEVENT
UID:22S_622014_3987178@uibk.ac.at
ORGANIZER;CN="LFU:online Universität Innsbruck":MAILTO:Uni-Innsbruck-noreply@uibk.ac.at
SUMMARY:SE Zeitgeschichte: Geschichte und Theorien des Antisemitismus (LV 622014-0 22S)
DESCRIPTION:Lehrveranstaltung 622014 22S, Gruppe 0\nTitel: SE Zeitgeschichte: Geschichte und Theorien des Antisemitismus\nOrt: 52U105\n\nhttps://lfuonline.uibk.ac.at/public/lfuonline_lv.details?sem_id_in=22S&lvnr_id_in=622014\n
CLASS:PUBLIC
DTSTART:20220629T063000Z
DTEND:20220629T080000Z
DTSTAMP:20260425T210447Z
LOCATION:52U105
END:VEVENT
END:VCALENDAR