BEGIN:VCALENDAR
VERSION:2.0
PRODID:-//Universität Innsbruck//LFU:online//DE
METHOD:PUBLISH
BEGIN:VEVENT
UID:20W_627222_3639411@uibk.ac.at
ORGANIZER;CN="LFU:online Universität Innsbruck":MAILTO:Uni-Innsbruck-noreply@uibk.ac.at
SUMMARY:PS Sprachen lernen/lehren: La langue écrite et la grammaire dans la classe de FLE (LV 627222-0 20W)
DESCRIPTION:Lehrveranstaltung 627222 20W, Gruppe 0\nTitel: PS Sprachen lernen/lehren: La langue écrite et la grammaire dans la classe de FLE\nOrt: eLecture - online\n\nhttps://lfuonline.uibk.ac.at/public/lfuonline_lv.details?sem_id_in=20W&lvnr_id_in=627222\n
CLASS:PUBLIC
DTSTART:20201005T081500Z
DTEND:20201005T094500Z
DTSTAMP:20260419T213458Z
LOCATION:eLecture - online
END:VEVENT
BEGIN:VEVENT
UID:20W_627222_3639412@uibk.ac.at
ORGANIZER;CN="LFU:online Universität Innsbruck":MAILTO:Uni-Innsbruck-noreply@uibk.ac.at
SUMMARY:PS Sprachen lernen/lehren: La langue écrite et la grammaire dans la classe de FLE (LV 627222-0 20W)
DESCRIPTION:Lehrveranstaltung 627222 20W, Gruppe 0\nTitel: PS Sprachen lernen/lehren: La langue écrite et la grammaire dans la classe de FLE\nOrt: eLecture - online\n\nhttps://lfuonline.uibk.ac.at/public/lfuonline_lv.details?sem_id_in=20W&lvnr_id_in=627222\n
CLASS:PUBLIC
DTSTART:20201012T081500Z
DTEND:20201012T094500Z
DTSTAMP:20260419T213458Z
LOCATION:eLecture - online
END:VEVENT
BEGIN:VEVENT
UID:20W_627222_3639413@uibk.ac.at
ORGANIZER;CN="LFU:online Universität Innsbruck":MAILTO:Uni-Innsbruck-noreply@uibk.ac.at
SUMMARY:PS Sprachen lernen/lehren: La langue écrite et la grammaire dans la classe de FLE (LV 627222-0 20W)
DESCRIPTION:Lehrveranstaltung 627222 20W, Gruppe 0\nTitel: PS Sprachen lernen/lehren: La langue écrite et la grammaire dans la classe de FLE\nOrt: eLecture - online\n\nhttps://lfuonline.uibk.ac.at/public/lfuonline_lv.details?sem_id_in=20W&lvnr_id_in=627222\n
CLASS:PUBLIC
DTSTART:20201019T081500Z
DTEND:20201019T094500Z
DTSTAMP:20260419T213458Z
LOCATION:eLecture - online
END:VEVENT
BEGIN:VEVENT
UID:20W_627222_3639414@uibk.ac.at
ORGANIZER;CN="LFU:online Universität Innsbruck":MAILTO:Uni-Innsbruck-noreply@uibk.ac.at
SUMMARY:PS Sprachen lernen/lehren: La langue écrite et la grammaire dans la classe de FLE (LV 627222-0 20W)
DESCRIPTION:Lehrveranstaltung 627222 20W, Gruppe 0\nTitel: PS Sprachen lernen/lehren: La langue écrite et la grammaire dans la classe de FLE\nOrt: eLecture - online\n\nhttps://lfuonline.uibk.ac.at/public/lfuonline_lv.details?sem_id_in=20W&lvnr_id_in=627222\n
CLASS:PUBLIC
DTSTART:20201109T091500Z
DTEND:20201109T104500Z
DTSTAMP:20260419T213458Z
LOCATION:eLecture - online
END:VEVENT
BEGIN:VEVENT
UID:20W_627222_3639415@uibk.ac.at
ORGANIZER;CN="LFU:online Universität Innsbruck":MAILTO:Uni-Innsbruck-noreply@uibk.ac.at
SUMMARY:PS Sprachen lernen/lehren: La langue écrite et la grammaire dans la classe de FLE (LV 627222-0 20W)
DESCRIPTION:Lehrveranstaltung 627222 20W, Gruppe 0\nTitel: PS Sprachen lernen/lehren: La langue écrite et la grammaire dans la classe de FLE\nOrt: eLecture - online\n\nhttps://lfuonline.uibk.ac.at/public/lfuonline_lv.details?sem_id_in=20W&lvnr_id_in=627222\n
CLASS:PUBLIC
DTSTART:20201116T091500Z
DTEND:20201116T104500Z
DTSTAMP:20260419T213458Z
LOCATION:eLecture - online
END:VEVENT
BEGIN:VEVENT
UID:20W_627222_3639416@uibk.ac.at
ORGANIZER;CN="LFU:online Universität Innsbruck":MAILTO:Uni-Innsbruck-noreply@uibk.ac.at
SUMMARY:PS Sprachen lernen/lehren: La langue écrite et la grammaire dans la classe de FLE (LV 627222-0 20W)
DESCRIPTION:Lehrveranstaltung 627222 20W, Gruppe 0\nTitel: PS Sprachen lernen/lehren: La langue écrite et la grammaire dans la classe de FLE\nOrt: eLecture - online\n\nhttps://lfuonline.uibk.ac.at/public/lfuonline_lv.details?sem_id_in=20W&lvnr_id_in=627222\n
CLASS:PUBLIC
DTSTART:20201123T091500Z
DTEND:20201123T104500Z
DTSTAMP:20260419T213458Z
LOCATION:eLecture - online
END:VEVENT
BEGIN:VEVENT
UID:20W_627222_3639417@uibk.ac.at
ORGANIZER;CN="LFU:online Universität Innsbruck":MAILTO:Uni-Innsbruck-noreply@uibk.ac.at
SUMMARY:PS Sprachen lernen/lehren: La langue écrite et la grammaire dans la classe de FLE (LV 627222-0 20W)
DESCRIPTION:Lehrveranstaltung 627222 20W, Gruppe 0\nTitel: PS Sprachen lernen/lehren: La langue écrite et la grammaire dans la classe de FLE\nOrt: eLecture - online\n\nhttps://lfuonline.uibk.ac.at/public/lfuonline_lv.details?sem_id_in=20W&lvnr_id_in=627222\n
CLASS:PUBLIC
DTSTART:20201130T091500Z
DTEND:20201130T104500Z
DTSTAMP:20260419T213458Z
LOCATION:eLecture - online
END:VEVENT
BEGIN:VEVENT
UID:20W_627222_3639418@uibk.ac.at
ORGANIZER;CN="LFU:online Universität Innsbruck":MAILTO:Uni-Innsbruck-noreply@uibk.ac.at
SUMMARY:PS Sprachen lernen/lehren: La langue écrite et la grammaire dans la classe de FLE (LV 627222-0 20W)
DESCRIPTION:Lehrveranstaltung 627222 20W, Gruppe 0\nTitel: PS Sprachen lernen/lehren: La langue écrite et la grammaire dans la classe de FLE\nOrt: eLecture - online\n\nhttps://lfuonline.uibk.ac.at/public/lfuonline_lv.details?sem_id_in=20W&lvnr_id_in=627222\n
CLASS:PUBLIC
DTSTART:20201207T091500Z
DTEND:20201207T104500Z
DTSTAMP:20260419T213458Z
LOCATION:eLecture - online
END:VEVENT
BEGIN:VEVENT
UID:20W_627222_3639419@uibk.ac.at
ORGANIZER;CN="LFU:online Universität Innsbruck":MAILTO:Uni-Innsbruck-noreply@uibk.ac.at
SUMMARY:PS Sprachen lernen/lehren: La langue écrite et la grammaire dans la classe de FLE (LV 627222-0 20W)
DESCRIPTION:Lehrveranstaltung 627222 20W, Gruppe 0\nTitel: PS Sprachen lernen/lehren: La langue écrite et la grammaire dans la classe de FLE\nOrt: eLecture - online\n\nhttps://lfuonline.uibk.ac.at/public/lfuonline_lv.details?sem_id_in=20W&lvnr_id_in=627222\n
CLASS:PUBLIC
DTSTART:20201214T091500Z
DTEND:20201214T104500Z
DTSTAMP:20260419T213458Z
LOCATION:eLecture - online
END:VEVENT
BEGIN:VEVENT
UID:20W_627222_3639421@uibk.ac.at
ORGANIZER;CN="LFU:online Universität Innsbruck":MAILTO:Uni-Innsbruck-noreply@uibk.ac.at
SUMMARY:PS Sprachen lernen/lehren: La langue écrite et la grammaire dans la classe de FLE (LV 627222-0 20W)
DESCRIPTION:Lehrveranstaltung 627222 20W, Gruppe 0\nTitel: PS Sprachen lernen/lehren: La langue écrite et la grammaire dans la classe de FLE\nOrt: eLecture - online\n\nhttps://lfuonline.uibk.ac.at/public/lfuonline_lv.details?sem_id_in=20W&lvnr_id_in=627222\n
CLASS:PUBLIC
DTSTART:20210111T091500Z
DTEND:20210111T104500Z
DTSTAMP:20260419T213458Z
LOCATION:eLecture - online
END:VEVENT
BEGIN:VEVENT
UID:20W_627222_3639422@uibk.ac.at
ORGANIZER;CN="LFU:online Universität Innsbruck":MAILTO:Uni-Innsbruck-noreply@uibk.ac.at
SUMMARY:PS Sprachen lernen/lehren: La langue écrite et la grammaire dans la classe de FLE (LV 627222-0 20W)
DESCRIPTION:Lehrveranstaltung 627222 20W, Gruppe 0\nTitel: PS Sprachen lernen/lehren: La langue écrite et la grammaire dans la classe de FLE\nOrt: eLecture - online\n\nhttps://lfuonline.uibk.ac.at/public/lfuonline_lv.details?sem_id_in=20W&lvnr_id_in=627222\n
CLASS:PUBLIC
DTSTART:20210118T091500Z
DTEND:20210118T104500Z
DTSTAMP:20260419T213458Z
LOCATION:eLecture - online
END:VEVENT
BEGIN:VEVENT
UID:20W_627222_3639423@uibk.ac.at
ORGANIZER;CN="LFU:online Universität Innsbruck":MAILTO:Uni-Innsbruck-noreply@uibk.ac.at
SUMMARY:PS Sprachen lernen/lehren: La langue écrite et la grammaire dans la classe de FLE (LV 627222-0 20W)
DESCRIPTION:Lehrveranstaltung 627222 20W, Gruppe 0\nTitel: PS Sprachen lernen/lehren: La langue écrite et la grammaire dans la classe de FLE\nOrt: eLecture - online\n\nhttps://lfuonline.uibk.ac.at/public/lfuonline_lv.details?sem_id_in=20W&lvnr_id_in=627222\n
CLASS:PUBLIC
DTSTART:20210125T091500Z
DTEND:20210125T104500Z
DTSTAMP:20260419T213458Z
LOCATION:eLecture - online
END:VEVENT
BEGIN:VEVENT
UID:20W_627222_3639420@uibk.ac.at
ORGANIZER;CN="LFU:online Universität Innsbruck":MAILTO:Uni-Innsbruck-noreply@uibk.ac.at
SUMMARY:PS Sprachen lernen/lehren: La langue écrite et la grammaire dans la classe de FLE (LV 627222-0 20W)
DESCRIPTION:Lehrveranstaltung 627222 20W, Gruppe 0\nTitel: PS Sprachen lernen/lehren: La langue écrite et la grammaire dans la classe de FLE\nOrt: eLecture - online\n\nhttps://lfuonline.uibk.ac.at/public/lfuonline_lv.details?sem_id_in=20W&lvnr_id_in=627222\n
CLASS:PUBLIC
DTSTART:20210201T091500Z
DTEND:20210201T104500Z
DTSTAMP:20260419T213458Z
LOCATION:eLecture - online
END:VEVENT
END:VCALENDAR