BEGIN:VCALENDAR
VERSION:2.0
PRODID:-//Universität Innsbruck//LFU:online//DE
METHOD:PUBLISH
BEGIN:VEVENT
UID:20W_627229_3624685@uibk.ac.at
ORGANIZER;CN="LFU:online Universität Innsbruck":MAILTO:Uni-Innsbruck-noreply@uibk.ac.at
SUMMARY:SE Sprachen lernen/lehren: La perspective actionnelle et l'approche par les tâches en classe de FLE (LV 627229-0 20W)
DESCRIPTION:Lehrveranstaltung 627229 20W, Gruppe 0\nTitel: SE Sprachen lernen/lehren: La perspective actionnelle et l'approche par les tâches en classe de FLE\nOrt: eLecture - online\n\nhttps://lfuonline.uibk.ac.at/public/lfuonline_lv.details?sem_id_in=20W&lvnr_id_in=627229\n
CLASS:PUBLIC
DTSTART:20201007T081500Z
DTEND:20201007T094500Z
DTSTAMP:20260419T213501Z
LOCATION:eLecture - online
END:VEVENT
BEGIN:VEVENT
UID:20W_627229_3624686@uibk.ac.at
ORGANIZER;CN="LFU:online Universität Innsbruck":MAILTO:Uni-Innsbruck-noreply@uibk.ac.at
SUMMARY:SE Sprachen lernen/lehren: La perspective actionnelle et l'approche par les tâches en classe de FLE (LV 627229-0 20W)
DESCRIPTION:Lehrveranstaltung 627229 20W, Gruppe 0\nTitel: SE Sprachen lernen/lehren: La perspective actionnelle et l'approche par les tâches en classe de FLE\nOrt: eLecture - online\n\nhttps://lfuonline.uibk.ac.at/public/lfuonline_lv.details?sem_id_in=20W&lvnr_id_in=627229\n
CLASS:PUBLIC
DTSTART:20201014T081500Z
DTEND:20201014T094500Z
DTSTAMP:20260419T213501Z
LOCATION:eLecture - online
END:VEVENT
BEGIN:VEVENT
UID:20W_627229_3624687@uibk.ac.at
ORGANIZER;CN="LFU:online Universität Innsbruck":MAILTO:Uni-Innsbruck-noreply@uibk.ac.at
SUMMARY:SE Sprachen lernen/lehren: La perspective actionnelle et l'approche par les tâches en classe de FLE (LV 627229-0 20W)
DESCRIPTION:Lehrveranstaltung 627229 20W, Gruppe 0\nTitel: SE Sprachen lernen/lehren: La perspective actionnelle et l'approche par les tâches en classe de FLE\nOrt: eLecture - online\n\nhttps://lfuonline.uibk.ac.at/public/lfuonline_lv.details?sem_id_in=20W&lvnr_id_in=627229\n
CLASS:PUBLIC
DTSTART:20201021T081500Z
DTEND:20201021T094500Z
DTSTAMP:20260419T213501Z
LOCATION:eLecture - online
END:VEVENT
BEGIN:VEVENT
UID:20W_627229_3624688@uibk.ac.at
ORGANIZER;CN="LFU:online Universität Innsbruck":MAILTO:Uni-Innsbruck-noreply@uibk.ac.at
SUMMARY:SE Sprachen lernen/lehren: La perspective actionnelle et l'approche par les tâches en classe de FLE (LV 627229-0 20W)
DESCRIPTION:Lehrveranstaltung 627229 20W, Gruppe 0\nTitel: SE Sprachen lernen/lehren: La perspective actionnelle et l'approche par les tâches en classe de FLE\nOrt: eLecture - online\n\nhttps://lfuonline.uibk.ac.at/public/lfuonline_lv.details?sem_id_in=20W&lvnr_id_in=627229\n
CLASS:PUBLIC
DTSTART:20201028T091500Z
DTEND:20201028T104500Z
DTSTAMP:20260419T213501Z
LOCATION:eLecture - online
END:VEVENT
BEGIN:VEVENT
UID:20W_627229_3624689@uibk.ac.at
ORGANIZER;CN="LFU:online Universität Innsbruck":MAILTO:Uni-Innsbruck-noreply@uibk.ac.at
SUMMARY:SE Sprachen lernen/lehren: La perspective actionnelle et l'approche par les tâches en classe de FLE (LV 627229-0 20W)
DESCRIPTION:Lehrveranstaltung 627229 20W, Gruppe 0\nTitel: SE Sprachen lernen/lehren: La perspective actionnelle et l'approche par les tâches en classe de FLE\nOrt: eLecture - online\n\nhttps://lfuonline.uibk.ac.at/public/lfuonline_lv.details?sem_id_in=20W&lvnr_id_in=627229\n
CLASS:PUBLIC
DTSTART:20201104T091500Z
DTEND:20201104T104500Z
DTSTAMP:20260419T213501Z
LOCATION:eLecture - online
END:VEVENT
BEGIN:VEVENT
UID:20W_627229_3624690@uibk.ac.at
ORGANIZER;CN="LFU:online Universität Innsbruck":MAILTO:Uni-Innsbruck-noreply@uibk.ac.at
SUMMARY:SE Sprachen lernen/lehren: La perspective actionnelle et l'approche par les tâches en classe de FLE (LV 627229-0 20W)
DESCRIPTION:Lehrveranstaltung 627229 20W, Gruppe 0\nTitel: SE Sprachen lernen/lehren: La perspective actionnelle et l'approche par les tâches en classe de FLE\nOrt: eLecture - online\n\nhttps://lfuonline.uibk.ac.at/public/lfuonline_lv.details?sem_id_in=20W&lvnr_id_in=627229\n
CLASS:PUBLIC
DTSTART:20201111T091500Z
DTEND:20201111T104500Z
DTSTAMP:20260419T213501Z
LOCATION:eLecture - online
END:VEVENT
BEGIN:VEVENT
UID:20W_627229_3624691@uibk.ac.at
ORGANIZER;CN="LFU:online Universität Innsbruck":MAILTO:Uni-Innsbruck-noreply@uibk.ac.at
SUMMARY:SE Sprachen lernen/lehren: La perspective actionnelle et l'approche par les tâches en classe de FLE (LV 627229-0 20W)
DESCRIPTION:Lehrveranstaltung 627229 20W, Gruppe 0\nTitel: SE Sprachen lernen/lehren: La perspective actionnelle et l'approche par les tâches en classe de FLE\nOrt: eLecture - online\n\nhttps://lfuonline.uibk.ac.at/public/lfuonline_lv.details?sem_id_in=20W&lvnr_id_in=627229\n
CLASS:PUBLIC
DTSTART:20201118T091500Z
DTEND:20201118T104500Z
DTSTAMP:20260419T213501Z
LOCATION:eLecture - online
END:VEVENT
BEGIN:VEVENT
UID:20W_627229_3624692@uibk.ac.at
ORGANIZER;CN="LFU:online Universität Innsbruck":MAILTO:Uni-Innsbruck-noreply@uibk.ac.at
SUMMARY:SE Sprachen lernen/lehren: La perspective actionnelle et l'approche par les tâches en classe de FLE (LV 627229-0 20W)
DESCRIPTION:Lehrveranstaltung 627229 20W, Gruppe 0\nTitel: SE Sprachen lernen/lehren: La perspective actionnelle et l'approche par les tâches en classe de FLE\nOrt: eLecture - online\n\nhttps://lfuonline.uibk.ac.at/public/lfuonline_lv.details?sem_id_in=20W&lvnr_id_in=627229\n
CLASS:PUBLIC
DTSTART:20201125T091500Z
DTEND:20201125T104500Z
DTSTAMP:20260419T213501Z
LOCATION:eLecture - online
END:VEVENT
BEGIN:VEVENT
UID:20W_627229_3624693@uibk.ac.at
ORGANIZER;CN="LFU:online Universität Innsbruck":MAILTO:Uni-Innsbruck-noreply@uibk.ac.at
SUMMARY:SE Sprachen lernen/lehren: La perspective actionnelle et l'approche par les tâches en classe de FLE (LV 627229-0 20W)
DESCRIPTION:Lehrveranstaltung 627229 20W, Gruppe 0\nTitel: SE Sprachen lernen/lehren: La perspective actionnelle et l'approche par les tâches en classe de FLE\nOrt: eLecture - online\n\nhttps://lfuonline.uibk.ac.at/public/lfuonline_lv.details?sem_id_in=20W&lvnr_id_in=627229\n
CLASS:PUBLIC
DTSTART:20201202T091500Z
DTEND:20201202T104500Z
DTSTAMP:20260419T213501Z
LOCATION:eLecture - online
END:VEVENT
BEGIN:VEVENT
UID:20W_627229_3624694@uibk.ac.at
ORGANIZER;CN="LFU:online Universität Innsbruck":MAILTO:Uni-Innsbruck-noreply@uibk.ac.at
SUMMARY:SE Sprachen lernen/lehren: La perspective actionnelle et l'approche par les tâches en classe de FLE (LV 627229-0 20W)
DESCRIPTION:Lehrveranstaltung 627229 20W, Gruppe 0\nTitel: SE Sprachen lernen/lehren: La perspective actionnelle et l'approche par les tâches en classe de FLE\nOrt: eLecture - online\n\nhttps://lfuonline.uibk.ac.at/public/lfuonline_lv.details?sem_id_in=20W&lvnr_id_in=627229\n
CLASS:PUBLIC
DTSTART:20201209T091500Z
DTEND:20201209T104500Z
DTSTAMP:20260419T213501Z
LOCATION:eLecture - online
END:VEVENT
BEGIN:VEVENT
UID:20W_627229_3624695@uibk.ac.at
ORGANIZER;CN="LFU:online Universität Innsbruck":MAILTO:Uni-Innsbruck-noreply@uibk.ac.at
SUMMARY:SE Sprachen lernen/lehren: La perspective actionnelle et l'approche par les tâches en classe de FLE (LV 627229-0 20W)
DESCRIPTION:Lehrveranstaltung 627229 20W, Gruppe 0\nTitel: SE Sprachen lernen/lehren: La perspective actionnelle et l'approche par les tâches en classe de FLE\nOrt: eLecture - online\n\nhttps://lfuonline.uibk.ac.at/public/lfuonline_lv.details?sem_id_in=20W&lvnr_id_in=627229\n
CLASS:PUBLIC
DTSTART:20201216T091500Z
DTEND:20201216T104500Z
DTSTAMP:20260419T213501Z
LOCATION:eLecture - online
END:VEVENT
BEGIN:VEVENT
UID:20W_627229_3624696@uibk.ac.at
ORGANIZER;CN="LFU:online Universität Innsbruck":MAILTO:Uni-Innsbruck-noreply@uibk.ac.at
SUMMARY:SE Sprachen lernen/lehren: La perspective actionnelle et l'approche par les tâches en classe de FLE (LV 627229-0 20W)
DESCRIPTION:Lehrveranstaltung 627229 20W, Gruppe 0\nTitel: SE Sprachen lernen/lehren: La perspective actionnelle et l'approche par les tâches en classe de FLE\nOrt: eLecture - online\n\nhttps://lfuonline.uibk.ac.at/public/lfuonline_lv.details?sem_id_in=20W&lvnr_id_in=627229\n
CLASS:PUBLIC
DTSTART:20210113T091500Z
DTEND:20210113T104500Z
DTSTAMP:20260419T213501Z
LOCATION:eLecture - online
END:VEVENT
BEGIN:VEVENT
UID:20W_627229_3624697@uibk.ac.at
ORGANIZER;CN="LFU:online Universität Innsbruck":MAILTO:Uni-Innsbruck-noreply@uibk.ac.at
SUMMARY:SE Sprachen lernen/lehren: La perspective actionnelle et l'approche par les tâches en classe de FLE (LV 627229-0 20W)
DESCRIPTION:Lehrveranstaltung 627229 20W, Gruppe 0\nTitel: SE Sprachen lernen/lehren: La perspective actionnelle et l'approche par les tâches en classe de FLE\nOrt: eLecture - online\n\nhttps://lfuonline.uibk.ac.at/public/lfuonline_lv.details?sem_id_in=20W&lvnr_id_in=627229\n
CLASS:PUBLIC
DTSTART:20210120T091500Z
DTEND:20210120T104500Z
DTSTAMP:20260419T213501Z
LOCATION:eLecture - online
END:VEVENT
BEGIN:VEVENT
UID:20W_627229_3624698@uibk.ac.at
ORGANIZER;CN="LFU:online Universität Innsbruck":MAILTO:Uni-Innsbruck-noreply@uibk.ac.at
SUMMARY:SE Sprachen lernen/lehren: La perspective actionnelle et l'approche par les tâches en classe de FLE (LV 627229-0 20W)
DESCRIPTION:Lehrveranstaltung 627229 20W, Gruppe 0\nTitel: SE Sprachen lernen/lehren: La perspective actionnelle et l'approche par les tâches en classe de FLE\nOrt: eLecture - online\n\nhttps://lfuonline.uibk.ac.at/public/lfuonline_lv.details?sem_id_in=20W&lvnr_id_in=627229\n
CLASS:PUBLIC
DTSTART:20210127T091500Z
DTEND:20210127T104500Z
DTSTAMP:20260419T213501Z
LOCATION:eLecture - online
END:VEVENT
END:VCALENDAR