BEGIN:VCALENDAR
VERSION:2.0
PRODID:-//Universität Innsbruck//LFU:online//DE
METHOD:PUBLISH
BEGIN:VEVENT
UID:17W_627534_3000403@uibk.ac.at
ORGANIZER;CN="LFU:online Universität Innsbruck":MAILTO:Uni-Innsbruck-noreply@uibk.ac.at
SUMMARY:Praktische Unterrichtsplanung und -gestaltung 2, Kurs 1 (LV 627534-0 17W)
DESCRIPTION:Lehrveranstaltung 627534 17W, Gruppe 0\nTitel: Praktische Unterrichtsplanung und -gestaltung 2, Kurs 1\nOrt: 60708 SR\n\nhttps://lfuonline.uibk.ac.at/public/lfuonline_lv.details?sem_id_in=17W&lvnr_id_in=627534\n
CLASS:PUBLIC
DTSTART:20171013T073000Z
DTEND:20171013T150000Z
DTSTAMP:20260421T031228Z
LOCATION:60708 SR
END:VEVENT
BEGIN:VEVENT
UID:17W_627534_3000404@uibk.ac.at
ORGANIZER;CN="LFU:online Universität Innsbruck":MAILTO:Uni-Innsbruck-noreply@uibk.ac.at
SUMMARY:Praktische Unterrichtsplanung und -gestaltung 2, Kurs 1 (LV 627534-0 17W)
DESCRIPTION:Lehrveranstaltung 627534 17W, Gruppe 0\nTitel: Praktische Unterrichtsplanung und -gestaltung 2, Kurs 1\nOrt: 60708 SR\n\nhttps://lfuonline.uibk.ac.at/public/lfuonline_lv.details?sem_id_in=17W&lvnr_id_in=627534\n
CLASS:PUBLIC
DTSTART:20171110T083000Z
DTEND:20171110T160000Z
DTSTAMP:20260421T031228Z
LOCATION:60708 SR
END:VEVENT
BEGIN:VEVENT
UID:17W_627534_3000405@uibk.ac.at
ORGANIZER;CN="LFU:online Universität Innsbruck":MAILTO:Uni-Innsbruck-noreply@uibk.ac.at
SUMMARY:Praktische Unterrichtsplanung und -gestaltung 2, Kurs 1 (LV 627534-0 17W)
DESCRIPTION:Lehrveranstaltung 627534 17W, Gruppe 0\nTitel: Praktische Unterrichtsplanung und -gestaltung 2, Kurs 1\nOrt: 60708 SR\n\nhttps://lfuonline.uibk.ac.at/public/lfuonline_lv.details?sem_id_in=17W&lvnr_id_in=627534\n
CLASS:PUBLIC
DTSTART:20171124T083000Z
DTEND:20171124T160000Z
DTSTAMP:20260421T031228Z
LOCATION:60708 SR
END:VEVENT
BEGIN:VEVENT
UID:17W_627534_3000406@uibk.ac.at
ORGANIZER;CN="LFU:online Universität Innsbruck":MAILTO:Uni-Innsbruck-noreply@uibk.ac.at
SUMMARY:Praktische Unterrichtsplanung und -gestaltung 2, Kurs 1 (LV 627534-0 17W)
DESCRIPTION:Lehrveranstaltung 627534 17W, Gruppe 0\nTitel: Praktische Unterrichtsplanung und -gestaltung 2, Kurs 1\nOrt: 60706 SR\n\nhttps://lfuonline.uibk.ac.at/public/lfuonline_lv.details?sem_id_in=17W&lvnr_id_in=627534\n
CLASS:PUBLIC
DTSTART:20171215T083000Z
DTEND:20171215T160000Z
DTSTAMP:20260421T031228Z
LOCATION:60706 SR
END:VEVENT
END:VCALENDAR