BEGIN:VCALENDAR
VERSION:2.0
PRODID:-//Universität Innsbruck//LFU:online//DE
METHOD:PUBLISH
BEGIN:VEVENT
UID:17W_627535_2995796@uibk.ac.at
ORGANIZER;CN="LFU:online Universität Innsbruck":MAILTO:Uni-Innsbruck-noreply@uibk.ac.at
SUMMARY:Seminar zur Fachdidaktik (LV 627535-0 17W)
DESCRIPTION:Lehrveranstaltung 627535 17W, Gruppe 0\nTitel: Seminar zur Fachdidaktik\nOrt: 60708 SR\n\nhttps://lfuonline.uibk.ac.at/public/lfuonline_lv.details?sem_id_in=17W&lvnr_id_in=627535\n
CLASS:PUBLIC
DTSTART:20171005T114500Z
DTEND:20171005T131500Z
DTSTAMP:20260421T031228Z
LOCATION:60708 SR
END:VEVENT
BEGIN:VEVENT
UID:17W_627535_2995797@uibk.ac.at
ORGANIZER;CN="LFU:online Universität Innsbruck":MAILTO:Uni-Innsbruck-noreply@uibk.ac.at
SUMMARY:Seminar zur Fachdidaktik (LV 627535-0 17W)
DESCRIPTION:Lehrveranstaltung 627535 17W, Gruppe 0\nTitel: Seminar zur Fachdidaktik\nOrt: 60708 SR\n\nhttps://lfuonline.uibk.ac.at/public/lfuonline_lv.details?sem_id_in=17W&lvnr_id_in=627535\n
CLASS:PUBLIC
DTSTART:20171012T114500Z
DTEND:20171012T131500Z
DTSTAMP:20260421T031228Z
LOCATION:60708 SR
END:VEVENT
BEGIN:VEVENT
UID:17W_627535_2995798@uibk.ac.at
ORGANIZER;CN="LFU:online Universität Innsbruck":MAILTO:Uni-Innsbruck-noreply@uibk.ac.at
SUMMARY:Seminar zur Fachdidaktik (LV 627535-0 17W)
DESCRIPTION:Lehrveranstaltung 627535 17W, Gruppe 0\nTitel: Seminar zur Fachdidaktik\nOrt: 60708 SR\n\nhttps://lfuonline.uibk.ac.at/public/lfuonline_lv.details?sem_id_in=17W&lvnr_id_in=627535\n
CLASS:PUBLIC
DTSTART:20171019T114500Z
DTEND:20171019T131500Z
DTSTAMP:20260421T031228Z
LOCATION:60708 SR
END:VEVENT
BEGIN:VEVENT
UID:17W_627535_2995799@uibk.ac.at
ORGANIZER;CN="LFU:online Universität Innsbruck":MAILTO:Uni-Innsbruck-noreply@uibk.ac.at
SUMMARY:Seminar zur Fachdidaktik (LV 627535-0 17W)
DESCRIPTION:Lehrveranstaltung 627535 17W, Gruppe 0\nTitel: Seminar zur Fachdidaktik\nOrt: 60708 SR\n\nhttps://lfuonline.uibk.ac.at/public/lfuonline_lv.details?sem_id_in=17W&lvnr_id_in=627535\n
CLASS:PUBLIC
DTSTART:20171109T124500Z
DTEND:20171109T141500Z
DTSTAMP:20260421T031228Z
LOCATION:60708 SR
END:VEVENT
BEGIN:VEVENT
UID:17W_627535_2995800@uibk.ac.at
ORGANIZER;CN="LFU:online Universität Innsbruck":MAILTO:Uni-Innsbruck-noreply@uibk.ac.at
SUMMARY:Seminar zur Fachdidaktik (LV 627535-0 17W)
DESCRIPTION:Lehrveranstaltung 627535 17W, Gruppe 0\nTitel: Seminar zur Fachdidaktik\nOrt: 60708 SR\n\nhttps://lfuonline.uibk.ac.at/public/lfuonline_lv.details?sem_id_in=17W&lvnr_id_in=627535\n
CLASS:PUBLIC
DTSTART:20171116T124500Z
DTEND:20171116T141500Z
DTSTAMP:20260421T031228Z
LOCATION:60708 SR
END:VEVENT
BEGIN:VEVENT
UID:17W_627535_2995801@uibk.ac.at
ORGANIZER;CN="LFU:online Universität Innsbruck":MAILTO:Uni-Innsbruck-noreply@uibk.ac.at
SUMMARY:Seminar zur Fachdidaktik (LV 627535-0 17W)
DESCRIPTION:Lehrveranstaltung 627535 17W, Gruppe 0\nTitel: Seminar zur Fachdidaktik\nOrt: 60708 SR\n\nhttps://lfuonline.uibk.ac.at/public/lfuonline_lv.details?sem_id_in=17W&lvnr_id_in=627535\n
CLASS:PUBLIC
DTSTART:20171123T124500Z
DTEND:20171123T141500Z
DTSTAMP:20260421T031228Z
LOCATION:60708 SR
END:VEVENT
BEGIN:VEVENT
UID:17W_627535_2995802@uibk.ac.at
ORGANIZER;CN="LFU:online Universität Innsbruck":MAILTO:Uni-Innsbruck-noreply@uibk.ac.at
SUMMARY:Seminar zur Fachdidaktik (LV 627535-0 17W)
DESCRIPTION:Lehrveranstaltung 627535 17W, Gruppe 0\nTitel: Seminar zur Fachdidaktik\nOrt: 60708 SR\n\nhttps://lfuonline.uibk.ac.at/public/lfuonline_lv.details?sem_id_in=17W&lvnr_id_in=627535\n
CLASS:PUBLIC
DTSTART:20171130T124500Z
DTEND:20171130T141500Z
DTSTAMP:20260421T031228Z
LOCATION:60708 SR
END:VEVENT
BEGIN:VEVENT
UID:17W_627535_2995803@uibk.ac.at
ORGANIZER;CN="LFU:online Universität Innsbruck":MAILTO:Uni-Innsbruck-noreply@uibk.ac.at
SUMMARY:Seminar zur Fachdidaktik (LV 627535-0 17W)
DESCRIPTION:Lehrveranstaltung 627535 17W, Gruppe 0\nTitel: Seminar zur Fachdidaktik\nOrt: 60708 SR\n\nhttps://lfuonline.uibk.ac.at/public/lfuonline_lv.details?sem_id_in=17W&lvnr_id_in=627535\n
CLASS:PUBLIC
DTSTART:20171207T124500Z
DTEND:20171207T141500Z
DTSTAMP:20260421T031228Z
LOCATION:60708 SR
END:VEVENT
BEGIN:VEVENT
UID:17W_627535_2995804@uibk.ac.at
ORGANIZER;CN="LFU:online Universität Innsbruck":MAILTO:Uni-Innsbruck-noreply@uibk.ac.at
SUMMARY:Seminar zur Fachdidaktik (LV 627535-0 17W)
DESCRIPTION:Lehrveranstaltung 627535 17W, Gruppe 0\nTitel: Seminar zur Fachdidaktik\nOrt: 60706 SR\n\nhttps://lfuonline.uibk.ac.at/public/lfuonline_lv.details?sem_id_in=17W&lvnr_id_in=627535\n
CLASS:PUBLIC
DTSTART:20171214T124500Z
DTEND:20171214T141500Z
DTSTAMP:20260421T031228Z
LOCATION:60706 SR
END:VEVENT
BEGIN:VEVENT
UID:17W_627535_2995805@uibk.ac.at
ORGANIZER;CN="LFU:online Universität Innsbruck":MAILTO:Uni-Innsbruck-noreply@uibk.ac.at
SUMMARY:Seminar zur Fachdidaktik (LV 627535-0 17W)
DESCRIPTION:Lehrveranstaltung 627535 17W, Gruppe 0\nTitel: Seminar zur Fachdidaktik\nOrt: 60708 SR\n\nhttps://lfuonline.uibk.ac.at/public/lfuonline_lv.details?sem_id_in=17W&lvnr_id_in=627535\n
CLASS:PUBLIC
DTSTART:20180111T124500Z
DTEND:20180111T141500Z
DTSTAMP:20260421T031228Z
LOCATION:60708 SR
END:VEVENT
BEGIN:VEVENT
UID:17W_627535_2995806@uibk.ac.at
ORGANIZER;CN="LFU:online Universität Innsbruck":MAILTO:Uni-Innsbruck-noreply@uibk.ac.at
SUMMARY:Seminar zur Fachdidaktik (LV 627535-0 17W)
DESCRIPTION:Lehrveranstaltung 627535 17W, Gruppe 0\nTitel: Seminar zur Fachdidaktik\nOrt: 60708 SR\n\nhttps://lfuonline.uibk.ac.at/public/lfuonline_lv.details?sem_id_in=17W&lvnr_id_in=627535\n
CLASS:PUBLIC
DTSTART:20180118T124500Z
DTEND:20180118T141500Z
DTSTAMP:20260421T031228Z
LOCATION:60708 SR
END:VEVENT
BEGIN:VEVENT
UID:17W_627535_3084357@uibk.ac.at
ORGANIZER;CN="LFU:online Universität Innsbruck":MAILTO:Uni-Innsbruck-noreply@uibk.ac.at
SUMMARY:Seminar zur Fachdidaktik (LV 627535-0 17W)
DESCRIPTION:Lehrveranstaltung 627535 17W, Gruppe 0\nTitel: Seminar zur Fachdidaktik\nOrt: Container 1\n\nhttps://lfuonline.uibk.ac.at/public/lfuonline_lv.details?sem_id_in=17W&lvnr_id_in=627535\n
CLASS:PUBLIC
DTSTART:20180118T124500Z
DTEND:20180118T141500Z
DTSTAMP:20260421T031228Z
LOCATION:Container 1
COMMENT:Ausweichtermin Bachelorseminar Geographie
END:VEVENT
BEGIN:VEVENT
UID:17W_627535_2995807@uibk.ac.at
ORGANIZER;CN="LFU:online Universität Innsbruck":MAILTO:Uni-Innsbruck-noreply@uibk.ac.at
SUMMARY:Seminar zur Fachdidaktik (LV 627535-0 17W)
DESCRIPTION:Lehrveranstaltung 627535 17W, Gruppe 0\nTitel: Seminar zur Fachdidaktik\nOrt: 60708 SR\n\nhttps://lfuonline.uibk.ac.at/public/lfuonline_lv.details?sem_id_in=17W&lvnr_id_in=627535\n
CLASS:PUBLIC
DTSTART:20180125T124500Z
DTEND:20180125T141500Z
DTSTAMP:20260421T031228Z
LOCATION:60708 SR
END:VEVENT
BEGIN:VEVENT
UID:17W_627535_2995808@uibk.ac.at
ORGANIZER;CN="LFU:online Universität Innsbruck":MAILTO:Uni-Innsbruck-noreply@uibk.ac.at
SUMMARY:Seminar zur Fachdidaktik (LV 627535-0 17W)
DESCRIPTION:Lehrveranstaltung 627535 17W, Gruppe 0\nTitel: Seminar zur Fachdidaktik\nOrt: 60708 SR\n\nhttps://lfuonline.uibk.ac.at/public/lfuonline_lv.details?sem_id_in=17W&lvnr_id_in=627535\n
CLASS:PUBLIC
DTSTART:20180201T124500Z
DTEND:20180201T141500Z
DTSTAMP:20260421T031228Z
LOCATION:60708 SR
END:VEVENT
END:VCALENDAR